BEGIN:VCALENDAR
VERSION:2.0
PRODID:-//What&#039;s New Pasco - ECPv6.15.20//NONSGML v1.0//EN
CALSCALE:GREGORIAN
METHOD:PUBLISH
X-ORIGINAL-URL:https://whatsnewpasco.com
X-WR-CALDESC:Events for What&#039;s New Pasco
REFRESH-INTERVAL;VALUE=DURATION:PT1H
X-Robots-Tag:noindex
X-PUBLISHED-TTL:PT1H
BEGIN:VTIMEZONE
TZID:America/New_York
BEGIN:DAYLIGHT
TZOFFSETFROM:-0500
TZOFFSETTO:-0400
TZNAME:EDT
DTSTART:20250309T070000
END:DAYLIGHT
BEGIN:STANDARD
TZOFFSETFROM:-0400
TZOFFSETTO:-0500
TZNAME:EST
DTSTART:20251102T060000
END:STANDARD
BEGIN:DAYLIGHT
TZOFFSETFROM:-0500
TZOFFSETTO:-0400
TZNAME:EDT
DTSTART:20260308T070000
END:DAYLIGHT
BEGIN:STANDARD
TZOFFSETFROM:-0400
TZOFFSETTO:-0500
TZNAME:EST
DTSTART:20261101T060000
END:STANDARD
BEGIN:DAYLIGHT
TZOFFSETFROM:-0500
TZOFFSETTO:-0400
TZNAME:EDT
DTSTART:20270314T070000
END:DAYLIGHT
BEGIN:STANDARD
TZOFFSETFROM:-0400
TZOFFSETTO:-0500
TZNAME:EST
DTSTART:20271107T060000
END:STANDARD
END:VTIMEZONE
BEGIN:VEVENT
DTSTART;TZID=America/New_York:20260408T100000
DTEND;TZID=America/New_York:20260408T140000
DTSTAMP:20260421T223016
CREATED:20260408T202132Z
LAST-MODIFIED:20260408T202132Z
UID:10003656-1775642400-1775656800@whatsnewpasco.com
SUMMARY:Market In Bloom - Spring Artisan Market
DESCRIPTION:Market in Bloom – Spring Artisan Market Saturday\, April 11\, 2026 10:00 AM – 2:00 PM Texas Roadhouse – Trinity 13715 State Road 54\, Odessa\, FL 33556 \n  \nStep into spring and celebrate sunshine\, fresh blooms\, and local creativity at our Market in Bloom – Spring Artisan Market!  Bring your friends\, family\, and little ones for a vibrant\, feel-good day filled with shopping\, smiles\, and seasonal charm  \nStroll through a lively outdoor market bursting with spring vibes\, support amazing local makers\, and enjoy a perfect day at Texas Roadhouse —where great shopping and comfort food go hand-in-hand! \n What You’ll Find: 30+ local artisans & small businesses featuring handmade goods\, boutique finds\, spring décor\, sweet treats\, and unique treasures Swag Party Rentals Kid Zone to keep little ones entertained and smiling all day  Unlimited Play Wristbands – ONLY $10!  A bright\, cheerful atmosphere perfect for strolling\, browsing\, and soaking in springtime vibes Easy lunch plans—shop the market\, then head inside Texas Roadhouse for a delicious meal \nWhether you’re planning a family outing \, a fun day with friends \, or just looking to enjoy a beautiful spring day \, this market is the perfect place to be! \n Perfect For: Supporting local businesses  Fresh spring shopping  Family-friendly fun  Lunch with a side of sunshine & community vibes  \n Grab your favorite people\, enjoy the blooms\, and come experience Market in Bloom at Texas Roadhouse – Trinity! We can’t wait to see you there
URL:https://whatsnewpasco.com/event/market-in-bloom-spring-artisan-market/
LOCATION:Texas Roadhouse Trinity\, 13715 State Road 54\, Odessa\, FL\, 33556\, United States
CATEGORIES:Family Fun,Festivals & Markets,Food & Drinks,Free
ATTACH;FMTTYPE=image/jpeg:https://whatsnewpasco.com/wp-content/uploads/2026/04/653791892_943143234890712_4154855521498460599_n.jpg
END:VEVENT
END:VCALENDAR