BEGIN:VCALENDAR
VERSION:2.0
PRODID:-//What&#039;s New Pasco - ECPv6.15.20//NONSGML v1.0//EN
CALSCALE:GREGORIAN
METHOD:PUBLISH
X-ORIGINAL-URL:https://whatsnewpasco.com
X-WR-CALDESC:Events for What&#039;s New Pasco
REFRESH-INTERVAL;VALUE=DURATION:PT1H
X-Robots-Tag:noindex
X-PUBLISHED-TTL:PT1H
BEGIN:VTIMEZONE
TZID:America/New_York
BEGIN:DAYLIGHT
TZOFFSETFROM:-0500
TZOFFSETTO:-0400
TZNAME:EDT
DTSTART:20250309T070000
END:DAYLIGHT
BEGIN:STANDARD
TZOFFSETFROM:-0400
TZOFFSETTO:-0500
TZNAME:EST
DTSTART:20251102T060000
END:STANDARD
BEGIN:DAYLIGHT
TZOFFSETFROM:-0500
TZOFFSETTO:-0400
TZNAME:EDT
DTSTART:20260308T070000
END:DAYLIGHT
BEGIN:STANDARD
TZOFFSETFROM:-0400
TZOFFSETTO:-0500
TZNAME:EST
DTSTART:20261101T060000
END:STANDARD
BEGIN:DAYLIGHT
TZOFFSETFROM:-0500
TZOFFSETTO:-0400
TZNAME:EDT
DTSTART:20270314T070000
END:DAYLIGHT
BEGIN:STANDARD
TZOFFSETFROM:-0400
TZOFFSETTO:-0500
TZNAME:EST
DTSTART:20271107T060000
END:STANDARD
END:VTIMEZONE
BEGIN:VEVENT
DTSTART;TZID=America/New_York:20260411T180000
DTEND;TZID=America/New_York:20260411T203000
DTSTAMP:20260421T210251
CREATED:20260402T123235Z
LAST-MODIFIED:20260402T123235Z
UID:10002474-1775930400-1775939400@whatsnewpasco.com
SUMMARY:Sunset Beach Movie Night
DESCRIPTION:Grab your floats (or chairs) and come join us for a FREE movie night at Sunset Beach. Crafts & lawn games will be available beginning at 6 pm till dark. Concessions will be available for purchase. \nThe fun begins at 6:00 pm\, Movie starts at 6:30 pm.Sunset Beach is located at 1800 Gulf Road.**Pets and alcohol are prohibited. \nWe will be showing A Minecraft MovieSynopsis: Four misfits are suddenly pulled through a mysterious portal into a bizarre cubic wonderland that thrives on imagination. To get back home they’ll have to master this world while embarking on a quest with an unexpected expert crafter.Production year: 2025Rating: PGRuntime: 1 hour\, 41 minutes \n*This event is FREE to the public and does not require tickets. Please do not purchase tickets from anyone online. There are NO vendor spots available*
URL:https://whatsnewpasco.com/event/sunset-beach-movie-night/
LOCATION:Sunset Beach\, 1899 Gulf Rd\, Tarpon Springs\, FL\, 34689\, United States
CATEGORIES:Family Fun,Food & Drinks,Free
ATTACH;FMTTYPE=image/jpeg:https://whatsnewpasco.com/wp-content/uploads/2026/04/615770686_1530311979095493_433995717817727081_n.jpg
END:VEVENT
END:VCALENDAR