BEGIN:VCALENDAR
VERSION:2.0
PRODID:-//What&#039;s New Pasco - ECPv6.15.20//NONSGML v1.0//EN
CALSCALE:GREGORIAN
METHOD:PUBLISH
X-WR-CALNAME:What&#039;s New Pasco
X-ORIGINAL-URL:https://whatsnewpasco.com
X-WR-CALDESC:Events for What&#039;s New Pasco
REFRESH-INTERVAL;VALUE=DURATION:PT1H
X-Robots-Tag:noindex
X-PUBLISHED-TTL:PT1H
BEGIN:VTIMEZONE
TZID:America/New_York
BEGIN:DAYLIGHT
TZOFFSETFROM:-0500
TZOFFSETTO:-0400
TZNAME:EDT
DTSTART:20250309T070000
END:DAYLIGHT
BEGIN:STANDARD
TZOFFSETFROM:-0400
TZOFFSETTO:-0500
TZNAME:EST
DTSTART:20251102T060000
END:STANDARD
BEGIN:DAYLIGHT
TZOFFSETFROM:-0500
TZOFFSETTO:-0400
TZNAME:EDT
DTSTART:20260308T070000
END:DAYLIGHT
BEGIN:STANDARD
TZOFFSETFROM:-0400
TZOFFSETTO:-0500
TZNAME:EST
DTSTART:20261101T060000
END:STANDARD
BEGIN:DAYLIGHT
TZOFFSETFROM:-0500
TZOFFSETTO:-0400
TZNAME:EDT
DTSTART:20270314T070000
END:DAYLIGHT
BEGIN:STANDARD
TZOFFSETFROM:-0400
TZOFFSETTO:-0500
TZNAME:EST
DTSTART:20271107T060000
END:STANDARD
END:VTIMEZONE
BEGIN:VEVENT
DTSTART;TZID=America/New_York:20260321T170000
DTEND;TZID=America/New_York:20260321T230000
DTSTAMP:20260423T104157
CREATED:20260319T005356Z
LAST-MODIFIED:20260319T161933Z
UID:10000676-1774112400-1774134000@whatsnewpasco.com
SUMMARY:Hits 106 Classic Rock Night | Chasco Fiesta
DESCRIPTION:Hits 106 brings the sound of classic rock to Sims Park for an all-day\, high-energy music experience during Chasco Fiesta™ 2026.\nThe night features a stacked lineup led by the legendary Pat Travers Band\, with powerhouse performances from Freebird: The Lynyrd Skynyrd Tribute Band\, and opening the stage earlier in the evening\, Jeff Randall & The Rusty Ole Phlockers\, delivering crowd-pleasing classic rock\, coastal vibes\, and sing-along favorites.\n\nShow Schedule: Gates Open: 11:00 AM Jeff Randall & The Rusty Ole Phlockers: 5:00 PM Freebird: Lynyrd Skynyrd Tribute Band: 7:00 PM Pat Travers Band: 9:00 PM\n\n Sims Park\, Downtown New Port Richey Admission: $5 daily festival entry • Children 12 and under free\n Presented by Hits 106 Sponsored by Sun Toyota of New Port Richey\n\nFor full event details and artist information\, view the Chasco Fiesta™ Live Music schedule at chascofiesta.com/events
URL:https://whatsnewpasco.com/event/hits-106-classic-rock-night-chasco-fiesta/
LOCATION:Sim’s Park\, New Port Richey\, Fl\, United States
CATEGORIES:Family Fun,Festivals & Markets
ATTACH;FMTTYPE=image/jpeg:https://whatsnewpasco.com/wp-content/uploads/2026/03/wp_img_5438011824159900578.jpg
END:VEVENT
END:VCALENDAR