BEGIN:VCALENDAR
VERSION:2.0
PRODID:-//What&#039;s New Pasco - ECPv6.15.20//NONSGML v1.0//EN
CALSCALE:GREGORIAN
METHOD:PUBLISH
X-ORIGINAL-URL:https://whatsnewpasco.com
X-WR-CALDESC:Events for What&#039;s New Pasco
REFRESH-INTERVAL;VALUE=DURATION:PT1H
X-Robots-Tag:noindex
X-PUBLISHED-TTL:PT1H
BEGIN:VTIMEZONE
TZID:America/New_York
BEGIN:DAYLIGHT
TZOFFSETFROM:-0500
TZOFFSETTO:-0400
TZNAME:EDT
DTSTART:20250309T070000
END:DAYLIGHT
BEGIN:STANDARD
TZOFFSETFROM:-0400
TZOFFSETTO:-0500
TZNAME:EST
DTSTART:20251102T060000
END:STANDARD
BEGIN:DAYLIGHT
TZOFFSETFROM:-0500
TZOFFSETTO:-0400
TZNAME:EDT
DTSTART:20260308T070000
END:DAYLIGHT
BEGIN:STANDARD
TZOFFSETFROM:-0400
TZOFFSETTO:-0500
TZNAME:EST
DTSTART:20261101T060000
END:STANDARD
BEGIN:DAYLIGHT
TZOFFSETFROM:-0500
TZOFFSETTO:-0400
TZNAME:EDT
DTSTART:20270314T070000
END:DAYLIGHT
BEGIN:STANDARD
TZOFFSETFROM:-0400
TZOFFSETTO:-0500
TZNAME:EST
DTSTART:20271107T060000
END:STANDARD
END:VTIMEZONE
BEGIN:VEVENT
DTSTART;TZID=America/New_York:20260321T080000
DTEND;TZID=America/New_York:20260321T103000
DTSTAMP:20260422T180136
CREATED:20260319T141852Z
LAST-MODIFIED:20260319T142326Z
UID:10001285-1774080000-1774089000@whatsnewpasco.com
SUMMARY:Shell Hunt with the Easter Bunny
DESCRIPTION:We’re going on a SHELL HUNT with the Easter Bunny!  \nEnjoy some family fun for those who are young… or simply young at heart! \nJoin us on Saturday\, March 21st from 8am-10:30am as we enjoy a guided tour with our Certified Master Naturalist out to beautiful Anclote Key. \nOnce there\, we’ll hunt for shells for approximately 90 minutes and see what treasures we can find. The lucky guest who finds the hidden golden shell will win a special prize. \nHop aboard an Odyssey Cruise and make memories together that will last a lifetime! \nPrice: $37.95 per guest: Book now at www.odysseycruises.net! \nProfessional digital photo packages with the Easter Bunny on the island are available for an additional fee of $25 per group session. These packages include up to 4 digital images and can be of an individual or your entire group. These images will be emailed to you within 24 hours after your cruise. Please book your photo session when you book your cruise as session space is limited. \nShelling baskets will be provided for use on the island\, or you can bring your own. \nPlease note: Absolutely NO live shells are allowed on the boat. Our Certified Master Naturalist will be there keep a watchful eye and to answer any questions you may have.
URL:https://whatsnewpasco.com/event/shell-hunt-with-the-easter-bunny/
LOCATION:Odyssey Cruises\, 776 Dodecanese Blvd\, Tarpon Springs\, FL\, 34689\, United States
CATEGORIES:Family Fun
ATTACH;FMTTYPE=image/jpeg:https://whatsnewpasco.com/wp-content/uploads/2026/03/640721714_1489929019801172_7467183654250419464_n-e1773930051920.jpg
END:VEVENT
END:VCALENDAR