BEGIN:VCALENDAR
VERSION:2.0
PRODID:-//What&#039;s New Pasco - ECPv6.15.20//NONSGML v1.0//EN
CALSCALE:GREGORIAN
METHOD:PUBLISH
X-WR-CALNAME:What&#039;s New Pasco
X-ORIGINAL-URL:https://whatsnewpasco.com
X-WR-CALDESC:Events for What&#039;s New Pasco
REFRESH-INTERVAL;VALUE=DURATION:PT1H
X-Robots-Tag:noindex
X-PUBLISHED-TTL:PT1H
BEGIN:VTIMEZONE
TZID:America/New_York
BEGIN:DAYLIGHT
TZOFFSETFROM:-0500
TZOFFSETTO:-0400
TZNAME:EDT
DTSTART:20250309T070000
END:DAYLIGHT
BEGIN:STANDARD
TZOFFSETFROM:-0400
TZOFFSETTO:-0500
TZNAME:EST
DTSTART:20251102T060000
END:STANDARD
BEGIN:DAYLIGHT
TZOFFSETFROM:-0500
TZOFFSETTO:-0400
TZNAME:EDT
DTSTART:20260308T070000
END:DAYLIGHT
BEGIN:STANDARD
TZOFFSETFROM:-0400
TZOFFSETTO:-0500
TZNAME:EST
DTSTART:20261101T060000
END:STANDARD
BEGIN:DAYLIGHT
TZOFFSETFROM:-0500
TZOFFSETTO:-0400
TZNAME:EDT
DTSTART:20270314T070000
END:DAYLIGHT
BEGIN:STANDARD
TZOFFSETFROM:-0400
TZOFFSETTO:-0500
TZNAME:EST
DTSTART:20271107T060000
END:STANDARD
END:VTIMEZONE
BEGIN:VEVENT
DTSTART;TZID=America/New_York:20260321T100000
DTEND;TZID=America/New_York:20260321T140000
DTSTAMP:20260422T134359
CREATED:20260319T020726Z
LAST-MODIFIED:20260319T020726Z
UID:10000665-1774087200-1774101600@whatsnewpasco.com
SUMMARY:2026 Springfest
DESCRIPTION:Saturday\, March 21\, 2026\nHope UMC\n10am-2pm\n2200 Little Road\, Trinity\, FL 34655 \nVendors\, Crafts\, Food\, Bounce Houses\, Pictures with Easter Bunny\, Egg Hunt\, and Fun for the Kids! Family Fun & Games \n10am-2pm Vendors \n11 am Easter Egg Hunt\n4 & under (Free!) \n11:15am Egg Hunt ages\n5 -5th grade (Free!) \n10am- 2pm Family Fun & Games &\nBounce Houses(Free!) \nwww.hope-umc.com
URL:https://whatsnewpasco.com/event/2026-springfest/
LOCATION:Hope UMC\, 2200 Little Rd\, Trinity\, FL\, United States
CATEGORIES:Family Fun,Festivals & Markets,Food & Drinks,Free
ATTACH;FMTTYPE=image/jpeg:https://whatsnewpasco.com/wp-content/uploads/2026/03/wp_img_4086711062052952597.jpg
END:VEVENT
END:VCALENDAR