BEGIN:VCALENDAR
VERSION:2.0
PRODID:-//What&#039;s New Pasco - ECPv6.15.20//NONSGML v1.0//EN
CALSCALE:GREGORIAN
METHOD:PUBLISH
X-ORIGINAL-URL:https://whatsnewpasco.com
X-WR-CALDESC:Events for What&#039;s New Pasco
REFRESH-INTERVAL;VALUE=DURATION:PT1H
X-Robots-Tag:noindex
X-PUBLISHED-TTL:PT1H
BEGIN:VTIMEZONE
TZID:America/New_York
BEGIN:DAYLIGHT
TZOFFSETFROM:-0500
TZOFFSETTO:-0400
TZNAME:EDT
DTSTART:20250309T070000
END:DAYLIGHT
BEGIN:STANDARD
TZOFFSETFROM:-0400
TZOFFSETTO:-0500
TZNAME:EST
DTSTART:20251102T060000
END:STANDARD
BEGIN:DAYLIGHT
TZOFFSETFROM:-0500
TZOFFSETTO:-0400
TZNAME:EDT
DTSTART:20260308T070000
END:DAYLIGHT
BEGIN:STANDARD
TZOFFSETFROM:-0400
TZOFFSETTO:-0500
TZNAME:EST
DTSTART:20261101T060000
END:STANDARD
BEGIN:DAYLIGHT
TZOFFSETFROM:-0500
TZOFFSETTO:-0400
TZNAME:EDT
DTSTART:20270314T070000
END:DAYLIGHT
BEGIN:STANDARD
TZOFFSETFROM:-0400
TZOFFSETTO:-0500
TZNAME:EST
DTSTART:20271107T060000
END:STANDARD
END:VTIMEZONE
BEGIN:VEVENT
DTSTART;TZID=America/New_York:20260328T230000
DTEND;TZID=America/New_York:20260328T230000
DTSTAMP:20260422T162615
CREATED:20260326T155831Z
LAST-MODIFIED:20260326T155912Z
UID:10002552-1774738800-1774738800@whatsnewpasco.com
SUMMARY:The Fancy Flea at Zephyrhills Founders Day Festival
DESCRIPTION:Shop from a curated collection of vendors as The Fancy Flea helps celebrate the Founders Day Festival in downtown Zephyrhills. Enjoy an old-fashioned fish fry\, a parade\, a car show and more.
URL:https://whatsnewpasco.com/event/the-fancy-flea-at-zephyrhills-founders-day-festival/
LOCATION:Downtown Zephyrhills\, Zephyrhills\, FL\, United States
CATEGORIES:Festivals & Markets,Free
ATTACH;FMTTYPE=image/jpeg:https://whatsnewpasco.com/wp-content/uploads/2026/03/The-Fancy-Flea-at-Zephyrhills-Founders-Day-Festival-.jpg
END:VEVENT
BEGIN:VEVENT
DTSTART;TZID=America/New_York:20260328T110000
DTEND;TZID=America/New_York:20260328T180000
DTSTAMP:20260422T162615
CREATED:20260321T004926Z
LAST-MODIFIED:20260326T152033Z
UID:10001544-1774695600-1774720800@whatsnewpasco.com
SUMMARY:2026 Main Street Zephyrhills Founders Day Music Festival & Fish Fry
DESCRIPTION:You’re invited to the ultimate hometown celebration in downtown Zephyrhills!  \nMain Street Zephyrhills Founder’s Day is downtown’s most anticipated annual celebration—a full day of live music\, community spirit\, and cherished tradition in the heart of our historic district. This year’s theme\, Rhythm in the Hillz\, brings even more energy with an exciting live music lineup\, festive atmosphere\, and entertainment for all ages. \n March 28\, 2026 11 AM – 6 PM PARADE KICKS OFF AT NOON Downtown Historic District — 38500 5th Ave FREE & OPEN TO THE PUBLC \n2026 Theme: “Rhythm in the Hillz” \n Parade registration is NOW OPEN:https://www.mainstreetzephyrhillsevents.org/ \nGet ready for a full day of: Parade  Live Music  Fish Fry hosted by The Quarters Foundation Show-stopping Classic Car Show hosted by Ronnie Setser’s Car & Truck Show Market Vendors & Local Merchants – with The Fancy Flea Kid Zone Fun And more all day long! \n We’re currently looking for: Local talent & performers Volunteers Event sponsorsEmail Director@mainstreetzephyrhills.org for more details. \n Vendor details and applications will be announced soon — stay tuned! more event details to follow! \nBring the crew\, bring the kids\, bring your hometown spirit — and let’s pack downtown for Founders Day 2026!
URL:https://whatsnewpasco.com/event/founders-day-2026-rhythm-in-the-hillz/
LOCATION:Downtown Zephyrhills\, Zephyrhills\, FL\, United States
CATEGORIES:Family Fun,Festivals & Markets,Free
ATTACH;FMTTYPE=image/jpeg:https://whatsnewpasco.com/wp-content/uploads/2026/03/2026-Main-Street-Zephyrhills-Founders-Day-Music-Festival-Fish-Fry.jpg
END:VEVENT
END:VCALENDAR