BEGIN:VCALENDAR
VERSION:2.0
PRODID:-//What&#039;s New Pasco - ECPv6.15.20//NONSGML v1.0//EN
CALSCALE:GREGORIAN
METHOD:PUBLISH
X-WR-CALNAME:What&#039;s New Pasco
X-ORIGINAL-URL:https://whatsnewpasco.com
X-WR-CALDESC:Events for What&#039;s New Pasco
REFRESH-INTERVAL;VALUE=DURATION:PT1H
X-Robots-Tag:noindex
X-PUBLISHED-TTL:PT1H
BEGIN:VTIMEZONE
TZID:America/New_York
BEGIN:DAYLIGHT
TZOFFSETFROM:-0500
TZOFFSETTO:-0400
TZNAME:EDT
DTSTART:20250309T070000
END:DAYLIGHT
BEGIN:STANDARD
TZOFFSETFROM:-0400
TZOFFSETTO:-0500
TZNAME:EST
DTSTART:20251102T060000
END:STANDARD
BEGIN:DAYLIGHT
TZOFFSETFROM:-0500
TZOFFSETTO:-0400
TZNAME:EDT
DTSTART:20260308T070000
END:DAYLIGHT
BEGIN:STANDARD
TZOFFSETFROM:-0400
TZOFFSETTO:-0500
TZNAME:EST
DTSTART:20261101T060000
END:STANDARD
BEGIN:DAYLIGHT
TZOFFSETFROM:-0500
TZOFFSETTO:-0400
TZNAME:EDT
DTSTART:20270314T070000
END:DAYLIGHT
BEGIN:STANDARD
TZOFFSETFROM:-0400
TZOFFSETTO:-0500
TZNAME:EST
DTSTART:20271107T060000
END:STANDARD
END:VTIMEZONE
BEGIN:VEVENT
DTSTART;TZID=America/New_York:20260404T100000
DTEND;TZID=America/New_York:20260404T150000
DTSTAMP:20260422T202906
CREATED:20260402T104722Z
LAST-MODIFIED:20260402T104722Z
UID:10002630-1775296800-1775314800@whatsnewpasco.com
SUMMARY:Eggstravaganza Express
DESCRIPTION:Join Us for CP&G Railroad’s Eggstravaganza Express! Hop aboard for a day full of fun\, laughter\, and Easter magic! Our Eggstravaganza Express invites families to embark on a delightful train ride through beautiful spring scenery. Get ready to collect colorful eggs during our exciting egg hunt! Don’t forget to bring your Easter basket to gather all your treasures! \n Date: April 3 & 4 Time: 10:00 am- 3 pm Location: CP&G Railroad Station\, Crew’s Lake Park\, Spring Hill Cost: $8 per rider \nJoin us for this family-friendly adventure filled with joy and surprises! We can’t wait to celebrate the season with you! #EggstravaganzaExpress #EasterFun #FamilyAdventure #CPGRailroad
URL:https://whatsnewpasco.com/event/eggstravaganza-express/2026-04-04/
LOCATION:Crews Lake Park\, 16739 Crews Lake Drive\, Spring Hill\, FL\, 34610\, United States
CATEGORIES:Family Fun
ATTACH;FMTTYPE=image/jpeg:https://whatsnewpasco.com/wp-content/uploads/2026/04/631474362_1235811621983679_7038323107729984459_n.jpg
END:VEVENT
BEGIN:VEVENT
DTSTART;TZID=America/New_York:20260403T100000
DTEND;TZID=America/New_York:20260403T150000
DTSTAMP:20260422T202906
CREATED:20260402T104722Z
LAST-MODIFIED:20260402T104722Z
UID:10002628-1775210400-1775228400@whatsnewpasco.com
SUMMARY:Eggstravaganza Express
DESCRIPTION:Join Us for CP&G Railroad’s Eggstravaganza Express! Hop aboard for a day full of fun\, laughter\, and Easter magic! Our Eggstravaganza Express invites families to embark on a delightful train ride through beautiful spring scenery. Get ready to collect colorful eggs during our exciting egg hunt! Don’t forget to bring your Easter basket to gather all your treasures! \n Date: April 3 & 4 Time: 10:00 am- 3 pm Location: CP&G Railroad Station\, Crew’s Lake Park\, Spring Hill Cost: $8 per rider \nJoin us for this family-friendly adventure filled with joy and surprises! We can’t wait to celebrate the season with you! #EggstravaganzaExpress #EasterFun #FamilyAdventure #CPGRailroad
URL:https://whatsnewpasco.com/event/eggstravaganza-express/2026-04-03/
LOCATION:Crews Lake Park\, 16739 Crews Lake Drive\, Spring Hill\, FL\, 34610\, United States
CATEGORIES:Family Fun
ATTACH;FMTTYPE=image/jpeg:https://whatsnewpasco.com/wp-content/uploads/2026/04/631474362_1235811621983679_7038323107729984459_n.jpg
END:VEVENT
END:VCALENDAR