BEGIN:VCALENDAR
VERSION:2.0
PRODID:-//What&#039;s New Pasco - ECPv6.15.20//NONSGML v1.0//EN
CALSCALE:GREGORIAN
METHOD:PUBLISH
X-WR-CALNAME:What&#039;s New Pasco
X-ORIGINAL-URL:https://whatsnewpasco.com
X-WR-CALDESC:Events for What&#039;s New Pasco
REFRESH-INTERVAL;VALUE=DURATION:PT1H
X-Robots-Tag:noindex
X-PUBLISHED-TTL:PT1H
BEGIN:VTIMEZONE
TZID:America/New_York
BEGIN:DAYLIGHT
TZOFFSETFROM:-0500
TZOFFSETTO:-0400
TZNAME:EDT
DTSTART:20250309T070000
END:DAYLIGHT
BEGIN:STANDARD
TZOFFSETFROM:-0400
TZOFFSETTO:-0500
TZNAME:EST
DTSTART:20251102T060000
END:STANDARD
BEGIN:DAYLIGHT
TZOFFSETFROM:-0500
TZOFFSETTO:-0400
TZNAME:EDT
DTSTART:20260308T070000
END:DAYLIGHT
BEGIN:STANDARD
TZOFFSETFROM:-0400
TZOFFSETTO:-0500
TZNAME:EST
DTSTART:20261101T060000
END:STANDARD
BEGIN:DAYLIGHT
TZOFFSETFROM:-0500
TZOFFSETTO:-0400
TZNAME:EDT
DTSTART:20270314T070000
END:DAYLIGHT
BEGIN:STANDARD
TZOFFSETFROM:-0400
TZOFFSETTO:-0500
TZNAME:EST
DTSTART:20271107T060000
END:STANDARD
END:VTIMEZONE
BEGIN:VEVENT
DTSTART;TZID=America/New_York:20260928T170000
DTEND;TZID=America/New_York:20260928T200000
DTSTAMP:20260422T054806
CREATED:20260318T203442Z
LAST-MODIFIED:20260318T203442Z
UID:10000418-1790614800-1790625600@whatsnewpasco.com
SUMMARY:Mahjong Mondays (5PM ET)
DESCRIPTION:Join us for Mahjong Mondays at B&B! 5-8PM (ET)! New & experienced Mahjong players are welcome! 😊 \nIf you are ready to challenge your skills & enjoy a Chinese game of strategy and luck\, don’t miss these fun events! \n🍻Arrive early to enjoy our Happy Hour menu! \n#BBTheatres #Mahjong #HappyHour
URL:https://whatsnewpasco.com/event/mahjong-mondays-5pm-et/2026-09-28/
LOCATION:B&B Theatres Wesley Chapel – The Grove 16\, 6333 Wesley Grove Blvd\, Wesley Chapel\, FL\, 33544\, United States
CATEGORIES:Free
ATTACH;FMTTYPE=image/jpeg:https://whatsnewpasco.com/wp-content/uploads/2026/03/wp_img_8849721989371461753.jpg
END:VEVENT
BEGIN:VEVENT
DTSTART;TZID=America/New_York:20260930T120000
DTEND;TZID=America/New_York:20260930T130000
DTSTAMP:20260422T054806
CREATED:20260326T050354Z
LAST-MODIFIED:20260326T050354Z
UID:10002365-1790769600-1790773200@whatsnewpasco.com
SUMMARY:Pasco County Alignable Alliance In-Person BYOL Meeting
DESCRIPTION:Overview\n\n\n\n\nThis networking lunch is an opportunity to connect with fellow business owners\, share insights and foster meaningful relationships! \n\n\n\n\nReady to grow your business with genuine business connections? \nJoin the Pasco County Alignable Alliance on the last Wednesday of every month\, 12:00 – 1:00pm at 4 & Co.\, 16703 Early Riser Avenue\, Land O’ Lakes\, FL 34638. \nAt this in-person networking event\, you will meet other local business owners\, exchange business information and learn how Alignable 360 can help you grow your business with AI powered matchmaking. We also spotlight a business at this meeting and the collective experience of the participants is focused on the challenge offered in the session. \nBring friends! This is a free event! \nKnow that this is not a sales event. You will not be hearing sales pitches. We focus on building relationships that lead to real business. \nWe look forward to seeing you next week at this engaging networking meeting! \nThe Pasco County Alignable Alliance can be found here: https://www.alignable.com/groups/alignable-alliance-of-land-o-lakes-fl \nReach out to me with questions. As the Ambassador of the Pasco County Alliance\, I welcome the opportunity to provide information. \nlorraine@lanebc.com – 813-486-2837
URL:https://whatsnewpasco.com/event/pasco-county-alignable-alliance-in-person-byol-meeting/2026-09-30/
LOCATION:4 & Co Coworking Spaces\, 16703 Early Riser Avenue\, Land O' Lakes\, FL\, 34638\, United States
CATEGORIES:Free
END:VEVENT
BEGIN:VEVENT
DTSTART;TZID=America/New_York:20261001T180000
DTEND;TZID=America/New_York:20261001T210000
DTSTAMP:20260422T054806
CREATED:20260402T110829Z
LAST-MODIFIED:20260402T110829Z
UID:10003062-1790877600-1790888400@whatsnewpasco.com
SUMMARY:Throwback Thursday (KRATE)
DESCRIPTION:🎶 Throwback Thursdays at KRATE! 🎶 \nGet ready to dance through the decades with the ultimate 70s\, 80s\, 90s & More party! 🕺💃 DJ Delirious will be spinning all the classics—from disco to pop\, rock to hip-hop—so you can relive the greatest hits all night long! \n🔥 What to Expect:\n🎵 Epic throwback jams from the 70s\, 80s\, 90s & beyond\n💃 Non-stop dancing under the stars\n🎉 Vibrant outdoor vibes at KRATE at the Grove \n📅 When: Thursdays | 6–9 PM\n📍 Where: KRATE at the Grove (5817 Wesley Grove Blvd\, Wesley Chapel\, FL) \nRound up your crew\, grab a drink\, and let’s take it back to the best music eras ever! 🪩✨
URL:https://whatsnewpasco.com/event/throwback-thursday-krate/2026-10-01/
LOCATION:KRATE at The Grove\, 5817 Goldview Pkwy\, Wesley Chapel\, FL\, 33544\, United States
CATEGORIES:Family Fun,Free,Live Music,Nightlife
ATTACH;FMTTYPE=image/jpeg:https://whatsnewpasco.com/wp-content/uploads/2026/04/496130658_1243279344470578_2071157504735008238_n.jpg
END:VEVENT
BEGIN:VEVENT
DTSTART;TZID=America/New_York:20261002T173000
DTEND;TZID=America/New_York:20261002T213000
DTSTAMP:20260422T054806
CREATED:20260318T224013Z
LAST-MODIFIED:20260325T174611Z
UID:10001997-1790962200-1790976600@whatsnewpasco.com
SUMMARY:1st Fridays – Market Elaine (KRATE at The Grove)
DESCRIPTION:The Market Elaine: Every 1st Friday night! \nWesley Chapel’s favorite night market is back\, bringing together the best in local shopping\, delicious eats\, and family-friendly fun! Join us every 1st Friday of the month from 5:30-9:30 PM at The Grove for an unforgettable evening.\nCome experience a vibrant atmosphere filled with 150+ vendors\, live entertainment\, and activities for all ages!\n Event Highlights:\n Shop Local: Explore unique finds from talented artisans and small businesses. Pet Adoptions: Give a furry friend a forever home! Kids’ Zone: Bounce house\, face painting\, and more fun activities. Live Music: Enjoy performances at KRATE at The Grove while you shop. Food & Treats: Indulge in delicious snacks and handcrafted goodies. Family-Friendly Fun: A perfect night out for all!\n Date: 1st Friday of Every Month Time: 5:30 PM – 9:30 PM Location: 6013 Wesley Grove Blvd.\, Wesley Chapel\, FL 33544\n Mark your calendars & don’t miss out! Follow us for updates\, sneak peeks\, and vendor highlights. See you at The Market Elaine!
URL:https://whatsnewpasco.com/event/1st-fridays-market-elaine-krate-at-the-grove-2/2026-10-02/
LOCATION:KRATE at The Grove\, 5817 Goldview Pkwy\, Wesley Chapel\, FL\, 33544\, United States
CATEGORIES:Family Fun,Festivals & Markets,Food & Drinks
ATTACH;FMTTYPE=image/png:https://whatsnewpasco.com/wp-content/uploads/2026/03/logo-5001.png
END:VEVENT
BEGIN:VEVENT
DTSTART;TZID=America/New_York:20261003T100000
DTEND;TZID=America/New_York:20261003T140000
DTSTAMP:20260422T054806
CREATED:20260318T230517Z
LAST-MODIFIED:20260319T035058Z
UID:10001098-1791021600-1791036000@whatsnewpasco.com
SUMMARY:Fresh Market at Wiregrass
DESCRIPTION:Stroll Paseo Drive and experience the Fresh Market at Wiregrass\, a lively open-air market featuring over 100 rotating seasonal vendors in the heart of the shopping center. Discover locally grown produce\, fresh herbs\, plants\, flowers\, artisanal foods\, and handcrafted goods while enjoying the vibrant community atmosphere.
URL:https://whatsnewpasco.com/event/fresh-market-at-wiregrass-2/2026-10-03/
LOCATION:The Shops at Wiregrass\, 28211 Paseo Drive\, Wesley Chapel\, FL\, 33543\, United States
CATEGORIES:Family Fun,Festivals & Markets
ATTACH;FMTTYPE=image/jpeg:https://whatsnewpasco.com/wp-content/uploads/2026/03/2ab92ce0e8f2a9f0425710c7d8f4932a.jpg
END:VEVENT
END:VCALENDAR