BEGIN:VCALENDAR
VERSION:2.0
PRODID:-//What&#039;s New Pasco - ECPv6.15.20//NONSGML v1.0//EN
CALSCALE:GREGORIAN
METHOD:PUBLISH
X-WR-CALNAME:What&#039;s New Pasco
X-ORIGINAL-URL:https://whatsnewpasco.com
X-WR-CALDESC:Events for What&#039;s New Pasco
REFRESH-INTERVAL;VALUE=DURATION:PT1H
X-Robots-Tag:noindex
X-PUBLISHED-TTL:PT1H
BEGIN:VTIMEZONE
TZID:America/New_York
BEGIN:DAYLIGHT
TZOFFSETFROM:-0500
TZOFFSETTO:-0400
TZNAME:EDT
DTSTART:20250309T070000
END:DAYLIGHT
BEGIN:STANDARD
TZOFFSETFROM:-0400
TZOFFSETTO:-0500
TZNAME:EST
DTSTART:20251102T060000
END:STANDARD
BEGIN:DAYLIGHT
TZOFFSETFROM:-0500
TZOFFSETTO:-0400
TZNAME:EDT
DTSTART:20260308T070000
END:DAYLIGHT
BEGIN:STANDARD
TZOFFSETFROM:-0400
TZOFFSETTO:-0500
TZNAME:EST
DTSTART:20261101T060000
END:STANDARD
BEGIN:DAYLIGHT
TZOFFSETFROM:-0500
TZOFFSETTO:-0400
TZNAME:EDT
DTSTART:20270314T070000
END:DAYLIGHT
BEGIN:STANDARD
TZOFFSETFROM:-0400
TZOFFSETTO:-0500
TZNAME:EST
DTSTART:20271107T060000
END:STANDARD
END:VTIMEZONE
BEGIN:VEVENT
DTSTART;TZID=America/New_York:20260803T170000
DTEND;TZID=America/New_York:20260803T180000
DTSTAMP:20260422T184020
CREATED:20260402T110138Z
LAST-MODIFIED:20260402T110138Z
UID:10003000-1785776400-1785780000@whatsnewpasco.com
SUMMARY:Grand Group - West Pasco
DESCRIPTION:Support and resource group for grandparents raising grandchildren \n\n\n\n\nAre you a grandparent raising grandchildren? Or do you know someone who is? \nThe first Monday of every month\, One Stop Shop hosts a Grand Group support and resource meeting to walk with you during this journey. Meetings are created for Grands to meet one another\, share\, and find support and resources. Each month\, a guest speak joins us to share available local resources and assistance in Pasco County. \nFor more information\, please call 1.352.521.1254.
URL:https://whatsnewpasco.com/event/grand-group-west-pasco/2026-08-03/
LOCATION:Elsie Logan Memorial Park\, 15830 Greenglen Lane\, Shady Hills\, FL\, 34610\, United States
CATEGORIES:Free
ATTACH;FMTTYPE=image/webp:https://whatsnewpasco.com/wp-content/uploads/2026/04/image-2-scaled.webp
END:VEVENT
BEGIN:VEVENT
DTSTART;TZID=America/New_York:20260803T170000
DTEND;TZID=America/New_York:20260803T200000
DTSTAMP:20260422T184020
CREATED:20260318T203442Z
LAST-MODIFIED:20260318T203442Z
UID:10000410-1785776400-1785787200@whatsnewpasco.com
SUMMARY:Mahjong Mondays (5PM ET)
DESCRIPTION:Join us for Mahjong Mondays at B&B! 5-8PM (ET)! New & experienced Mahjong players are welcome! 😊 \nIf you are ready to challenge your skills & enjoy a Chinese game of strategy and luck\, don’t miss these fun events! \n🍻Arrive early to enjoy our Happy Hour menu! \n#BBTheatres #Mahjong #HappyHour
URL:https://whatsnewpasco.com/event/mahjong-mondays-5pm-et/2026-08-03/
LOCATION:B&B Theatres Wesley Chapel – The Grove 16\, 6333 Wesley Grove Blvd\, Wesley Chapel\, FL\, 33544\, United States
CATEGORIES:Free
ATTACH;FMTTYPE=image/jpeg:https://whatsnewpasco.com/wp-content/uploads/2026/03/wp_img_8849721989371461753.jpg
END:VEVENT
BEGIN:VEVENT
DTSTART;TZID=America/New_York:20260804T170000
DTEND;TZID=America/New_York:20260804T180000
DTSTAMP:20260422T184020
CREATED:20260317T061218Z
LAST-MODIFIED:20260317T130109Z
UID:10000296-1785862800-1785866400@whatsnewpasco.com
SUMMARY:Stormwater Smart Solutions Bioretention Pond Project Summary Seminar
DESCRIPTION:Join UF/IFAS Extension Florida Sea Grant for a seminar recapping the success and lessons of the Stormwater Smart Solutions Pond Project.\n\n\nYou will learn about the project\, environmental impacts\, and lessons learned. You will also learn how you can do a similar project home or in your community to help reduce stormwater pollution and restore natural systems. We will discuss stormwater pollution sources\, environmental impacts\, and nature-based solutions that you can use to help protect our watershed. The program is supported by the Tampa Bay Estuary Program Bay Mini Grant and the Tarpon Tag. \nSign up to volunteer for the pond restoration events before the project review here! \nMay 3rd- Community Pond Restoration Event Phase 1 \nJuly 12- Community Pond Restoration Event Phase 2 \n  \nSpecial Accommodations: \nThe University of Florida is committed to providing universal access to all of our events. For disability accommodations such as sign language interpreters and listening devices\, please contact our office at (727) 355- 7601 at least 4 weeks in advance. Advance notice is necessary to arrange for some accessibility needs.
URL:https://whatsnewpasco.com/event/stormwater-smart-solutions-bioretention-pond-project-summary-seminar/
LOCATION:Land O’Lakes Library\, 2818 Collier Parkway\, Land O' Lakes\, FL\, 34639\, United States
CATEGORIES:Classes & Courses,Free
ATTACH;FMTTYPE=image/jpeg:https://whatsnewpasco.com/wp-content/uploads/2026/03/e30fa7c3443434b03c3056678dddd1c8-1.jpg
END:VEVENT
BEGIN:VEVENT
DTSTART;TZID=America/New_York:20260806T180000
DTEND;TZID=America/New_York:20260806T210000
DTSTAMP:20260422T184020
CREATED:20260402T110829Z
LAST-MODIFIED:20260402T110829Z
UID:10003060-1786039200-1786050000@whatsnewpasco.com
SUMMARY:Throwback Thursday (KRATE)
DESCRIPTION:🎶 Throwback Thursdays at KRATE! 🎶 \nGet ready to dance through the decades with the ultimate 70s\, 80s\, 90s & More party! 🕺💃 DJ Delirious will be spinning all the classics—from disco to pop\, rock to hip-hop—so you can relive the greatest hits all night long! \n🔥 What to Expect:\n🎵 Epic throwback jams from the 70s\, 80s\, 90s & beyond\n💃 Non-stop dancing under the stars\n🎉 Vibrant outdoor vibes at KRATE at the Grove \n📅 When: Thursdays | 6–9 PM\n📍 Where: KRATE at the Grove (5817 Wesley Grove Blvd\, Wesley Chapel\, FL) \nRound up your crew\, grab a drink\, and let’s take it back to the best music eras ever! 🪩✨
URL:https://whatsnewpasco.com/event/throwback-thursday-krate/2026-08-06/
LOCATION:KRATE at The Grove\, 5817 Goldview Pkwy\, Wesley Chapel\, FL\, 33544\, United States
CATEGORIES:Family Fun,Free,Live Music,Nightlife
ATTACH;FMTTYPE=image/jpeg:https://whatsnewpasco.com/wp-content/uploads/2026/04/496130658_1243279344470578_2071157504735008238_n.jpg
END:VEVENT
BEGIN:VEVENT
DTSTART;TZID=America/New_York:20260807T173000
DTEND;TZID=America/New_York:20260807T213000
DTSTAMP:20260422T184020
CREATED:20260318T224013Z
LAST-MODIFIED:20260325T174611Z
UID:10001995-1786123800-1786138200@whatsnewpasco.com
SUMMARY:1st Fridays – Market Elaine (KRATE at The Grove)
DESCRIPTION:The Market Elaine: Every 1st Friday night! \nWesley Chapel’s favorite night market is back\, bringing together the best in local shopping\, delicious eats\, and family-friendly fun! Join us every 1st Friday of the month from 5:30-9:30 PM at The Grove for an unforgettable evening.\nCome experience a vibrant atmosphere filled with 150+ vendors\, live entertainment\, and activities for all ages!\n Event Highlights:\n Shop Local: Explore unique finds from talented artisans and small businesses. Pet Adoptions: Give a furry friend a forever home! Kids’ Zone: Bounce house\, face painting\, and more fun activities. Live Music: Enjoy performances at KRATE at The Grove while you shop. Food & Treats: Indulge in delicious snacks and handcrafted goodies. Family-Friendly Fun: A perfect night out for all!\n Date: 1st Friday of Every Month Time: 5:30 PM – 9:30 PM Location: 6013 Wesley Grove Blvd.\, Wesley Chapel\, FL 33544\n Mark your calendars & don’t miss out! Follow us for updates\, sneak peeks\, and vendor highlights. See you at The Market Elaine!
URL:https://whatsnewpasco.com/event/1st-fridays-market-elaine-krate-at-the-grove-2/2026-08-07/
LOCATION:KRATE at The Grove\, 5817 Goldview Pkwy\, Wesley Chapel\, FL\, 33544\, United States
CATEGORIES:Family Fun,Festivals & Markets,Food & Drinks
ATTACH;FMTTYPE=image/png:https://whatsnewpasco.com/wp-content/uploads/2026/03/logo-5001.png
END:VEVENT
BEGIN:VEVENT
DTSTART;TZID=America/New_York:20260808T190000
DTEND;TZID=America/New_York:20260808T230000
DTSTAMP:20260422T184020
CREATED:20260402T125757Z
LAST-MODIFIED:20260408T163238Z
UID:10003583-1786215600-1786230000@whatsnewpasco.com
SUMMARY:Caribbean Night @ KRATE
DESCRIPTION:Join us for Caribbean Night at KRATE!!! \nEvery 2nd Saturday of the Month! 7 PM – 11 PM \nDJ Q Spins the Best Reggae\, Soca\, and Calypso Music  Stage \n– 30+ Different Restaurants to Choose From– Authentic Jamaican Cuisine @ Rhythm Pon De Grill– Over a Dozen Retail Shops– Some of the Most Unique Bars in the Bay Area– Dog Friendly– Family Friendly – Playground for the Kids– Lawn Chairs Welcome– No Outside Food or Drinks Allowed– Plenty of Free Parking Available– No Cover \nGood Vibes w/ Great People
URL:https://whatsnewpasco.com/event/caribbean-night-krate/2026-08-08/
LOCATION:KRATE at The Grove\, 5817 Goldview Pkwy\, Wesley Chapel\, FL\, 33544\, United States
CATEGORIES:Festivals & Markets,Food & Drinks,Free,Live Music,Nightlife
ATTACH;FMTTYPE=image/jpeg:https://whatsnewpasco.com/wp-content/uploads/2026/04/627242139_1475138201284690_7880859568268648765_n.jpg
END:VEVENT
BEGIN:VEVENT
DTSTART;TZID=America/New_York:20260809T110000
DTEND;TZID=America/New_York:20260809T150000
DTSTAMP:20260422T184020
CREATED:20260319T142657Z
LAST-MODIFIED:20260319T142917Z
UID:10001472-1786273200-1786287600@whatsnewpasco.com
SUMMARY:Harvest Markets near KRATE at The Grove
DESCRIPTION:OPEN 11AM-3PM!FREE ENTRY! FREE PARKING!FAMILY & PET FRIENDLY!\nHANDICAP ACCESSIBLE! \n80+ Vendors with Produce\, Cottage Goods\, Baked Goods\, Home Decor\, Self Care\, Art\, Accessories & more! Located in Wesley Chapel\, near KRATE at the Grove\, Harvest Markets happen every 2nd & 4th Sunday\, from Fall to Spring. \nHosted by Florida Penguin Productions\nVendor Fee: ONLY $55! For more info\, click the link below or email our coordinator at Brett@FloridaPenguinProductions.com \nVendor Registration: https://lp.constantcontactpages.com/ev/reg/466t8k9
URL:https://whatsnewpasco.com/event/harvest-markets-near-krate-at-the-grove-2/2026-08-09/
LOCATION:KRATE at The Grove\, 5817 Goldview Pkwy\, Wesley Chapel\, FL\, 33544\, United States
CATEGORIES:Family Fun,Festivals & Markets,Food & Drinks,Free
ATTACH;FMTTYPE=image/jpeg:https://whatsnewpasco.com/wp-content/uploads/2026/03/Harvest-Market-at-The-Grove.jpg
END:VEVENT
END:VCALENDAR