BEGIN:VCALENDAR
VERSION:2.0
PRODID:-//What&#039;s New Pasco - ECPv6.15.20//NONSGML v1.0//EN
CALSCALE:GREGORIAN
METHOD:PUBLISH
X-ORIGINAL-URL:https://whatsnewpasco.com
X-WR-CALDESC:Events for What&#039;s New Pasco
REFRESH-INTERVAL;VALUE=DURATION:PT1H
X-Robots-Tag:noindex
X-PUBLISHED-TTL:PT1H
BEGIN:VTIMEZONE
TZID:America/New_York
BEGIN:DAYLIGHT
TZOFFSETFROM:-0500
TZOFFSETTO:-0400
TZNAME:EDT
DTSTART:20250309T070000
END:DAYLIGHT
BEGIN:STANDARD
TZOFFSETFROM:-0400
TZOFFSETTO:-0500
TZNAME:EST
DTSTART:20251102T060000
END:STANDARD
BEGIN:DAYLIGHT
TZOFFSETFROM:-0500
TZOFFSETTO:-0400
TZNAME:EDT
DTSTART:20260308T070000
END:DAYLIGHT
BEGIN:STANDARD
TZOFFSETFROM:-0400
TZOFFSETTO:-0500
TZNAME:EST
DTSTART:20261101T060000
END:STANDARD
BEGIN:DAYLIGHT
TZOFFSETFROM:-0500
TZOFFSETTO:-0400
TZNAME:EDT
DTSTART:20270314T070000
END:DAYLIGHT
BEGIN:STANDARD
TZOFFSETFROM:-0400
TZOFFSETTO:-0500
TZNAME:EST
DTSTART:20271107T060000
END:STANDARD
END:VTIMEZONE
BEGIN:VEVENT
DTSTART;TZID=America/New_York:20260727T170000
DTEND;TZID=America/New_York:20260727T200000
DTSTAMP:20260422T075922
CREATED:20260318T203442Z
LAST-MODIFIED:20260318T203442Z
UID:10000409-1785171600-1785182400@whatsnewpasco.com
SUMMARY:Mahjong Mondays (5PM ET)
DESCRIPTION:Join us for Mahjong Mondays at B&B! 5-8PM (ET)! New & experienced Mahjong players are welcome! 😊 \nIf you are ready to challenge your skills & enjoy a Chinese game of strategy and luck\, don’t miss these fun events! \n🍻Arrive early to enjoy our Happy Hour menu! \n#BBTheatres #Mahjong #HappyHour
URL:https://whatsnewpasco.com/event/mahjong-mondays-5pm-et/2026-07-27/
LOCATION:B&B Theatres Wesley Chapel – The Grove 16\, 6333 Wesley Grove Blvd\, Wesley Chapel\, FL\, 33544\, United States
CATEGORIES:Free
ATTACH;FMTTYPE=image/jpeg:https://whatsnewpasco.com/wp-content/uploads/2026/03/wp_img_8849721989371461753.jpg
END:VEVENT
BEGIN:VEVENT
DTSTART;TZID=America/New_York:20260729T120000
DTEND;TZID=America/New_York:20260729T130000
DTSTAMP:20260422T075922
CREATED:20260326T050354Z
LAST-MODIFIED:20260326T050354Z
UID:10002363-1785326400-1785330000@whatsnewpasco.com
SUMMARY:Pasco County Alignable Alliance In-Person BYOL Meeting
DESCRIPTION:Overview\n\n\n\n\nThis networking lunch is an opportunity to connect with fellow business owners\, share insights and foster meaningful relationships! \n\n\n\n\nReady to grow your business with genuine business connections? \nJoin the Pasco County Alignable Alliance on the last Wednesday of every month\, 12:00 – 1:00pm at 4 & Co.\, 16703 Early Riser Avenue\, Land O’ Lakes\, FL 34638. \nAt this in-person networking event\, you will meet other local business owners\, exchange business information and learn how Alignable 360 can help you grow your business with AI powered matchmaking. We also spotlight a business at this meeting and the collective experience of the participants is focused on the challenge offered in the session. \nBring friends! This is a free event! \nKnow that this is not a sales event. You will not be hearing sales pitches. We focus on building relationships that lead to real business. \nWe look forward to seeing you next week at this engaging networking meeting! \nThe Pasco County Alignable Alliance can be found here: https://www.alignable.com/groups/alignable-alliance-of-land-o-lakes-fl \nReach out to me with questions. As the Ambassador of the Pasco County Alliance\, I welcome the opportunity to provide information. \nlorraine@lanebc.com – 813-486-2837
URL:https://whatsnewpasco.com/event/pasco-county-alignable-alliance-in-person-byol-meeting/2026-07-29/
LOCATION:4 & Co Coworking Spaces\, 16703 Early Riser Avenue\, Land O' Lakes\, FL\, 34638\, United States
CATEGORIES:Free
END:VEVENT
BEGIN:VEVENT
DTSTART;TZID=America/New_York:20260731T190000
DTEND;TZID=America/New_York:20260731T230000
DTSTAMP:20260422T075922
CREATED:20260326T043924Z
LAST-MODIFIED:20260326T043924Z
UID:10002123-1785524400-1785538800@whatsnewpasco.com
SUMMARY:Only R&B @ KRATE
DESCRIPTION:On the Last Friday of every month\, Nico Brown Productions brings you…\nOnly R&B @ KRATE!!!\nSpecial Guest DJs & Entertainment Every Month!!!\n\nThis month\, we have a special guest performance by SLIM of 112!!!\nHosted by Victoria Skyy\nSoundtrack provided by DJ Spaceship\n\n– 30+ Different Restaurants to Choose From– Over a Dozen Retail Shops– Some of the Most Unique Bars in the Bay Area– Dog Friendly– Family Friendly– Playground for the Kids– Lawn Chairs Welcome– No Outside Food or Drinks Allowed– Multiple DJs throughout the Park– Price Varies from Adv Tickets to the Gate– Reserved Seating Available– Kids 12 & under are Free– Limited Capacity\, Advanced Tickets: Ensure Your Entry– Plenty of Free Parking– No Refunds
URL:https://whatsnewpasco.com/event/only-rb-krate-featuring-slim-of-112/2026-07-31/
LOCATION:KRATE at The Grove\, 5817 Goldview Pkwy\, Wesley Chapel\, FL\, 33544\, United States
CATEGORIES:Festivals & Markets,Food & Drinks,Live Music,Nightlife
END:VEVENT
BEGIN:VEVENT
DTSTART;TZID=America/New_York:20260801T100000
DTEND;TZID=America/New_York:20260801T140000
DTSTAMP:20260422T075922
CREATED:20260318T230517Z
LAST-MODIFIED:20260319T035058Z
UID:10001096-1785578400-1785592800@whatsnewpasco.com
SUMMARY:Fresh Market at Wiregrass
DESCRIPTION:Stroll Paseo Drive and experience the Fresh Market at Wiregrass\, a lively open-air market featuring over 100 rotating seasonal vendors in the heart of the shopping center. Discover locally grown produce\, fresh herbs\, plants\, flowers\, artisanal foods\, and handcrafted goods while enjoying the vibrant community atmosphere.
URL:https://whatsnewpasco.com/event/fresh-market-at-wiregrass-2/2026-08-01/
LOCATION:The Shops at Wiregrass\, 28211 Paseo Drive\, Wesley Chapel\, FL\, 33543\, United States
CATEGORIES:Family Fun,Festivals & Markets
ATTACH;FMTTYPE=image/jpeg:https://whatsnewpasco.com/wp-content/uploads/2026/03/2ab92ce0e8f2a9f0425710c7d8f4932a.jpg
END:VEVENT
BEGIN:VEVENT
DTSTART;TZID=America/New_York:20260802T110000
DTEND;TZID=America/New_York:20260802T140000
DTSTAMP:20260422T075922
CREATED:20260408T203144Z
LAST-MODIFIED:20260408T203254Z
UID:10003665-1785668400-1785679200@whatsnewpasco.com
SUMMARY:Wright's Outdoor Market in Downtown New Port Richey
DESCRIPTION:It’s Sunday Funday in Downtown New Port Richey!Grab your friends and family for our Sunday morning market on Main Street. Yes\, there’s time to swing by after church too! \nBe sure to stop by the FarmNET Community Garden tent to meet your local growers\, buy seeds & seedlings\, soil & sign up for volunteering in their community events like the Loquat Festival on April 11th. \nWe’ll have locally made food like raw infused honey\, NY style cookies\, giant cookies & baked goods. \nYou can find handmade gifts like earrings\, bracelets\, t-shirts\, resin art\, home decor\, soaps\, wax melts\, linen sprays & 3D printed items. \nFollow our page & check for our vendor lineup the week of the event! Vendors vary from market to market. \nThis a free to attend event for the community. We will never sell tickets or contact vendors via facebook\, watch out for scams!
URL:https://whatsnewpasco.com/event/wrights-outdoor-market-in-downtown-new-port-richey/2026-08-02/
LOCATION:5800 Main Street\, New Port Richey\, FL\, United States\, Florida 34652\, 5800 Main Street\, New Port Richey\, FL\, 34652\, United States
ATTACH;FMTTYPE=image/jpeg:https://whatsnewpasco.com/wp-content/uploads/2026/04/654457366_927187616914228_7861039154581113948_n.jpg
END:VEVENT
END:VCALENDAR