BEGIN:VCALENDAR
VERSION:2.0
PRODID:-//What&#039;s New Pasco - ECPv6.15.20//NONSGML v1.0//EN
CALSCALE:GREGORIAN
METHOD:PUBLISH
X-WR-CALNAME:What&#039;s New Pasco
X-ORIGINAL-URL:https://whatsnewpasco.com
X-WR-CALDESC:Events for What&#039;s New Pasco
REFRESH-INTERVAL;VALUE=DURATION:PT1H
X-Robots-Tag:noindex
X-PUBLISHED-TTL:PT1H
BEGIN:VTIMEZONE
TZID:America/New_York
BEGIN:DAYLIGHT
TZOFFSETFROM:-0500
TZOFFSETTO:-0400
TZNAME:EDT
DTSTART:20250309T070000
END:DAYLIGHT
BEGIN:STANDARD
TZOFFSETFROM:-0400
TZOFFSETTO:-0500
TZNAME:EST
DTSTART:20251102T060000
END:STANDARD
BEGIN:DAYLIGHT
TZOFFSETFROM:-0500
TZOFFSETTO:-0400
TZNAME:EDT
DTSTART:20260308T070000
END:DAYLIGHT
BEGIN:STANDARD
TZOFFSETFROM:-0400
TZOFFSETTO:-0500
TZNAME:EST
DTSTART:20261101T060000
END:STANDARD
BEGIN:DAYLIGHT
TZOFFSETFROM:-0500
TZOFFSETTO:-0400
TZNAME:EDT
DTSTART:20270314T070000
END:DAYLIGHT
BEGIN:STANDARD
TZOFFSETFROM:-0400
TZOFFSETTO:-0500
TZNAME:EST
DTSTART:20271107T060000
END:STANDARD
END:VTIMEZONE
BEGIN:VEVENT
DTSTART;TZID=America/New_York:20260713T170000
DTEND;TZID=America/New_York:20260713T200000
DTSTAMP:20260422T041751
CREATED:20260318T203442Z
LAST-MODIFIED:20260318T203442Z
UID:10000407-1783962000-1783972800@whatsnewpasco.com
SUMMARY:Mahjong Mondays (5PM ET)
DESCRIPTION:Join us for Mahjong Mondays at B&B! 5-8PM (ET)! New & experienced Mahjong players are welcome! 😊 \nIf you are ready to challenge your skills & enjoy a Chinese game of strategy and luck\, don’t miss these fun events! \n🍻Arrive early to enjoy our Happy Hour menu! \n#BBTheatres #Mahjong #HappyHour
URL:https://whatsnewpasco.com/event/mahjong-mondays-5pm-et/2026-07-13/
LOCATION:B&B Theatres Wesley Chapel – The Grove 16\, 6333 Wesley Grove Blvd\, Wesley Chapel\, FL\, 33544\, United States
CATEGORIES:Free
ATTACH;FMTTYPE=image/jpeg:https://whatsnewpasco.com/wp-content/uploads/2026/03/wp_img_8849721989371461753.jpg
END:VEVENT
BEGIN:VEVENT
DTSTART;TZID=America/New_York:20260717T190000
DTEND;TZID=America/New_York:20260717T210000
DTSTAMP:20260422T041751
CREATED:20260319T024411Z
LAST-MODIFIED:20260319T024411Z
UID:10000907-1784314800-1784322000@whatsnewpasco.com
SUMMARY:3rd Friday Karaoke Nights (Wiregrass)
DESCRIPTION:Bring your voice\, your friends\, and your best stage presence to Karaoke Nights at Center Court. Held every third Friday of the month from 7 to 9 PM\, this lively evening invites guests to sing along to their favorite hits while enjoying light bites and drinks from nearby restaurants. \nFiner Details: \n\nKaraoke is free to participate in\nNo outside coolers or alcohol permitted\nLawn chairs are encouraged\nSong sign ups take place onsite at the event
URL:https://whatsnewpasco.com/event/3rd-friday-karaoke-nights-wiregrass-2/2026-07-17/
LOCATION:The Shops at Wiregrass\, 28211 Paseo Drive\, Wesley Chapel\, FL\, 33543\, United States
CATEGORIES:Family Fun,Festivals & Markets,Free
END:VEVENT
BEGIN:VEVENT
DTSTART;TZID=America/New_York:20260717T190000
DTEND;TZID=America/New_York:20260717T230000
DTSTAMP:20260422T041751
CREATED:20260319T025124Z
LAST-MODIFIED:20260319T025325Z
UID:10000966-1784314800-1784329200@whatsnewpasco.com
SUMMARY:3rd Fridays - Keeping It Country @ Krate
DESCRIPTION:Every 3rd Friday We bring You… Country Music Night @ KRATE at the Grove!\nLive Entertainment! All of Your Favorite Country Music!\nLine Dance Lessons by Mikaya\nDJ MOSS playing All of your favorite Country Hits!\n\n\n30+ Different Restaurants to Choose From\nOver a Dozen Retail Shops\nSome of the Most Unique Bars in the Bay Area\nDog Friendly\nFamily Friendly\nPlayground for the Kids\nLawn Chairs Welcome\nNo Outside Food or Drinks Allowed\nNo Cover\nFree Parking\n\n\nDust Off them Boots & Come Party w/ Us!\nLife is Great @ KRATE
URL:https://whatsnewpasco.com/event/3rd-fridays-keeping-it-country-krate-2/2026-07-17/
LOCATION:KRATE at The Grove\, 5817 Goldview Pkwy\, Wesley Chapel\, FL\, 33544\, United States
CATEGORIES:Festivals & Markets,Free
ATTACH;FMTTYPE=image/png:https://whatsnewpasco.com/wp-content/uploads/2026/03/logo-5001.png
END:VEVENT
BEGIN:VEVENT
DTSTART;TZID=America/New_York:20260717T200000
DTEND;TZID=America/New_York:20260717T220000
DTSTAMP:20260422T041751
CREATED:20260319T014014Z
LAST-MODIFIED:20260319T014014Z
UID:10000848-1784318400-1784325600@whatsnewpasco.com
SUMMARY:Game Night (8PM ET)
DESCRIPTION:Bring your competitive spirit! Join us at B&B with DJ Boss K for another Game Night in the Marquee Lounge! \nBoard games\, party games\, great music\, a full bar\, plus YOU! It’ll be a night to remember! \nWe go live at 8PM on Friday\, March 20\, so tag your crew & we’ll see you there! \n#BBTheatres #GameNight #Bar
URL:https://whatsnewpasco.com/event/game-night-8pm-et/2026-07-17/
LOCATION:B&B Theatres Wesley Chapel – The Grove 16\, 6333 Wesley Grove Blvd\, Wesley Chapel\, FL\, 33544\, United States
CATEGORIES:Free
ATTACH;FMTTYPE=image/jpeg:https://whatsnewpasco.com/wp-content/uploads/2026/03/wp_img_114131290981755989.jpg
END:VEVENT
BEGIN:VEVENT
DTSTART;TZID=America/New_York:20260718T100000
DTEND;TZID=America/New_York:20260718T140000
DTSTAMP:20260422T041751
CREATED:20260319T034835Z
LAST-MODIFIED:20260319T035320Z
UID:10001033-1784368800-1784383200@whatsnewpasco.com
SUMMARY:Fresh Market at Wiregrass
DESCRIPTION:Fresh Market at Wiregrass at The Shops at Wiregrass in Wesley Chapel. Year-round market held on the first and third Saturday of each month. Features 80+ vendors with fresh produce\, handcrafted goods\, unique gifts\, and delicious treats. Live local music\, kids choo choo train rides\, free parking\, dog-friendly and family-friendly. Hours: 10am–2pm (October–May)\, 9am–1pm (June–September).
URL:https://whatsnewpasco.com/event/fresh-market-at-wiregrass-4/2026-07-18/
LOCATION:The Shops at Wiregrass\, 28211 Paseo Drive\, Wesley Chapel\, FL\, 33543\, United States
CATEGORIES:Family Fun,Festivals & Markets,Free
ATTACH;FMTTYPE=image/jpeg:https://whatsnewpasco.com/wp-content/uploads/2026/03/2ab92ce0e8f2a9f0425710c7d8f4932a.jpg
END:VEVENT
BEGIN:VEVENT
DTSTART;TZID=America/New_York:20260719T110000
DTEND;TZID=America/New_York:20260719T140000
DTSTAMP:20260422T041751
CREATED:20260408T203144Z
LAST-MODIFIED:20260408T203254Z
UID:10003664-1784458800-1784469600@whatsnewpasco.com
SUMMARY:Wright's Outdoor Market in Downtown New Port Richey
DESCRIPTION:It’s Sunday Funday in Downtown New Port Richey!Grab your friends and family for our Sunday morning market on Main Street. Yes\, there’s time to swing by after church too! \nBe sure to stop by the FarmNET Community Garden tent to meet your local growers\, buy seeds & seedlings\, soil & sign up for volunteering in their community events like the Loquat Festival on April 11th. \nWe’ll have locally made food like raw infused honey\, NY style cookies\, giant cookies & baked goods. \nYou can find handmade gifts like earrings\, bracelets\, t-shirts\, resin art\, home decor\, soaps\, wax melts\, linen sprays & 3D printed items. \nFollow our page & check for our vendor lineup the week of the event! Vendors vary from market to market. \nThis a free to attend event for the community. We will never sell tickets or contact vendors via facebook\, watch out for scams!
URL:https://whatsnewpasco.com/event/wrights-outdoor-market-in-downtown-new-port-richey/2026-07-19/
LOCATION:5800 Main Street\, New Port Richey\, FL\, United States\, Florida 34652\, 5800 Main Street\, New Port Richey\, FL\, 34652\, United States
ATTACH;FMTTYPE=image/jpeg:https://whatsnewpasco.com/wp-content/uploads/2026/04/654457366_927187616914228_7861039154581113948_n.jpg
END:VEVENT
END:VCALENDAR