BEGIN:VCALENDAR
VERSION:2.0
PRODID:-//What&#039;s New Pasco - ECPv6.15.20//NONSGML v1.0//EN
CALSCALE:GREGORIAN
METHOD:PUBLISH
X-ORIGINAL-URL:https://whatsnewpasco.com
X-WR-CALDESC:Events for What&#039;s New Pasco
REFRESH-INTERVAL;VALUE=DURATION:PT1H
X-Robots-Tag:noindex
X-PUBLISHED-TTL:PT1H
BEGIN:VTIMEZONE
TZID:America/New_York
BEGIN:DAYLIGHT
TZOFFSETFROM:-0500
TZOFFSETTO:-0400
TZNAME:EDT
DTSTART:20250309T070000
END:DAYLIGHT
BEGIN:STANDARD
TZOFFSETFROM:-0400
TZOFFSETTO:-0500
TZNAME:EST
DTSTART:20251102T060000
END:STANDARD
BEGIN:DAYLIGHT
TZOFFSETFROM:-0500
TZOFFSETTO:-0400
TZNAME:EDT
DTSTART:20260308T070000
END:DAYLIGHT
BEGIN:STANDARD
TZOFFSETFROM:-0400
TZOFFSETTO:-0500
TZNAME:EST
DTSTART:20261101T060000
END:STANDARD
BEGIN:DAYLIGHT
TZOFFSETFROM:-0500
TZOFFSETTO:-0400
TZNAME:EDT
DTSTART:20270314T070000
END:DAYLIGHT
BEGIN:STANDARD
TZOFFSETFROM:-0400
TZOFFSETTO:-0500
TZNAME:EST
DTSTART:20271107T060000
END:STANDARD
END:VTIMEZONE
BEGIN:VEVENT
DTSTART;TZID=America/New_York:20260706T170000
DTEND;TZID=America/New_York:20260706T180000
DTSTAMP:20260422T075948
CREATED:20260402T110138Z
LAST-MODIFIED:20260402T110138Z
UID:10002999-1783357200-1783360800@whatsnewpasco.com
SUMMARY:Grand Group - West Pasco
DESCRIPTION:Support and resource group for grandparents raising grandchildren \n\n\n\n\nAre you a grandparent raising grandchildren? Or do you know someone who is? \nThe first Monday of every month\, One Stop Shop hosts a Grand Group support and resource meeting to walk with you during this journey. Meetings are created for Grands to meet one another\, share\, and find support and resources. Each month\, a guest speak joins us to share available local resources and assistance in Pasco County. \nFor more information\, please call 1.352.521.1254.
URL:https://whatsnewpasco.com/event/grand-group-west-pasco/2026-07-06/
LOCATION:Elsie Logan Memorial Park\, 15830 Greenglen Lane\, Shady Hills\, FL\, 34610\, United States
CATEGORIES:Free
ATTACH;FMTTYPE=image/webp:https://whatsnewpasco.com/wp-content/uploads/2026/04/image-2-scaled.webp
END:VEVENT
BEGIN:VEVENT
DTSTART;TZID=America/New_York:20260706T170000
DTEND;TZID=America/New_York:20260706T200000
DTSTAMP:20260422T075948
CREATED:20260318T203442Z
LAST-MODIFIED:20260318T203442Z
UID:10000406-1783357200-1783368000@whatsnewpasco.com
SUMMARY:Mahjong Mondays (5PM ET)
DESCRIPTION:Join us for Mahjong Mondays at B&B! 5-8PM (ET)! New & experienced Mahjong players are welcome! 😊 \nIf you are ready to challenge your skills & enjoy a Chinese game of strategy and luck\, don’t miss these fun events! \n🍻Arrive early to enjoy our Happy Hour menu! \n#BBTheatres #Mahjong #HappyHour
URL:https://whatsnewpasco.com/event/mahjong-mondays-5pm-et/2026-07-06/
LOCATION:B&B Theatres Wesley Chapel – The Grove 16\, 6333 Wesley Grove Blvd\, Wesley Chapel\, FL\, 33544\, United States
CATEGORIES:Free
ATTACH;FMTTYPE=image/jpeg:https://whatsnewpasco.com/wp-content/uploads/2026/03/wp_img_8849721989371461753.jpg
END:VEVENT
BEGIN:VEVENT
DTSTART;TZID=America/New_York:20260710T170000
DTEND;TZID=America/New_York:20260710T210000
DTSTAMP:20260422T075948
CREATED:20260326T044910Z
LAST-MODIFIED:20260408T201459Z
UID:10002302-1783702800-1783717200@whatsnewpasco.com
SUMMARY:Friday Moonlight Market at The Hub at Bexley
DESCRIPTION:Friday Moonlight Market at The Hub at Bexley\nWhen: Every 2nd and 4th FridayTime: 5 PM – 9 PMWhere: The Hub at BexleyAddress: 16954 Focus Lp\, Land O’ Lakes\, FL 34638\n\nVENDORS\, FOOD\, DRINKS\, MUSIC\, GAMES & MORE!\n Live Entertainment & Activities:– Enjoy live music\, starting at 6pm– Pet-friendly thanks to Woof Gang Bakery & Grooming– Pool & Bar Games hosted at Spanky’s Taproom\n Delicious Dining Options:– Bella Brava\, Taco Bus\, Grain & Berry\, Urban Crunch\, and more!\n Unique Shopping & Treats:Explore an amazing variety of vendors offering– Permanent Jewelry & Charm Bar– Fresh Pastries\, Mini Bundt Cakes\, Gourmet Chunky Cookies– Dips\, Sauces\, Rubs\, Candies\, and other Cottage Goods– Soaps\, Wax Melts\, Selfcare Products– T-Shirts\, Tumblers\, and Mugs with Unique Designs– Paintings\, Crochet\, 3D-Printed Keepsakes & Toys– Paperback Novels\, Cigars\, and Whiskey Smokers\nThis is a kid-friendly and pet-friendly event that promises something special for everyone. Don’t miss out on this festive\, community-filled evening!\nWe can’t wait to see you there! \nWant to be a Vendor? Apply by visiting our website at www.floridapenguinproductions.com or email Brett Cecere at Brett@FloridaPenguinProductions.com.\n\nVendor Application Link: https://lp.constantcontactpages.com/…/6287fe3c-a604… \nSee less
URL:https://whatsnewpasco.com/event/friday-moonlight-market-at-the-hub-at-bexley-2/2026-07-10/
LOCATION:The Hub at Bexley\, 16954 Focus Lp\, Land O Lakes\, FL\, 34638\, United States
CATEGORIES:Family Fun,Festivals & Markets,Food & Drinks,Free,Nightlife
ATTACH;FMTTYPE=image/jpeg:https://whatsnewpasco.com/wp-content/uploads/2026/03/Friday-Moonlight-Market-The-Hub-at-Bexley.jpg
END:VEVENT
BEGIN:VEVENT
DTSTART;TZID=America/New_York:20260711T190000
DTEND;TZID=America/New_York:20260711T230000
DTSTAMP:20260422T075948
CREATED:20260402T125757Z
LAST-MODIFIED:20260408T163238Z
UID:10003582-1783796400-1783810800@whatsnewpasco.com
SUMMARY:Caribbean Night @ KRATE
DESCRIPTION:Join us for Caribbean Night at KRATE!!! \nEvery 2nd Saturday of the Month! 7 PM – 11 PM \nDJ Q Spins the Best Reggae\, Soca\, and Calypso Music  Stage \n– 30+ Different Restaurants to Choose From– Authentic Jamaican Cuisine @ Rhythm Pon De Grill– Over a Dozen Retail Shops– Some of the Most Unique Bars in the Bay Area– Dog Friendly– Family Friendly – Playground for the Kids– Lawn Chairs Welcome– No Outside Food or Drinks Allowed– Plenty of Free Parking Available– No Cover \nGood Vibes w/ Great People
URL:https://whatsnewpasco.com/event/caribbean-night-krate/2026-07-11/
LOCATION:KRATE at The Grove\, 5817 Goldview Pkwy\, Wesley Chapel\, FL\, 33544\, United States
CATEGORIES:Festivals & Markets,Food & Drinks,Free,Live Music,Nightlife
ATTACH;FMTTYPE=image/jpeg:https://whatsnewpasco.com/wp-content/uploads/2026/04/627242139_1475138201284690_7880859568268648765_n.jpg
END:VEVENT
BEGIN:VEVENT
DTSTART;TZID=America/New_York:20260712T080000
DTEND;TZID=America/New_York:20260712T120000
DTSTAMP:20260422T075948
CREATED:20260317T061238Z
LAST-MODIFIED:20260317T130159Z
UID:10000298-1783843200-1783857600@whatsnewpasco.com
SUMMARY:Community Pond Restoration Event Phase 2: Stormwater Smart Solutions
DESCRIPTION:Volunteers are needed to help restore a natural bioretention pond by removing invasive plants and planting natives during a community event.\n\n\nIn this Phase 2 of the community restoration project at the Land O’ Lakes Recreation Complex\, hosted by UF/IFAS Extension Florida Sea Grant in partnership with Pasco County Public Works\, volunteers will help remove invasive plant species from the pond and plant native Florida vegetation along its edges.We welcome adult and youth volunteers! (Youth must be accompanied by a parent or guardian). The project will focus on the restoration of a stormwater retention pond to restore habitat and actively reduce nutrient loading. \n*Note volunteers will likely get wet and dirty! Wear clothes you are okay with getting messy. Please plan on arriving at 8 am to get started with the group\, we may finish early! \nVolunteers will be provided with snacks (light lunch) and drinks for their help in the project! \nWe recommend bringing the following: Sunscreen\, refillable water bottle\, closed-toed shoes (that can get wet); waders (if you have them)\, extra shovel (we will have some) \nYou can also sign up for phase 1 of the project here: \nMay 3rd- Community Pond Restoration Event Phase 1 \nThis project is a part of the UF/IFAS Extension Florida Sea Grant Pasco County grant provided by the Tampa Bay Estuary Program Bay Mini Grant and the Tarpon Tag. The project is focused on reducing stormwater pollution in our watersheds through education and hands-on projects. In-person seminars before and after the pond workshop are being offered to support this project. In the classes\, you will learn about solutions you can adopt at home or in your community to help reduce stormwater pollution and restore natural systems. We will discuss stormwater pollution sources\, environmental impacts\, and nature-based solutions that you can use to help protect our watershed. We recommend you attend one of the classes before or after you volunteer with this project! We offer both adult and youth classes. \nEducational classes to support this project: \nMarch 30th: Stormwater Smart Solutions Educational Seminar – New River Library \nApril 7th: Eco Wonders (ages 7-11): Protecting Our Watersheds – New River Library \nJune 3rd: Stormwater Smart Solutions Educational Seminar – Land O’ Lakes Library \nJune 24th: Eco Wonders (ages 7-11): Protecting our Watersheds – Land O’ Lakes Library \nAugust 4th: Stormwater Smart Solutions Bioretention Pond Project Summary – Land O’ Lakes Library \nSpecial Accommodations: \nThe University of Florida is committed to providing universal access to all of our events. For disability accommodations such as sign language interpreters and listening devices\, please contact our office at (727) 355- 7601 at least 4 weeks in advance. Advance notice is necessary to arrange for some accessibility needs.
URL:https://whatsnewpasco.com/event/community-pond-restoration-event-phase-2-stormwater-smart-solutions-2/
LOCATION:Land O’ Lakes Recreation Complex\, 3032 Collier Parkway\, Land O' Lakes\, FL\, 34639\, United States
CATEGORIES:Free,Get Active,Giving Back
ATTACH;FMTTYPE=image/jpeg:https://whatsnewpasco.com/wp-content/uploads/2026/03/debc607fb8202ec7a171ae6d669fe07f-1.jpg
END:VEVENT
BEGIN:VEVENT
DTSTART;TZID=America/New_York:20260712T110000
DTEND;TZID=America/New_York:20260712T150000
DTSTAMP:20260422T075948
CREATED:20260319T142657Z
LAST-MODIFIED:20260319T142917Z
UID:10001471-1783854000-1783868400@whatsnewpasco.com
SUMMARY:Harvest Markets near KRATE at The Grove
DESCRIPTION:OPEN 11AM-3PM!FREE ENTRY! FREE PARKING!FAMILY & PET FRIENDLY!\nHANDICAP ACCESSIBLE! \n80+ Vendors with Produce\, Cottage Goods\, Baked Goods\, Home Decor\, Self Care\, Art\, Accessories & more! Located in Wesley Chapel\, near KRATE at the Grove\, Harvest Markets happen every 2nd & 4th Sunday\, from Fall to Spring. \nHosted by Florida Penguin Productions\nVendor Fee: ONLY $55! For more info\, click the link below or email our coordinator at Brett@FloridaPenguinProductions.com \nVendor Registration: https://lp.constantcontactpages.com/ev/reg/466t8k9
URL:https://whatsnewpasco.com/event/harvest-markets-near-krate-at-the-grove-2/2026-07-12/
LOCATION:KRATE at The Grove\, 5817 Goldview Pkwy\, Wesley Chapel\, FL\, 33544\, United States
CATEGORIES:Family Fun,Festivals & Markets,Food & Drinks,Free
ATTACH;FMTTYPE=image/jpeg:https://whatsnewpasco.com/wp-content/uploads/2026/03/Harvest-Market-at-The-Grove.jpg
END:VEVENT
END:VCALENDAR