BEGIN:VCALENDAR
VERSION:2.0
PRODID:-//What&#039;s New Pasco - ECPv6.15.20//NONSGML v1.0//EN
CALSCALE:GREGORIAN
METHOD:PUBLISH
X-ORIGINAL-URL:https://whatsnewpasco.com
X-WR-CALDESC:Events for What&#039;s New Pasco
REFRESH-INTERVAL;VALUE=DURATION:PT1H
X-Robots-Tag:noindex
X-PUBLISHED-TTL:PT1H
BEGIN:VTIMEZONE
TZID:America/New_York
BEGIN:DAYLIGHT
TZOFFSETFROM:-0500
TZOFFSETTO:-0400
TZNAME:EDT
DTSTART:20250309T070000
END:DAYLIGHT
BEGIN:STANDARD
TZOFFSETFROM:-0400
TZOFFSETTO:-0500
TZNAME:EST
DTSTART:20251102T060000
END:STANDARD
BEGIN:DAYLIGHT
TZOFFSETFROM:-0500
TZOFFSETTO:-0400
TZNAME:EDT
DTSTART:20260308T070000
END:DAYLIGHT
BEGIN:STANDARD
TZOFFSETFROM:-0400
TZOFFSETTO:-0500
TZNAME:EST
DTSTART:20261101T060000
END:STANDARD
BEGIN:DAYLIGHT
TZOFFSETFROM:-0500
TZOFFSETTO:-0400
TZNAME:EDT
DTSTART:20270314T070000
END:DAYLIGHT
BEGIN:STANDARD
TZOFFSETFROM:-0400
TZOFFSETTO:-0500
TZNAME:EST
DTSTART:20271107T060000
END:STANDARD
END:VTIMEZONE
BEGIN:VEVENT
DTSTART;TZID=America/New_York:20260608T170000
DTEND;TZID=America/New_York:20260608T200000
DTSTAMP:20260421T213119
CREATED:20260318T203442Z
LAST-MODIFIED:20260318T203442Z
UID:10000402-1780938000-1780948800@whatsnewpasco.com
SUMMARY:Mahjong Mondays (5PM ET)
DESCRIPTION:Join us for Mahjong Mondays at B&B! 5-8PM (ET)! New & experienced Mahjong players are welcome! 😊 \nIf you are ready to challenge your skills & enjoy a Chinese game of strategy and luck\, don’t miss these fun events! \n🍻Arrive early to enjoy our Happy Hour menu! \n#BBTheatres #Mahjong #HappyHour
URL:https://whatsnewpasco.com/event/mahjong-mondays-5pm-et/2026-06-08/
LOCATION:B&B Theatres Wesley Chapel – The Grove 16\, 6333 Wesley Grove Blvd\, Wesley Chapel\, FL\, 33544\, United States
CATEGORIES:Free
ATTACH;FMTTYPE=image/jpeg:https://whatsnewpasco.com/wp-content/uploads/2026/03/wp_img_8849721989371461753.jpg
END:VEVENT
BEGIN:VEVENT
DTSTART;TZID=America/New_York:20260608T180000
DTEND;TZID=America/New_York:20260608T190000
DTSTAMP:20260421T213119
CREATED:20260317T062504Z
LAST-MODIFIED:20260317T131128Z
UID:10000305-1780941600-1780945200@whatsnewpasco.com
SUMMARY:How To Select\, Plant\, & Care for Trees/Shrubs in Your Home Landscape
DESCRIPTION:Join us as we learn the details of how to select\, plant and care for trees in our home landscape.\n\n\nJoin us as we learn the details of how to select\, plant and care for trees in our home landscape. The talk will Include the time of year is best for planting and why. Our speaker\, Joe Gross\, an ISA certified arborist\, will speak on tree varieties\, how to select the correct plant for your landscape and proper planting techniques to give your plant a healthy start. Tree selection\, planting and maintenance are all important aspects of a plants’ health and longevity.
URL:https://whatsnewpasco.com/event/6-8-2026-select-plant-care-for-trees-shrubs-in-our-home-landscape/
LOCATION:Regency Park Library\, 9701 Little Road\, New Port Richey\, FL\, 34654\, United States
CATEGORIES:Classes & Courses,Free
ATTACH;FMTTYPE=image/jpeg:https://whatsnewpasco.com/wp-content/uploads/2026/03/6803a63577d840494c471fbac52a6cb4-1.jpg
END:VEVENT
BEGIN:VEVENT
DTSTART;TZID=America/New_York:20260609T140000
DTEND;TZID=America/New_York:20260609T150000
DTSTAMP:20260421T213119
CREATED:20260317T062403Z
LAST-MODIFIED:20260317T131209Z
UID:10000304-1781013600-1781017200@whatsnewpasco.com
SUMMARY:Learn About Native Florida Bees
DESCRIPTION:What are native bees of Florida and what is their role and purpose?\n\n\nWhat kind of native bees do we have and where can one find them? How are they different from our honey bees? We will learn how and where native bees live and what can be their greatest problems. We will discuss their life cycles and how we help them. We will learn about their favorite native plants and the pollen and nectar values of these plants. Come armed with all your questions.
URL:https://whatsnewpasco.com/event/6-9-2026-native-bees/
LOCATION:New River Library\, 34043 State Road 54\, Wesley Chapel\, FL\, 33543\, United States
CATEGORIES:Classes & Courses,Family Fun,Free
ATTACH;FMTTYPE=image/jpeg:https://whatsnewpasco.com/wp-content/uploads/2026/03/a3061b792596592495b9fe20e1a1a860.jpg
END:VEVENT
BEGIN:VEVENT
DTSTART;TZID=America/New_York:20260612T170000
DTEND;TZID=America/New_York:20260612T210000
DTSTAMP:20260421T213119
CREATED:20260326T044910Z
LAST-MODIFIED:20260408T201459Z
UID:10002301-1781283600-1781298000@whatsnewpasco.com
SUMMARY:Friday Moonlight Market at The Hub at Bexley
DESCRIPTION:Friday Moonlight Market at The Hub at Bexley\nWhen: Every 2nd and 4th FridayTime: 5 PM – 9 PMWhere: The Hub at BexleyAddress: 16954 Focus Lp\, Land O’ Lakes\, FL 34638\n\nVENDORS\, FOOD\, DRINKS\, MUSIC\, GAMES & MORE!\n Live Entertainment & Activities:– Enjoy live music\, starting at 6pm– Pet-friendly thanks to Woof Gang Bakery & Grooming– Pool & Bar Games hosted at Spanky’s Taproom\n Delicious Dining Options:– Bella Brava\, Taco Bus\, Grain & Berry\, Urban Crunch\, and more!\n Unique Shopping & Treats:Explore an amazing variety of vendors offering– Permanent Jewelry & Charm Bar– Fresh Pastries\, Mini Bundt Cakes\, Gourmet Chunky Cookies– Dips\, Sauces\, Rubs\, Candies\, and other Cottage Goods– Soaps\, Wax Melts\, Selfcare Products– T-Shirts\, Tumblers\, and Mugs with Unique Designs– Paintings\, Crochet\, 3D-Printed Keepsakes & Toys– Paperback Novels\, Cigars\, and Whiskey Smokers\nThis is a kid-friendly and pet-friendly event that promises something special for everyone. Don’t miss out on this festive\, community-filled evening!\nWe can’t wait to see you there! \nWant to be a Vendor? Apply by visiting our website at www.floridapenguinproductions.com or email Brett Cecere at Brett@FloridaPenguinProductions.com.\n\nVendor Application Link: https://lp.constantcontactpages.com/…/6287fe3c-a604… \nSee less
URL:https://whatsnewpasco.com/event/friday-moonlight-market-at-the-hub-at-bexley-2/2026-06-12/
LOCATION:The Hub at Bexley\, 16954 Focus Lp\, Land O Lakes\, FL\, 34638\, United States
CATEGORIES:Family Fun,Festivals & Markets,Food & Drinks,Free,Nightlife
ATTACH;FMTTYPE=image/jpeg:https://whatsnewpasco.com/wp-content/uploads/2026/03/Friday-Moonlight-Market-The-Hub-at-Bexley.jpg
END:VEVENT
BEGIN:VEVENT
DTSTART;TZID=America/New_York:20260613T090000
DTEND;TZID=America/New_York:20260613T100000
DTSTAMP:20260421T213119
CREATED:20260317T062137Z
LAST-MODIFIED:20260317T131238Z
UID:10000303-1781341200-1781344800@whatsnewpasco.com
SUMMARY:Landscaping for Greater Curb Appeal
DESCRIPTION:Simple fixes and helpful resources will be shared in this seminar.\n\n\nCurb appeal is frequently touted as a way to increase the appearance and value of your home. But\, just what is curb appeal and how can you get it? Without expensive renovations\, you can select and organize plants to increase the beauty of your home landscape. Learn how to add interest in your yard by applying simple\, basic landscaping design principles and plant selection. Simple fixes and helpful resources will be shared in the presentation.
URL:https://whatsnewpasco.com/event/6-13-2026-landscaping-for-greater-curb-appeal/
LOCATION:Heritage Park (Land O’ Lakes Community Center)\, 5401 Land O' lakes Blvd (Hwy 41)\, Land O' Lakes\, FL\, 34639\, United States
CATEGORIES:Classes & Courses,Free
ATTACH;FMTTYPE=image/jpeg:https://whatsnewpasco.com/wp-content/uploads/2026/03/a393f855621d56e52a04ab8d71e81448-1.jpg
END:VEVENT
BEGIN:VEVENT
DTSTART;TZID=America/New_York:20260613T100000
DTEND;TZID=America/New_York:20260613T110000
DTSTAMP:20260421T213119
CREATED:20260317T061256Z
LAST-MODIFIED:20260317T130410Z
UID:10000299-1781344800-1781348400@whatsnewpasco.com
SUMMARY:Attracting Birds to Your Backyard
DESCRIPTION:Even the most urban yard can host a plethora of species\, making for very interesting wildlife-watching! Come learn more at this seminar.\n\n\nThe best home landscapes should fit the needs of humans\, but also provide for wildlife of various kinds. Even the most urban yard can host a plethora of species\, making for very interesting wildlife-watching! Just a few easy changes to your landscape can help attract birds to our backyards. Attracting birds has many benefits. This session will cover bird behavior\, benefits that birds bring to our backyard\, birds native to Florida\, and an overview on how to provide for a habitat for birds in your backyard.
URL:https://whatsnewpasco.com/event/6-13-2026-attracting-birds-to-your-backyard/
LOCATION:Zephyrhills Public Library\, 5347 8th Street\, Zephyrhills\, FL\, 33542\, United States
CATEGORIES:Classes & Courses,Free
ATTACH;FMTTYPE=image/jpeg:https://whatsnewpasco.com/wp-content/uploads/2026/03/430739fa2c953ead533f6f1aee77cbc5-1.jpg
END:VEVENT
BEGIN:VEVENT
DTSTART;TZID=America/New_York:20260613T190000
DTEND;TZID=America/New_York:20260613T230000
DTSTAMP:20260421T213119
CREATED:20260402T125757Z
LAST-MODIFIED:20260408T163238Z
UID:10003581-1781377200-1781391600@whatsnewpasco.com
SUMMARY:Caribbean Night @ KRATE
DESCRIPTION:Join us for Caribbean Night at KRATE!!! \nEvery 2nd Saturday of the Month! 7 PM – 11 PM \nDJ Q Spins the Best Reggae\, Soca\, and Calypso Music  Stage \n– 30+ Different Restaurants to Choose From– Authentic Jamaican Cuisine @ Rhythm Pon De Grill– Over a Dozen Retail Shops– Some of the Most Unique Bars in the Bay Area– Dog Friendly– Family Friendly – Playground for the Kids– Lawn Chairs Welcome– No Outside Food or Drinks Allowed– Plenty of Free Parking Available– No Cover \nGood Vibes w/ Great People
URL:https://whatsnewpasco.com/event/caribbean-night-krate/2026-06-13/
LOCATION:KRATE at The Grove\, 5817 Goldview Pkwy\, Wesley Chapel\, FL\, 33544\, United States
CATEGORIES:Festivals & Markets,Food & Drinks,Free,Live Music,Nightlife
ATTACH;FMTTYPE=image/jpeg:https://whatsnewpasco.com/wp-content/uploads/2026/04/627242139_1475138201284690_7880859568268648765_n.jpg
END:VEVENT
BEGIN:VEVENT
DTSTART;TZID=America/New_York:20260614T110000
DTEND;TZID=America/New_York:20260614T150000
DTSTAMP:20260421T213119
CREATED:20260319T142657Z
LAST-MODIFIED:20260319T142917Z
UID:10001470-1781434800-1781449200@whatsnewpasco.com
SUMMARY:Harvest Markets near KRATE at The Grove
DESCRIPTION:OPEN 11AM-3PM!FREE ENTRY! FREE PARKING!FAMILY & PET FRIENDLY!\nHANDICAP ACCESSIBLE! \n80+ Vendors with Produce\, Cottage Goods\, Baked Goods\, Home Decor\, Self Care\, Art\, Accessories & more! Located in Wesley Chapel\, near KRATE at the Grove\, Harvest Markets happen every 2nd & 4th Sunday\, from Fall to Spring. \nHosted by Florida Penguin Productions\nVendor Fee: ONLY $55! For more info\, click the link below or email our coordinator at Brett@FloridaPenguinProductions.com \nVendor Registration: https://lp.constantcontactpages.com/ev/reg/466t8k9
URL:https://whatsnewpasco.com/event/harvest-markets-near-krate-at-the-grove-2/2026-06-14/
LOCATION:KRATE at The Grove\, 5817 Goldview Pkwy\, Wesley Chapel\, FL\, 33544\, United States
CATEGORIES:Family Fun,Festivals & Markets,Food & Drinks,Free
ATTACH;FMTTYPE=image/jpeg:https://whatsnewpasco.com/wp-content/uploads/2026/03/Harvest-Market-at-The-Grove.jpg
END:VEVENT
END:VCALENDAR