BEGIN:VCALENDAR
VERSION:2.0
PRODID:-//What&#039;s New Pasco - ECPv6.15.20//NONSGML v1.0//EN
CALSCALE:GREGORIAN
METHOD:PUBLISH
X-ORIGINAL-URL:https://whatsnewpasco.com
X-WR-CALDESC:Events for What&#039;s New Pasco
REFRESH-INTERVAL;VALUE=DURATION:PT1H
X-Robots-Tag:noindex
X-PUBLISHED-TTL:PT1H
BEGIN:VTIMEZONE
TZID:America/New_York
BEGIN:DAYLIGHT
TZOFFSETFROM:-0500
TZOFFSETTO:-0400
TZNAME:EDT
DTSTART:20250309T070000
END:DAYLIGHT
BEGIN:STANDARD
TZOFFSETFROM:-0400
TZOFFSETTO:-0500
TZNAME:EST
DTSTART:20251102T060000
END:STANDARD
BEGIN:DAYLIGHT
TZOFFSETFROM:-0500
TZOFFSETTO:-0400
TZNAME:EDT
DTSTART:20260308T070000
END:DAYLIGHT
BEGIN:STANDARD
TZOFFSETFROM:-0400
TZOFFSETTO:-0500
TZNAME:EST
DTSTART:20261101T060000
END:STANDARD
BEGIN:DAYLIGHT
TZOFFSETFROM:-0500
TZOFFSETTO:-0400
TZNAME:EDT
DTSTART:20270314T070000
END:DAYLIGHT
BEGIN:STANDARD
TZOFFSETFROM:-0400
TZOFFSETTO:-0500
TZNAME:EST
DTSTART:20271107T060000
END:STANDARD
END:VTIMEZONE
BEGIN:VEVENT
DTSTART;TZID=America/New_York:20260525T170000
DTEND;TZID=America/New_York:20260525T200000
DTSTAMP:20260422T232507
CREATED:20260318T203442Z
LAST-MODIFIED:20260318T203442Z
UID:10000400-1779728400-1779739200@whatsnewpasco.com
SUMMARY:Mahjong Mondays (5PM ET)
DESCRIPTION:Join us for Mahjong Mondays at B&B! 5-8PM (ET)! New & experienced Mahjong players are welcome! 😊 \nIf you are ready to challenge your skills & enjoy a Chinese game of strategy and luck\, don’t miss these fun events! \n🍻Arrive early to enjoy our Happy Hour menu! \n#BBTheatres #Mahjong #HappyHour
URL:https://whatsnewpasco.com/event/mahjong-mondays-5pm-et/2026-05-25/
LOCATION:B&B Theatres Wesley Chapel – The Grove 16\, 6333 Wesley Grove Blvd\, Wesley Chapel\, FL\, 33544\, United States
CATEGORIES:Free
ATTACH;FMTTYPE=image/jpeg:https://whatsnewpasco.com/wp-content/uploads/2026/03/wp_img_8849721989371461753.jpg
END:VEVENT
BEGIN:VEVENT
DTSTART;TZID=America/New_York:20260527T120000
DTEND;TZID=America/New_York:20260527T130000
DTSTAMP:20260422T232507
CREATED:20260326T050354Z
LAST-MODIFIED:20260326T050354Z
UID:10002361-1779883200-1779886800@whatsnewpasco.com
SUMMARY:Pasco County Alignable Alliance In-Person BYOL Meeting
DESCRIPTION:Overview\n\n\n\n\nThis networking lunch is an opportunity to connect with fellow business owners\, share insights and foster meaningful relationships! \n\n\n\n\nReady to grow your business with genuine business connections? \nJoin the Pasco County Alignable Alliance on the last Wednesday of every month\, 12:00 – 1:00pm at 4 & Co.\, 16703 Early Riser Avenue\, Land O’ Lakes\, FL 34638. \nAt this in-person networking event\, you will meet other local business owners\, exchange business information and learn how Alignable 360 can help you grow your business with AI powered matchmaking. We also spotlight a business at this meeting and the collective experience of the participants is focused on the challenge offered in the session. \nBring friends! This is a free event! \nKnow that this is not a sales event. You will not be hearing sales pitches. We focus on building relationships that lead to real business. \nWe look forward to seeing you next week at this engaging networking meeting! \nThe Pasco County Alignable Alliance can be found here: https://www.alignable.com/groups/alignable-alliance-of-land-o-lakes-fl \nReach out to me with questions. As the Ambassador of the Pasco County Alliance\, I welcome the opportunity to provide information. \nlorraine@lanebc.com – 813-486-2837
URL:https://whatsnewpasco.com/event/pasco-county-alignable-alliance-in-person-byol-meeting/2026-05-27/
LOCATION:4 & Co Coworking Spaces\, 16703 Early Riser Avenue\, Land O' Lakes\, FL\, 34638\, United States
CATEGORIES:Free
END:VEVENT
BEGIN:VEVENT
DTSTART;TZID=America/New_York:20260529T190000
DTEND;TZID=America/New_York:20260529T230000
DTSTAMP:20260422T232507
CREATED:20260326T043924Z
LAST-MODIFIED:20260326T043924Z
UID:10002121-1780081200-1780095600@whatsnewpasco.com
SUMMARY:Only R&B @ KRATE
DESCRIPTION:On the Last Friday of every month\, Nico Brown Productions brings you…\nOnly R&B @ KRATE!!!\nSpecial Guest DJs & Entertainment Every Month!!!\n\nThis month\, we have a special guest performance by SLIM of 112!!!\nHosted by Victoria Skyy\nSoundtrack provided by DJ Spaceship\n\n– 30+ Different Restaurants to Choose From– Over a Dozen Retail Shops– Some of the Most Unique Bars in the Bay Area– Dog Friendly– Family Friendly– Playground for the Kids– Lawn Chairs Welcome– No Outside Food or Drinks Allowed– Multiple DJs throughout the Park– Price Varies from Adv Tickets to the Gate– Reserved Seating Available– Kids 12 & under are Free– Limited Capacity\, Advanced Tickets: Ensure Your Entry– Plenty of Free Parking– No Refunds
URL:https://whatsnewpasco.com/event/only-rb-krate-featuring-slim-of-112/2026-05-29/
LOCATION:KRATE at The Grove\, 5817 Goldview Pkwy\, Wesley Chapel\, FL\, 33544\, United States
CATEGORIES:Festivals & Markets,Food & Drinks,Live Music,Nightlife
END:VEVENT
BEGIN:VEVENT
DTSTART;TZID=America/New_York:20260530T110000
DTEND;TZID=America/New_York:20260530T120000
DTSTAMP:20260422T232507
CREATED:20260317T063654Z
LAST-MODIFIED:20260317T130934Z
UID:10000309-1780138800-1780142400@whatsnewpasco.com
SUMMARY:How To Propagate Plants
DESCRIPTION:We will show you how to propagate many different types of plants by various means at this seminar.\n\n\nAre you at that point where you can grow most of the plants you have bought and they are doing nicely? Why not try propagating? We will show you how to propagate many different types of plants by various means so that you can grow your collection even more!
URL:https://whatsnewpasco.com/event/5-30-2026-propagation/
LOCATION:Hugh Embry Library\, 14215 4th Street\, Dade City\, FL\, 33523\, United States
CATEGORIES:Classes & Courses,Free
ATTACH;FMTTYPE=image/jpeg:https://whatsnewpasco.com/wp-content/uploads/2026/03/acd3f379de61d1f0e4e08cc94b1b9b06-1.jpg
END:VEVENT
BEGIN:VEVENT
DTSTART;TZID=America/New_York:20260530T120000
DTEND;TZID=America/New_York:20260530T160000
DTSTAMP:20260422T232507
CREATED:20260326T042746Z
LAST-MODIFIED:20260326T173634Z
UID:10002554-1780142400-1780156800@whatsnewpasco.com
SUMMARY:Lakeside Market at In The Loop Brewing
DESCRIPTION:LAKESIDE MARKET AT IN THE LOOP BREWING  \nHosted by Magana Markets \n In The Loop Brewing3338 Land O Lakes Blvd\, Land O Lakes\, FL \nSpend your Saturday lakeside with cold drinks\, local shopping\, and laid-back vibes. Our Lakeside Market is the perfect way to enjoy good weather\, great beer\, and your favorite local vendors — all in one beautiful outdoor setting. \n What to Expect: \n Artisanal Vendors Craft Beer Wine & Mimosas Food Truck Music & More Relaxing Lakeside Views \nThis is an easy\, come-and-go kind of afternoon — perfect for friends\, families\, and anyone who loves supporting local. \n Family-Friendly Pet-Friendly \n RSVP\, invite your crew\, and make a day of it! \nVendor Info: email MaganaMarkets@gmail.com or text us at 352-593-8402
URL:https://whatsnewpasco.com/event/lakeside-market-at-in-the-loop-brewing-march-2026/2026-05-30/
LOCATION:In The Loop Brewing\, 3338 Land O Lakes Blvd\, Land O Lakes\, FL\, 34639\, United States
CATEGORIES:Festivals & Markets,Food & Drinks,Free
ATTACH;FMTTYPE=image/jpeg:https://whatsnewpasco.com/wp-content/uploads/2026/03/602465631_122283739070239323_7708249001230140770_n.jpg
END:VEVENT
BEGIN:VEVENT
DTSTART;TZID=America/New_York:20260530T190000
DTEND;TZID=America/New_York:20260530T210000
DTSTAMP:20260422T232507
CREATED:20260326T043332Z
LAST-MODIFIED:20260326T043456Z
UID:10002061-1780167600-1780174800@whatsnewpasco.com
SUMMARY:Line Dancing Night @ Beef 'O' Brady's
DESCRIPTION:Yeehaw\, it’s happening 🤠💃All NEW Line Dancing Night! Join us the last Saturday of every month for line dance lessons on the patio from 7–9pm. No experience needed—just bring your boots (or sneakers)\, grab a drink\, and dance it out! 🎶
URL:https://whatsnewpasco.com/event/all-new-line-dancing-night/2026-05-30/
LOCATION:Beef O’ Brady’s Land ‘O’ Lakes\, 7040 Land O Lakes Blvd. #108\, Land O' Lakes\, FL\, 34638\, United States
CATEGORIES:Food & Drinks,Free,Nightlife
END:VEVENT
BEGIN:VEVENT
DTSTART;TZID=America/New_York:20260530T190000
DTEND;TZID=America/New_York:20260530T230000
DTSTAMP:20260422T232507
CREATED:20260402T112101Z
LAST-MODIFIED:20260402T112138Z
UID:10003117-1780167600-1780182000@whatsnewpasco.com
SUMMARY:Noche Latina at KRATE
DESCRIPTION:Every Last Saturday of the month\, Nico Brown Productions Brings You… \nNoche Latina @ KRATE!!! \nEvery Month\, Special Guest DJs Spinning All of Your Favorite Latin Music! Salsa\, Bachata\, Reggaeton\, Merengue\, & MoreGates Open @ 7 PM– 30+ Different Restaurants to Choose From– Over a Dozen Retail Shops– Some of the Most Unique Bars in the Bay Area– Dog Friendly– Family Friendly– Playground for the Kids– Lawn Chairs Welcome– No Outside Food or Drinks Allowed– Vendors– Multiple DJs throughout the park– Plenty of Free Parking Available– NO COVER \nLa vida es Excelente @ KRATE
URL:https://whatsnewpasco.com/event/noche-latina-at-krate/2026-05-30/
LOCATION:KRATE at The Grove\, 5817 Goldview Pkwy\, Wesley Chapel\, FL\, 33544\, United States
CATEGORIES:Family Fun,Festivals & Markets,Food & Drinks,Free,Live Music,Nightlife
ATTACH;FMTTYPE=image/jpeg:https://whatsnewpasco.com/wp-content/uploads/2026/04/627335547_1475230401275470_4192374631526142859_n.jpg
END:VEVENT
END:VCALENDAR