BEGIN:VCALENDAR
VERSION:2.0
PRODID:-//What&#039;s New Pasco - ECPv6.15.20//NONSGML v1.0//EN
CALSCALE:GREGORIAN
METHOD:PUBLISH
X-ORIGINAL-URL:https://whatsnewpasco.com
X-WR-CALDESC:Events for What&#039;s New Pasco
REFRESH-INTERVAL;VALUE=DURATION:PT1H
X-Robots-Tag:noindex
X-PUBLISHED-TTL:PT1H
BEGIN:VTIMEZONE
TZID:America/New_York
BEGIN:DAYLIGHT
TZOFFSETFROM:-0500
TZOFFSETTO:-0400
TZNAME:EDT
DTSTART:20250309T070000
END:DAYLIGHT
BEGIN:STANDARD
TZOFFSETFROM:-0400
TZOFFSETTO:-0500
TZNAME:EST
DTSTART:20251102T060000
END:STANDARD
BEGIN:DAYLIGHT
TZOFFSETFROM:-0500
TZOFFSETTO:-0400
TZNAME:EDT
DTSTART:20260308T070000
END:DAYLIGHT
BEGIN:STANDARD
TZOFFSETFROM:-0400
TZOFFSETTO:-0500
TZNAME:EST
DTSTART:20261101T060000
END:STANDARD
BEGIN:DAYLIGHT
TZOFFSETFROM:-0500
TZOFFSETTO:-0400
TZNAME:EDT
DTSTART:20270314T070000
END:DAYLIGHT
BEGIN:STANDARD
TZOFFSETFROM:-0400
TZOFFSETTO:-0500
TZNAME:EST
DTSTART:20271107T060000
END:STANDARD
END:VTIMEZONE
BEGIN:VEVENT
DTSTART;TZID=America/New_York:20260303T090000
DTEND;TZID=America/New_York:20260317T170000
DTSTAMP:20260422T200615
CREATED:20260318T224013Z
LAST-MODIFIED:20260318T224013Z
UID:10000342-1772528400-1773766800@whatsnewpasco.com
SUMMARY:Happy St. Patrick's Day (Wiregrass)
DESCRIPTION:Seasonal St. Patrick’s Day activity event posted by The Shops at Wiregrass.
URL:https://whatsnewpasco.com/event/happy-st-patricks-day-wiregrass-2/
LOCATION:The Shops at Wiregrass\, 28211 Paseo Drive\, Wesley Chapel\, FL\, 33543\, United States
CATEGORIES:Family Fun
END:VEVENT
BEGIN:VEVENT
DTSTART;TZID=America/New_York:20260306T090000
DTEND;TZID=America/New_York:20260306T170000
DTSTAMP:20260422T200615
CREATED:20260318T224013Z
LAST-MODIFIED:20260318T224013Z
UID:10000345-1772787600-1772816400@whatsnewpasco.com
SUMMARY:Live Band (KRATE at The Grove)
DESCRIPTION:Live music performance event listed on KRATE calendar.
URL:https://whatsnewpasco.com/event/live-band-krate-at-the-grove-2/
LOCATION:KRATE at The Grove\, 5817 Goldview Pkwy\, Wesley Chapel\, FL\, 33544\, United States
CATEGORIES:Festivals & Markets
END:VEVENT
BEGIN:VEVENT
DTSTART;TZID=America/New_York:20260306T090000
DTEND;TZID=America/New_York:20260308T170000
DTSTAMP:20260422T200615
CREATED:20260318T224013Z
LAST-MODIFIED:20260318T224013Z
UID:10000344-1772787600-1772989200@whatsnewpasco.com
SUMMARY:Day In The Dirt Down South
DESCRIPTION:Multi-day motocross event featuring racing and spectator access at Dade City Raceway.
URL:https://whatsnewpasco.com/event/day-in-the-dirt-down-south-2/
LOCATION:Dade City Raceway\, 36722 State Rd 52\, Dade\, City\, United States
CATEGORIES:Family Fun,Festivals & Markets,Get Active
END:VEVENT
BEGIN:VEVENT
DTSTART;TZID=America/New_York:20260306T173000
DTEND;TZID=America/New_York:20260306T213000
DTSTAMP:20260422T200615
CREATED:20260318T224013Z
LAST-MODIFIED:20260325T174611Z
UID:10001990-1772818200-1772832600@whatsnewpasco.com
SUMMARY:1st Fridays – Market Elaine (KRATE at The Grove)
DESCRIPTION:The Market Elaine: Every 1st Friday night! \nWesley Chapel’s favorite night market is back\, bringing together the best in local shopping\, delicious eats\, and family-friendly fun! Join us every 1st Friday of the month from 5:30-9:30 PM at The Grove for an unforgettable evening.\nCome experience a vibrant atmosphere filled with 150+ vendors\, live entertainment\, and activities for all ages!\n Event Highlights:\n Shop Local: Explore unique finds from talented artisans and small businesses. Pet Adoptions: Give a furry friend a forever home! Kids’ Zone: Bounce house\, face painting\, and more fun activities. Live Music: Enjoy performances at KRATE at The Grove while you shop. Food & Treats: Indulge in delicious snacks and handcrafted goodies. Family-Friendly Fun: A perfect night out for all!\n Date: 1st Friday of Every Month Time: 5:30 PM – 9:30 PM Location: 6013 Wesley Grove Blvd.\, Wesley Chapel\, FL 33544\n Mark your calendars & don’t miss out! Follow us for updates\, sneak peeks\, and vendor highlights. See you at The Market Elaine!
URL:https://whatsnewpasco.com/event/1st-fridays-market-elaine-krate-at-the-grove-2/2026-03-06/
LOCATION:KRATE at The Grove\, 5817 Goldview Pkwy\, Wesley Chapel\, FL\, 33544\, United States
CATEGORIES:Family Fun,Festivals & Markets,Food & Drinks
ATTACH;FMTTYPE=image/png:https://whatsnewpasco.com/wp-content/uploads/2026/03/logo-5001.png
END:VEVENT
BEGIN:VEVENT
DTSTART;TZID=America/New_York:20260307T090000
DTEND;TZID=America/New_York:20260307T170000
DTSTAMP:20260422T200615
CREATED:20260318T224002Z
LAST-MODIFIED:20260318T224002Z
UID:10000347-1772874000-1772902800@whatsnewpasco.com
SUMMARY:Holi Festival of Colors (KRATE at The Grove)
DESCRIPTION:Festival-style Holi celebration event listed on KRATE calendar with live entertainment and community gathering.
URL:https://whatsnewpasco.com/event/holi-festival-of-colors-krate-at-the-grove-2/
LOCATION:KRATE at The Grove\, 5817 Goldview Pkwy\, Wesley Chapel\, FL\, 33544\, United States
CATEGORIES:Family Fun,Festivals & Markets
END:VEVENT
BEGIN:VEVENT
DTSTART;TZID=America/New_York:20260307T090000
DTEND;TZID=America/New_York:20260307T170000
DTSTAMP:20260422T200615
CREATED:20260318T224013Z
LAST-MODIFIED:20260318T224013Z
UID:10000346-1772874000-1772902800@whatsnewpasco.com
SUMMARY:Cracker Cowboy Day
DESCRIPTION:Living-history community event featuring Florida Cracker cowboy demonstrations\, music\, vendors\, and family activities.
URL:https://whatsnewpasco.com/event/cracker-cowboy-day-2/
LOCATION:Pioneer Florida Museum\, Dade City\, FL\, United States
CATEGORIES:Family Fun,Festivals & Markets
END:VEVENT
BEGIN:VEVENT
DTSTART;TZID=America/New_York:20260307T100000
DTEND;TZID=America/New_York:20260307T140000
DTSTAMP:20260422T200615
CREATED:20260318T230517Z
LAST-MODIFIED:20260319T035058Z
UID:10001091-1772877600-1772892000@whatsnewpasco.com
SUMMARY:Fresh Market at Wiregrass
DESCRIPTION:Stroll Paseo Drive and experience the Fresh Market at Wiregrass\, a lively open-air market featuring over 100 rotating seasonal vendors in the heart of the shopping center. Discover locally grown produce\, fresh herbs\, plants\, flowers\, artisanal foods\, and handcrafted goods while enjoying the vibrant community atmosphere.
URL:https://whatsnewpasco.com/event/fresh-market-at-wiregrass-2/2026-03-07/
LOCATION:The Shops at Wiregrass\, 28211 Paseo Drive\, Wesley Chapel\, FL\, 33543\, United States
CATEGORIES:Family Fun,Festivals & Markets
ATTACH;FMTTYPE=image/jpeg:https://whatsnewpasco.com/wp-content/uploads/2026/03/2ab92ce0e8f2a9f0425710c7d8f4932a.jpg
END:VEVENT
BEGIN:VEVENT
DTSTART;TZID=America/New_York:20260307T100000
DTEND;TZID=America/New_York:20260307T180000
DTSTAMP:20260422T200615
CREATED:20260317T001611Z
LAST-MODIFIED:20260319T051300Z
UID:10001220-1772877600-1772906400@whatsnewpasco.com
SUMMARY:2026 Bay Area Renaissance Festival
DESCRIPTION:Hear ye\, hear ye! The gates of Folkstone swing wide once again! Step back in time to a lively 16th-century village filled with magic\, merriment\, and unforgettable adventure. \nSet in the heart of Dade City\, 2026 Bay Area Renaissance Festival invites you to step into a 16th-century European village with 15 stages of entertainment\, over 100 talented artisans\, and immersive historical experiences. As we celebrate our 48th season\, we welcome families\, history buffs\, and adventure seekers to experience an unforgettable world of fun\, feasts\, and festivities for all ages! \nPeruse the wares of over 100 talented artisans\, feast upon food fit for royalty\, and meet the colorful villagers who bring the realm to life— including live jousting\, magicians\, minstrels\, jugglers\, and more. With 7 themed weekends of fun and festivities\, every visit is a new adventure!
URL:https://whatsnewpasco.com/event/bay-area-renaissance-festival/2026-03-07/
LOCATION:Bay Area Renaissance Festival\, 12838 Auton Rd\, Dade City\, FL\, 33525\, United States
CATEGORIES:Family Fun,Festivals & Markets,Food & Drinks
ATTACH;FMTTYPE=image/jpeg:https://whatsnewpasco.com/wp-content/uploads/2026/03/572164830_1419173973125430_1047329286886224967_n.jpg
END:VEVENT
BEGIN:VEVENT
DTSTART;TZID=America/New_York:20260308T090000
DTEND;TZID=America/New_York:20260308T170000
DTSTAMP:20260422T200615
CREATED:20260318T224002Z
LAST-MODIFIED:20260318T224002Z
UID:10000348-1772960400-1772989200@whatsnewpasco.com
SUMMARY:29th Annual Kumquat Festival
DESCRIPTION:East Pasco signature festival with arts/crafts\, vendors\, food\, and family activities; rescheduled date posted by chamber listing.
URL:https://whatsnewpasco.com/event/29th-annual-kumquat-festival-2/
LOCATION:Downtown Dade City\, FL\, United States
CATEGORIES:Family Fun,Festivals & Markets,Food & Drinks
END:VEVENT
BEGIN:VEVENT
DTSTART;TZID=America/New_York:20260308T090000
DTEND;TZID=America/New_York:20260308T170000
DTSTAMP:20260422T200615
CREATED:20260318T224002Z
LAST-MODIFIED:20260318T224002Z
UID:10000349-1772960400-1772989200@whatsnewpasco.com
SUMMARY:2nd Sunday – Sunday Morning Market (KRATE)
DESCRIPTION:Sunday daytime market event with local vendors and food options.
URL:https://whatsnewpasco.com/event/2nd-sunday-sunday-morning-market-krate-2/
LOCATION:KRATE at The Grove\, 5817 Goldview Pkwy\, Wesley Chapel\, FL\, 33544\, United States
CATEGORIES:Family Fun,Festivals & Markets,Food & Drinks
END:VEVENT
BEGIN:VEVENT
DTSTART;TZID=America/New_York:20260308T100000
DTEND;TZID=America/New_York:20260308T180000
DTSTAMP:20260422T200615
CREATED:20260317T001611Z
LAST-MODIFIED:20260319T051300Z
UID:10001221-1772964000-1772992800@whatsnewpasco.com
SUMMARY:2026 Bay Area Renaissance Festival
DESCRIPTION:Hear ye\, hear ye! The gates of Folkstone swing wide once again! Step back in time to a lively 16th-century village filled with magic\, merriment\, and unforgettable adventure. \nSet in the heart of Dade City\, 2026 Bay Area Renaissance Festival invites you to step into a 16th-century European village with 15 stages of entertainment\, over 100 talented artisans\, and immersive historical experiences. As we celebrate our 48th season\, we welcome families\, history buffs\, and adventure seekers to experience an unforgettable world of fun\, feasts\, and festivities for all ages! \nPeruse the wares of over 100 talented artisans\, feast upon food fit for royalty\, and meet the colorful villagers who bring the realm to life— including live jousting\, magicians\, minstrels\, jugglers\, and more. With 7 themed weekends of fun and festivities\, every visit is a new adventure!
URL:https://whatsnewpasco.com/event/bay-area-renaissance-festival/2026-03-08/
LOCATION:Bay Area Renaissance Festival\, 12838 Auton Rd\, Dade City\, FL\, 33525\, United States
CATEGORIES:Family Fun,Festivals & Markets,Food & Drinks
ATTACH;FMTTYPE=image/jpeg:https://whatsnewpasco.com/wp-content/uploads/2026/03/572164830_1419173973125430_1047329286886224967_n.jpg
END:VEVENT
BEGIN:VEVENT
DTSTART;TZID=America/New_York:20260308T110000
DTEND;TZID=America/New_York:20260308T150000
DTSTAMP:20260422T200615
CREATED:20260319T142657Z
LAST-MODIFIED:20260319T142917Z
UID:10001467-1772967600-1772982000@whatsnewpasco.com
SUMMARY:Harvest Markets near KRATE at The Grove
DESCRIPTION:OPEN 11AM-3PM!FREE ENTRY! FREE PARKING!FAMILY & PET FRIENDLY!\nHANDICAP ACCESSIBLE! \n80+ Vendors with Produce\, Cottage Goods\, Baked Goods\, Home Decor\, Self Care\, Art\, Accessories & more! Located in Wesley Chapel\, near KRATE at the Grove\, Harvest Markets happen every 2nd & 4th Sunday\, from Fall to Spring. \nHosted by Florida Penguin Productions\nVendor Fee: ONLY $55! For more info\, click the link below or email our coordinator at Brett@FloridaPenguinProductions.com \nVendor Registration: https://lp.constantcontactpages.com/ev/reg/466t8k9
URL:https://whatsnewpasco.com/event/harvest-markets-near-krate-at-the-grove-2/2026-03-08/
LOCATION:KRATE at The Grove\, 5817 Goldview Pkwy\, Wesley Chapel\, FL\, 33544\, United States
CATEGORIES:Family Fun,Festivals & Markets,Food & Drinks,Free
ATTACH;FMTTYPE=image/jpeg:https://whatsnewpasco.com/wp-content/uploads/2026/03/Harvest-Market-at-The-Grove.jpg
END:VEVENT
END:VCALENDAR