BEGIN:VCALENDAR
VERSION:2.0
PRODID:-//What&#039;s New Pasco - ECPv6.15.20//NONSGML v1.0//EN
CALSCALE:GREGORIAN
METHOD:PUBLISH
X-WR-CALNAME:What&#039;s New Pasco
X-ORIGINAL-URL:https://whatsnewpasco.com
X-WR-CALDESC:Events for What&#039;s New Pasco
REFRESH-INTERVAL;VALUE=DURATION:PT1H
X-Robots-Tag:noindex
X-PUBLISHED-TTL:PT1H
BEGIN:VTIMEZONE
TZID:America/New_York
BEGIN:DAYLIGHT
TZOFFSETFROM:-0500
TZOFFSETTO:-0400
TZNAME:EDT
DTSTART:20250309T070000
END:DAYLIGHT
BEGIN:STANDARD
TZOFFSETFROM:-0400
TZOFFSETTO:-0500
TZNAME:EST
DTSTART:20251102T060000
END:STANDARD
BEGIN:DAYLIGHT
TZOFFSETFROM:-0500
TZOFFSETTO:-0400
TZNAME:EDT
DTSTART:20260308T070000
END:DAYLIGHT
BEGIN:STANDARD
TZOFFSETFROM:-0400
TZOFFSETTO:-0500
TZNAME:EST
DTSTART:20261101T060000
END:STANDARD
BEGIN:DAYLIGHT
TZOFFSETFROM:-0500
TZOFFSETTO:-0400
TZNAME:EDT
DTSTART:20270314T070000
END:DAYLIGHT
BEGIN:STANDARD
TZOFFSETFROM:-0400
TZOFFSETTO:-0500
TZNAME:EST
DTSTART:20271107T060000
END:STANDARD
END:VTIMEZONE
BEGIN:VEVENT
DTSTART;TZID=America/New_York:20260515T190000
DTEND;TZID=America/New_York:20260515T210000
DTSTAMP:20260422T180134
CREATED:20260319T024411Z
LAST-MODIFIED:20260319T024411Z
UID:10000905-1778871600-1778878800@whatsnewpasco.com
SUMMARY:3rd Friday Karaoke Nights (Wiregrass)
DESCRIPTION:Bring your voice\, your friends\, and your best stage presence to Karaoke Nights at Center Court. Held every third Friday of the month from 7 to 9 PM\, this lively evening invites guests to sing along to their favorite hits while enjoying light bites and drinks from nearby restaurants. \nFiner Details: \n\nKaraoke is free to participate in\nNo outside coolers or alcohol permitted\nLawn chairs are encouraged\nSong sign ups take place onsite at the event
URL:https://whatsnewpasco.com/event/3rd-friday-karaoke-nights-wiregrass-2/2026-05-15/
LOCATION:The Shops at Wiregrass\, 28211 Paseo Drive\, Wesley Chapel\, FL\, 33543\, United States
CATEGORIES:Family Fun,Festivals & Markets,Free
END:VEVENT
BEGIN:VEVENT
DTSTART;TZID=America/New_York:20260515T190000
DTEND;TZID=America/New_York:20260515T230000
DTSTAMP:20260422T180134
CREATED:20260319T025124Z
LAST-MODIFIED:20260319T025325Z
UID:10000964-1778871600-1778886000@whatsnewpasco.com
SUMMARY:3rd Fridays - Keeping It Country @ Krate
DESCRIPTION:Every 3rd Friday We bring You… Country Music Night @ KRATE at the Grove!\nLive Entertainment! All of Your Favorite Country Music!\nLine Dance Lessons by Mikaya\nDJ MOSS playing All of your favorite Country Hits!\n\n\n30+ Different Restaurants to Choose From\nOver a Dozen Retail Shops\nSome of the Most Unique Bars in the Bay Area\nDog Friendly\nFamily Friendly\nPlayground for the Kids\nLawn Chairs Welcome\nNo Outside Food or Drinks Allowed\nNo Cover\nFree Parking\n\n\nDust Off them Boots & Come Party w/ Us!\nLife is Great @ KRATE
URL:https://whatsnewpasco.com/event/3rd-fridays-keeping-it-country-krate-2/2026-05-15/
LOCATION:KRATE at The Grove\, 5817 Goldview Pkwy\, Wesley Chapel\, FL\, 33544\, United States
CATEGORIES:Festivals & Markets,Free
ATTACH;FMTTYPE=image/png:https://whatsnewpasco.com/wp-content/uploads/2026/03/logo-5001.png
END:VEVENT
BEGIN:VEVENT
DTSTART;TZID=America/New_York:20260515T200000
DTEND;TZID=America/New_York:20260515T220000
DTSTAMP:20260422T180134
CREATED:20260319T014014Z
LAST-MODIFIED:20260319T014014Z
UID:10000846-1778875200-1778882400@whatsnewpasco.com
SUMMARY:Game Night (8PM ET)
DESCRIPTION:Bring your competitive spirit! Join us at B&B with DJ Boss K for another Game Night in the Marquee Lounge! \nBoard games\, party games\, great music\, a full bar\, plus YOU! It’ll be a night to remember! \nWe go live at 8PM on Friday\, March 20\, so tag your crew & we’ll see you there! \n#BBTheatres #GameNight #Bar
URL:https://whatsnewpasco.com/event/game-night-8pm-et/2026-05-15/
LOCATION:B&B Theatres Wesley Chapel – The Grove 16\, 6333 Wesley Grove Blvd\, Wesley Chapel\, FL\, 33544\, United States
CATEGORIES:Free
ATTACH;FMTTYPE=image/jpeg:https://whatsnewpasco.com/wp-content/uploads/2026/03/wp_img_114131290981755989.jpg
END:VEVENT
BEGIN:VEVENT
DTSTART;TZID=America/New_York:20260516T190000
DTEND;TZID=America/New_York:20260516T210000
DTSTAMP:20260422T180134
CREATED:20260325T165931Z
LAST-MODIFIED:20260325T170153Z
UID:10001920-1778958000-1778965200@whatsnewpasco.com
SUMMARY:Concert in the Park: The Fulcos
DESCRIPTION:Making their Sims Park debut\, The Fulcos are a powerhouse family band led by Joey Fulco\, a self-taught multi-instrumentalist who has shared the stage with legends and written more than 300 songs.\nHis sons\, Jesse and Dominick\, have built their own following with viral music\, international promotion\, more than 200 shows a year\, and recognition as Tampa Bay Music News’ “Fan Favorite.”\nFree to attend\, and guests are encouraged to bring blankets and lawn chairs for seating.\nFood trucks\, sodas\, plus beer and wine for the 21+ crowd will be available before and during the shows.\nFree parking is available throughout Downtown New Port Richey\, and the Downtown Area Roundabout Trolley (a.k.a. DART) operates Thursday through Sunday. For hours and parking location information\, visit www.cityofnewportrichey.org/parking
URL:https://whatsnewpasco.com/event/concert-in-the-park-the-fulcos-2/
LOCATION:Sim’s Park\, New Port Richey\, Fl\, United States
CATEGORIES:Food & Drinks,Live Music,Nightlife
ATTACH;FMTTYPE=image/jpeg:https://whatsnewpasco.com/wp-content/uploads/2026/03/645584013_1255969950057179_6760376663140341891_n.jpg
END:VEVENT
END:VCALENDAR