BEGIN:VCALENDAR
VERSION:2.0
PRODID:-//What&#039;s New Pasco - ECPv6.15.20//NONSGML v1.0//EN
CALSCALE:GREGORIAN
METHOD:PUBLISH
X-ORIGINAL-URL:https://whatsnewpasco.com
X-WR-CALDESC:Events for What&#039;s New Pasco
REFRESH-INTERVAL;VALUE=DURATION:PT1H
X-Robots-Tag:noindex
X-PUBLISHED-TTL:PT1H
BEGIN:VTIMEZONE
TZID:America/New_York
BEGIN:DAYLIGHT
TZOFFSETFROM:-0500
TZOFFSETTO:-0400
TZNAME:EDT
DTSTART:20250309T070000
END:DAYLIGHT
BEGIN:STANDARD
TZOFFSETFROM:-0400
TZOFFSETTO:-0500
TZNAME:EST
DTSTART:20251102T060000
END:STANDARD
BEGIN:DAYLIGHT
TZOFFSETFROM:-0500
TZOFFSETTO:-0400
TZNAME:EDT
DTSTART:20260308T070000
END:DAYLIGHT
BEGIN:STANDARD
TZOFFSETFROM:-0400
TZOFFSETTO:-0500
TZNAME:EST
DTSTART:20261101T060000
END:STANDARD
BEGIN:DAYLIGHT
TZOFFSETFROM:-0500
TZOFFSETTO:-0400
TZNAME:EDT
DTSTART:20270314T070000
END:DAYLIGHT
BEGIN:STANDARD
TZOFFSETFROM:-0400
TZOFFSETTO:-0500
TZNAME:EST
DTSTART:20271107T060000
END:STANDARD
END:VTIMEZONE
BEGIN:VEVENT
DTSTART;TZID=America/New_York:20260411T183000
DTEND;TZID=America/New_York:20260411T210000
DTSTAMP:20260423T042753
CREATED:20260402T114702Z
LAST-MODIFIED:20260402T114702Z
UID:10002475-1775932200-1775941200@whatsnewpasco.com
SUMMARY:The Square Spectacular: Grand Re-Opening of Railroad Square & Cavalaire Square
DESCRIPTION:Join us for The Square Spectacular: The Grand Re-Opening of Railroad Square & Cavalaire Square in Downtown New Port Richey!  \nCelebrate the completion of this exciting downtown enhancement with a full weekend of entertainment\, community fun\, and special guests as we officially welcome the community back to these revitalized gathering spaces. \nSaturday\, April 11 6:30PMThe celebration kicks off with a Ribbon Cutting Ceremony at 6:30PM\, followed by a live performance at 7PM by Phoenix5. The evening will also feature special guest DJ Prince\, creating an energetic atmosphere as the community gathers to experience the newly reopened squares. \nSunday\, April 12 11AM-3PMBring the whole family for Family Square-A-Bration! Enjoy The Magic of Cesar Domico\, a lively dance party\, special guests\, photo opportunities\, and non-stop family fun and surprises throughout the day. \nCome explore the refreshed Railroad Square and Cavalaire Square\, reconnect with friends and neighbors\, and celebrate this exciting milestone for Downtown New Port Richey. \n Downtown New Port Richey Free and open to the public \nFree parking is available throughout Downtown New Port Richey\, and the Downtown Area Roundabout Trolley (a.k.a. DART) operates Thursday through Sunday. For hours and parking location information\, visit www.cityofnewportrichey.org/parking.
URL:https://whatsnewpasco.com/event/the-square-spectacular-grand-re-opening-of-railroad-square/2026-04-11/
LOCATION:Railroad Square Downtown New Port Richey\, 5760 Main St\, New Port Richey\, 34652\, United States
CATEGORIES:Family Fun,Free
ATTACH;FMTTYPE=image/jpeg:https://whatsnewpasco.com/wp-content/uploads/2026/04/649643124_1262658156055025_557505497186737519_n.jpg
END:VEVENT
BEGIN:VEVENT
DTSTART;TZID=America/New_York:20260411T190000
DTEND;TZID=America/New_York:20260411T230000
DTSTAMP:20260423T042753
CREATED:20260402T125757Z
LAST-MODIFIED:20260408T163238Z
UID:10003579-1775934000-1775948400@whatsnewpasco.com
SUMMARY:Caribbean Night @ KRATE
DESCRIPTION:Join us for Caribbean Night at KRATE!!! \nEvery 2nd Saturday of the Month! 7 PM – 11 PM \nDJ Q Spins the Best Reggae\, Soca\, and Calypso Music  Stage \n– 30+ Different Restaurants to Choose From– Authentic Jamaican Cuisine @ Rhythm Pon De Grill– Over a Dozen Retail Shops– Some of the Most Unique Bars in the Bay Area– Dog Friendly– Family Friendly – Playground for the Kids– Lawn Chairs Welcome– No Outside Food or Drinks Allowed– Plenty of Free Parking Available– No Cover \nGood Vibes w/ Great People
URL:https://whatsnewpasco.com/event/caribbean-night-krate/2026-04-11/
LOCATION:KRATE at The Grove\, 5817 Goldview Pkwy\, Wesley Chapel\, FL\, 33544\, United States
CATEGORIES:Festivals & Markets,Food & Drinks,Free,Live Music,Nightlife
ATTACH;FMTTYPE=image/jpeg:https://whatsnewpasco.com/wp-content/uploads/2026/04/627242139_1475138201284690_7880859568268648765_n.jpg
END:VEVENT
BEGIN:VEVENT
DTSTART;TZID=America/New_York:20260412T110000
DTEND;TZID=America/New_York:20260412T150000
DTSTAMP:20260423T042753
CREATED:20260402T114702Z
LAST-MODIFIED:20260402T114702Z
UID:10003176-1775991600-1776006000@whatsnewpasco.com
SUMMARY:The Square Spectacular: Grand Re-Opening of Railroad Square & Cavalaire Square
DESCRIPTION:Join us for The Square Spectacular: The Grand Re-Opening of Railroad Square & Cavalaire Square in Downtown New Port Richey!  \nCelebrate the completion of this exciting downtown enhancement with a full weekend of entertainment\, community fun\, and special guests as we officially welcome the community back to these revitalized gathering spaces. \nSaturday\, April 11 6:30PMThe celebration kicks off with a Ribbon Cutting Ceremony at 6:30PM\, followed by a live performance at 7PM by Phoenix5. The evening will also feature special guest DJ Prince\, creating an energetic atmosphere as the community gathers to experience the newly reopened squares. \nSunday\, April 12 11AM-3PMBring the whole family for Family Square-A-Bration! Enjoy The Magic of Cesar Domico\, a lively dance party\, special guests\, photo opportunities\, and non-stop family fun and surprises throughout the day. \nCome explore the refreshed Railroad Square and Cavalaire Square\, reconnect with friends and neighbors\, and celebrate this exciting milestone for Downtown New Port Richey. \n Downtown New Port Richey Free and open to the public \nFree parking is available throughout Downtown New Port Richey\, and the Downtown Area Roundabout Trolley (a.k.a. DART) operates Thursday through Sunday. For hours and parking location information\, visit www.cityofnewportrichey.org/parking.
URL:https://whatsnewpasco.com/event/the-square-spectacular-grand-re-opening-of-railroad-square/2026-04-12/
LOCATION:Railroad Square Downtown New Port Richey\, 5760 Main St\, New Port Richey\, 34652\, United States
CATEGORIES:Family Fun,Free
ATTACH;FMTTYPE=image/jpeg:https://whatsnewpasco.com/wp-content/uploads/2026/04/649643124_1262658156055025_557505497186737519_n.jpg
END:VEVENT
END:VCALENDAR