BEGIN:VCALENDAR
VERSION:2.0
PRODID:-//What&#039;s New Pasco - ECPv6.15.20//NONSGML v1.0//EN
CALSCALE:GREGORIAN
METHOD:PUBLISH
X-ORIGINAL-URL:https://whatsnewpasco.com
X-WR-CALDESC:Events for What&#039;s New Pasco
REFRESH-INTERVAL;VALUE=DURATION:PT1H
X-Robots-Tag:noindex
X-PUBLISHED-TTL:PT1H
BEGIN:VTIMEZONE
TZID:America/New_York
BEGIN:DAYLIGHT
TZOFFSETFROM:-0500
TZOFFSETTO:-0400
TZNAME:EDT
DTSTART:20250309T070000
END:DAYLIGHT
BEGIN:STANDARD
TZOFFSETFROM:-0400
TZOFFSETTO:-0500
TZNAME:EST
DTSTART:20251102T060000
END:STANDARD
BEGIN:DAYLIGHT
TZOFFSETFROM:-0500
TZOFFSETTO:-0400
TZNAME:EDT
DTSTART:20260308T070000
END:DAYLIGHT
BEGIN:STANDARD
TZOFFSETFROM:-0400
TZOFFSETTO:-0500
TZNAME:EST
DTSTART:20261101T060000
END:STANDARD
BEGIN:DAYLIGHT
TZOFFSETFROM:-0500
TZOFFSETTO:-0400
TZNAME:EDT
DTSTART:20270314T070000
END:DAYLIGHT
BEGIN:STANDARD
TZOFFSETFROM:-0400
TZOFFSETTO:-0500
TZNAME:EST
DTSTART:20271107T060000
END:STANDARD
END:VTIMEZONE
BEGIN:VEVENT
DTSTART;TZID=America/New_York:20260312T090000
DTEND;TZID=America/New_York:20260312T170000
DTSTAMP:20260423T225828
CREATED:20260318T224002Z
LAST-MODIFIED:20260318T224002Z
UID:10000353-1773306000-1773334800@whatsnewpasco.com
SUMMARY:Music Under the Stars - Neil Dover Band - Presented by Dillard's
DESCRIPTION:Music Under the Stars event at The Shops at Wiregrass\, officially listed for March 12\, 2026.
URL:https://whatsnewpasco.com/event/music-under-the-stars-neil-dover-band-presented-by-dillards-2/
LOCATION:The Shops at Wiregrass\, 28211 Paseo Drive\, Wesley Chapel\, FL\, 33543\, United States
CATEGORIES:Festivals & Markets
END:VEVENT
BEGIN:VEVENT
DTSTART;TZID=America/New_York:20260314T090000
DTEND;TZID=America/New_York:20260314T170000
DTSTAMP:20260423T225828
CREATED:20260318T224001Z
LAST-MODIFIED:20260318T224001Z
UID:10000360-1773478800-1773507600@whatsnewpasco.com
SUMMARY:Absolute Queen – A Mind-Blowing Tribute to Rock Legends
DESCRIPTION:Queen tribute concert at Richey Suncoast Theatre with performances at 5:00 PM and 8:00 PM.
URL:https://whatsnewpasco.com/event/absolute-queen-a-mind-blowing-tribute-to-rock-legends-2/
LOCATION:Richey Suncoast Theatre\, 6237 Grand Boulevard\, New\, Port\, United States
CATEGORIES:Festivals & Markets
END:VEVENT
BEGIN:VEVENT
DTSTART;TZID=America/New_York:20260314T090000
DTEND;TZID=America/New_York:20260314T170000
DTSTAMP:20260423T225828
CREATED:20260318T224001Z
LAST-MODIFIED:20260318T224001Z
UID:10000362-1773478800-1773507600@whatsnewpasco.com
SUMMARY:Caribbean Night at The KRATE
DESCRIPTION:Second Saturday Caribbean-themed night event at KRATE.
URL:https://whatsnewpasco.com/event/caribbean-night-at-the-krate-2/
LOCATION:KRATE at The Grove\, 5817 Goldview Pkwy\, Wesley Chapel\, FL\, 33544\, United States
CATEGORIES:Festivals & Markets
END:VEVENT
BEGIN:VEVENT
DTSTART;TZID=America/New_York:20260314T090000
DTEND;TZID=America/New_York:20260314T170000
DTSTAMP:20260423T225828
CREATED:20260318T224001Z
LAST-MODIFIED:20260318T224001Z
UID:10000363-1773478800-1773507600@whatsnewpasco.com
SUMMARY:Free Concert in the Park: Tribute to Bobby Weir ft. Dead Set Florida
DESCRIPTION:Community live concert event listed on Florida’s Sports Coast events page (5:00 PM–10:00 PM).
URL:https://whatsnewpasco.com/event/free-concert-in-the-park-tribute-to-bobby-weir-ft-dead-set-florida-2/
LOCATION:Sims Park\, 5012 Robert McCraney St\, New Port Richey\, FL\, 34652\, United States
CATEGORIES:Festivals & Markets
END:VEVENT
BEGIN:VEVENT
DTSTART;TZID=America/New_York:20260314T090000
DTEND;TZID=America/New_York:20260315T170000
DTSTAMP:20260423T225828
CREATED:20260318T223950Z
LAST-MODIFIED:20260318T223950Z
UID:10000367-1773478800-1773594000@whatsnewpasco.com
SUMMARY:St. Paddy's Street Party Presented by The Brass Tap
DESCRIPTION:Official Wiregrass venue listing for The Brass Tap St. Paddy’s street party weekend with drinks\, music\, and festival activity.
URL:https://whatsnewpasco.com/event/st-paddys-street-party-presented-by-the-brass-tap-2/
LOCATION:The Brass Tap / The Shops at Wiregrass\, Wesley Chapel\, FL\, United States
CATEGORIES:Festivals & Markets,Food & Drinks
END:VEVENT
END:VCALENDAR