BEGIN:VCALENDAR
VERSION:2.0
PRODID:-//What&#039;s New Pasco - ECPv6.15.20//NONSGML v1.0//EN
CALSCALE:GREGORIAN
METHOD:PUBLISH
X-WR-CALNAME:What&#039;s New Pasco
X-ORIGINAL-URL:https://whatsnewpasco.com
X-WR-CALDESC:Events for What&#039;s New Pasco
REFRESH-INTERVAL;VALUE=DURATION:PT1H
X-Robots-Tag:noindex
X-PUBLISHED-TTL:PT1H
BEGIN:VTIMEZONE
TZID:America/New_York
BEGIN:DAYLIGHT
TZOFFSETFROM:-0500
TZOFFSETTO:-0400
TZNAME:EDT
DTSTART:20250309T070000
END:DAYLIGHT
BEGIN:STANDARD
TZOFFSETFROM:-0400
TZOFFSETTO:-0500
TZNAME:EST
DTSTART:20251102T060000
END:STANDARD
BEGIN:DAYLIGHT
TZOFFSETFROM:-0500
TZOFFSETTO:-0400
TZNAME:EDT
DTSTART:20260308T070000
END:DAYLIGHT
BEGIN:STANDARD
TZOFFSETFROM:-0400
TZOFFSETTO:-0500
TZNAME:EST
DTSTART:20261101T060000
END:STANDARD
BEGIN:DAYLIGHT
TZOFFSETFROM:-0500
TZOFFSETTO:-0400
TZNAME:EDT
DTSTART:20270314T070000
END:DAYLIGHT
BEGIN:STANDARD
TZOFFSETFROM:-0400
TZOFFSETTO:-0500
TZNAME:EST
DTSTART:20271107T060000
END:STANDARD
END:VTIMEZONE
BEGIN:VEVENT
DTSTART;VALUE=DATE:20260320
DTEND;VALUE=DATE:20260329
DTSTAMP:20260423T061130
CREATED:20260318T171639Z
LAST-MODIFIED:20260319T155923Z
UID:10000320-1773964800-1774742399@whatsnewpasco.com
SUMMARY:2026 Chasco Fiesta
DESCRIPTION:Chasco Fiesta is one of Pasco County’s most beloved annual traditions — a nine-day spring festival celebrating the cultural heritage of the Pithlachascotee River and the surrounding New Port Richey community. The festival features live music concerts\, a grand street parade\, Native American cultural programming\, a boat parade down the Pithlachascotee River\, a classic car and truck show\, carnival rides\, and a diverse lineup of family-friendly activities across Sims Park and downtown venues. \n\n\n\nFestival Highlights\n\n\n\n\nParades – Fiesta Street Parade on March 21 and Flagship Bank Boat Parade on March 28\nLive Music – Nightly concerts including Molly Hatchet\, Cassidy Daniels with John Carter Cash\, The Black Honkeys\, Pat Travers Band\, Sean Chambers\, and more\nNative American Festival – Nine-day cultural village with dance exhibitions\, drumming\, flute performances\, and artisan vendors\nCar\, Truck & Bike Show – 27th annual show hosted by Gulf Side Corvette Club on March 22\nCarnival – Midway rides and attractions throughout festival week\nRiver Spirit Play – Historical performance celebrating the history of New Port Richey\nGolf Tournament – Annual Chasco Fiesta Golf Tournament at Seven Springs Golf and Country Club (March 26)\n\n\n\n\nMost general festival activities at Sims Park are free. Select evening concerts require tickets\, ranging from $5 for daily festival entry to $20–$30 for premium reserved seating at national acts. Children 12 and under are free for most events. \n\n\n\nFor the full schedule\, ticketing\, and event details\, visit chascofiesta.com.
URL:https://whatsnewpasco.com/event/2026-chasco-fiesta-2/
LOCATION:Sims Park\, 5012 Robert McCraney St\, New Port Richey\, FL\, 34652\, United States
CATEGORIES:Family Fun,Festivals & Markets,Free
ATTACH;FMTTYPE=image/png:https://whatsnewpasco.com/wp-content/uploads/2026/03/chasco-fiesta-2026.png
END:VEVENT
BEGIN:VEVENT
DTSTART;TZID=America/New_York:20260320T103000
DTEND;TZID=America/New_York:20260320T123000
DTSTAMP:20260423T061130
CREATED:20260319T022739Z
LAST-MODIFIED:20260319T022739Z
UID:10000662-1774002600-1774009800@whatsnewpasco.com
SUMMARY:Heritage Park's Little Bunny Bash
DESCRIPTION:Hop into Spring with us for a fun-filled morning that the whole family will enjoy! Bring your baskets\, your smiles\, and your little ones for an egg-stra special celebration at Heritage Park!\n\n\nFamilies can enjoy:\nEgg hunts (age-appropriate)Spring Crafts Meet & greet the Easter BunnyPhoto opportunities Music\, dancing\, and games Sweet treats & more\n (Ages 5 & Under)\n\n\n March 20\, 2026\n Time: 10:30AM – 12:30PM\n Admission: $2.00 Per Child (CASH ONLY)\n\n\nLocation: Land O’ Lakes Heritage Park5401 Land O’ Lakes Blvd\, Land O’ Lakes Lakes FL 34639\n\n\nFor questions or additional information\, call our office at 813-929-1229.
URL:https://whatsnewpasco.com/event/heritage-parks-little-bunny-bash/
LOCATION:Heritage Park (Land O’ Lakes Community Center)\, 5401 Land O' lakes Blvd (Hwy 41)\, Land O' Lakes\, FL\, 34639\, United States
CATEGORIES:Family Fun,Festivals & Markets
ATTACH;FMTTYPE=image/jpeg:https://whatsnewpasco.com/wp-content/uploads/2026/03/wp_img_1482262144412527752.jpg
END:VEVENT
BEGIN:VEVENT
DTSTART;TZID=America/New_York:20260320T180000
DTEND;TZID=America/New_York:20260320T220000
DTSTAMP:20260423T061130
CREATED:20260318T203123Z
LAST-MODIFIED:20260319T161933Z
UID:10000325-1774029600-1774044000@whatsnewpasco.com
SUMMARY:Chasco Fiesta – Spirit FM Family Night feat. Jordan St. Cyr
DESCRIPTION:Spirit FM Family Night kicks off Chasco Fiesta 2026 with faith-centered\, family-friendly live music. Featuring Nashville-based Christian recording artist Jordan St. Cyr. Gates open 5:00 PM\, show starts 6:00 PM. Presented by Spirit FM.
URL:https://whatsnewpasco.com/event/chasco-fiesta-spirit-fm-family-night-feat-jordan-st-cyr/
LOCATION:Sims Park\, 5012 Robert McCraney St\, New Port Richey\, FL\, 34652\, United States
CATEGORIES:Family Fun,Festivals & Markets
ATTACH;FMTTYPE=image/png:https://whatsnewpasco.com/wp-content/uploads/2026/03/chasco_img_1773856011565042667.png
END:VEVENT
BEGIN:VEVENT
DTSTART;TZID=America/New_York:20260320T183000
DTEND;TZID=America/New_York:20260320T220000
DTSTAMP:20260423T061130
CREATED:20260319T023636Z
LAST-MODIFIED:20260319T023636Z
UID:10000661-1774031400-1774044000@whatsnewpasco.com
SUMMARY:Country Skate Night
DESCRIPTION:Grab your boots and get over to the Locomo on Friday\, March 20th. Wear your cowboy hat & spin the wheel for a chance to win a prize! Country skate music all night long!
URL:https://whatsnewpasco.com/event/country-skate-night/
LOCATION:The Locomo\, 10451 County Line Rd\, Spring Hill\, FL\, 34609\, United States
CATEGORIES:Free
ATTACH;FMTTYPE=image/jpeg:https://whatsnewpasco.com/wp-content/uploads/2026/03/wp_img_7536094515414480491.jpg
END:VEVENT
BEGIN:VEVENT
DTSTART;TZID=America/New_York:20260320T190000
DTEND;TZID=America/New_York:20260320T210000
DTSTAMP:20260423T061130
CREATED:20260319T024411Z
LAST-MODIFIED:20260319T024411Z
UID:10000658-1774033200-1774040400@whatsnewpasco.com
SUMMARY:3rd Friday Karaoke Nights (Wiregrass)
DESCRIPTION:Bring your voice\, your friends\, and your best stage presence to Karaoke Nights at Center Court. Held every third Friday of the month from 7 to 9 PM\, this lively evening invites guests to sing along to their favorite hits while enjoying light bites and drinks from nearby restaurants. \nFiner Details: \n\nKaraoke is free to participate in\nNo outside coolers or alcohol permitted\nLawn chairs are encouraged\nSong sign ups take place onsite at the event
URL:https://whatsnewpasco.com/event/3rd-friday-karaoke-nights-wiregrass-2/2026-03-20/
LOCATION:The Shops at Wiregrass\, 28211 Paseo Drive\, Wesley Chapel\, FL\, 33543\, United States
CATEGORIES:Family Fun,Festivals & Markets,Free
END:VEVENT
BEGIN:VEVENT
DTSTART;TZID=America/New_York:20260320T190000
DTEND;TZID=America/New_York:20260320T230000
DTSTAMP:20260423T061130
CREATED:20260319T025124Z
LAST-MODIFIED:20260319T025325Z
UID:10000659-1774033200-1774047600@whatsnewpasco.com
SUMMARY:3rd Fridays - Keeping It Country @ Krate
DESCRIPTION:Every 3rd Friday We bring You… Country Music Night @ KRATE at the Grove!\nLive Entertainment! All of Your Favorite Country Music!\nLine Dance Lessons by Mikaya\nDJ MOSS playing All of your favorite Country Hits!\n\n\n30+ Different Restaurants to Choose From\nOver a Dozen Retail Shops\nSome of the Most Unique Bars in the Bay Area\nDog Friendly\nFamily Friendly\nPlayground for the Kids\nLawn Chairs Welcome\nNo Outside Food or Drinks Allowed\nNo Cover\nFree Parking\n\n\nDust Off them Boots & Come Party w/ Us!\nLife is Great @ KRATE
URL:https://whatsnewpasco.com/event/3rd-fridays-keeping-it-country-krate-2/2026-03-20/
LOCATION:KRATE at The Grove\, 5817 Goldview Pkwy\, Wesley Chapel\, FL\, 33544\, United States
CATEGORIES:Festivals & Markets,Free
ATTACH;FMTTYPE=image/png:https://whatsnewpasco.com/wp-content/uploads/2026/03/logo-5001.png
END:VEVENT
BEGIN:VEVENT
DTSTART;TZID=America/New_York:20260320T200000
DTEND;TZID=America/New_York:20260320T220000
DTSTAMP:20260423T061130
CREATED:20260319T014014Z
LAST-MODIFIED:20260319T014014Z
UID:10000674-1774036800-1774044000@whatsnewpasco.com
SUMMARY:Game Night (8PM ET)
DESCRIPTION:Bring your competitive spirit! Join us at B&B with DJ Boss K for another Game Night in the Marquee Lounge! \nBoard games\, party games\, great music\, a full bar\, plus YOU! It’ll be a night to remember! \nWe go live at 8PM on Friday\, March 20\, so tag your crew & we’ll see you there! \n#BBTheatres #GameNight #Bar
URL:https://whatsnewpasco.com/event/game-night-8pm-et/2026-03-20/
LOCATION:B&B Theatres Wesley Chapel – The Grove 16\, 6333 Wesley Grove Blvd\, Wesley Chapel\, FL\, 33544\, United States
CATEGORIES:Free
ATTACH;FMTTYPE=image/jpeg:https://whatsnewpasco.com/wp-content/uploads/2026/03/wp_img_114131290981755989.jpg
END:VEVENT
END:VCALENDAR