BEGIN:VCALENDAR
VERSION:2.0
PRODID:-//What&#039;s New Pasco - ECPv6.15.20//NONSGML v1.0//EN
CALSCALE:GREGORIAN
METHOD:PUBLISH
X-ORIGINAL-URL:https://whatsnewpasco.com
X-WR-CALDESC:Events for What&#039;s New Pasco
REFRESH-INTERVAL;VALUE=DURATION:PT1H
X-Robots-Tag:noindex
X-PUBLISHED-TTL:PT1H
BEGIN:VTIMEZONE
TZID:America/New_York
BEGIN:DAYLIGHT
TZOFFSETFROM:-0500
TZOFFSETTO:-0400
TZNAME:EDT
DTSTART:20250309T070000
END:DAYLIGHT
BEGIN:STANDARD
TZOFFSETFROM:-0400
TZOFFSETTO:-0500
TZNAME:EST
DTSTART:20251102T060000
END:STANDARD
BEGIN:DAYLIGHT
TZOFFSETFROM:-0500
TZOFFSETTO:-0400
TZNAME:EDT
DTSTART:20260308T070000
END:DAYLIGHT
BEGIN:STANDARD
TZOFFSETFROM:-0400
TZOFFSETTO:-0500
TZNAME:EST
DTSTART:20261101T060000
END:STANDARD
BEGIN:DAYLIGHT
TZOFFSETFROM:-0500
TZOFFSETTO:-0400
TZNAME:EDT
DTSTART:20270314T070000
END:DAYLIGHT
BEGIN:STANDARD
TZOFFSETFROM:-0400
TZOFFSETTO:-0500
TZNAME:EST
DTSTART:20271107T060000
END:STANDARD
END:VTIMEZONE
BEGIN:VEVENT
DTSTART;TZID=America/New_York:20260414T140000
DTEND;TZID=America/New_York:20260414T150000
DTSTAMP:20260422T202235
CREATED:20260402T113358Z
LAST-MODIFIED:20260402T113358Z
UID:10002481-1776175200-1776178800@whatsnewpasco.com
SUMMARY:Lichens
DESCRIPTION:Overview\n\n\nLook! Up in the tree! It’s an alga! It’s a fungus! It’s both! It’s a super-lichen! \n\n\n\nCome discover the fascinating world of lichens during a hands-on presentation that will be of interest to students and adults. These amazing ‘organisms’ are combinations of fungal tissues embedded with algal cells. Lichens exist in a symbiotic relationship known as mutualism in which both member species benefit from the partnership. You may be surprised to learn who was one of the first people to discover what lichens really are. Examine the wide variety of lichen colors\, shapes\, growth patterns\, and even ‘behaviors.’ Learn about lichens’ ecological importance to other members of their habitat. There’s even an economic importance to humans as they may use lichens in some of their hobbies.
URL:https://whatsnewpasco.com/event/lichens/
LOCATION:New River Library\, 34043 State Road 54\, Wesley Chapel\, FL\, 33543\, United States
CATEGORIES:Festivals & Markets
ATTACH;FMTTYPE=image/webp:https://whatsnewpasco.com/wp-content/uploads/2026/04/image-6.webp
END:VEVENT
END:VCALENDAR