BEGIN:VCALENDAR
VERSION:2.0
PRODID:-//What&#039;s New Pasco - ECPv6.15.20//NONSGML v1.0//EN
CALSCALE:GREGORIAN
METHOD:PUBLISH
X-WR-CALNAME:What&#039;s New Pasco
X-ORIGINAL-URL:https://whatsnewpasco.com
X-WR-CALDESC:Events for What&#039;s New Pasco
REFRESH-INTERVAL;VALUE=DURATION:PT1H
X-Robots-Tag:noindex
X-PUBLISHED-TTL:PT1H
BEGIN:VTIMEZONE
TZID:America/New_York
BEGIN:DAYLIGHT
TZOFFSETFROM:-0500
TZOFFSETTO:-0400
TZNAME:EDT
DTSTART:20250309T070000
END:DAYLIGHT
BEGIN:STANDARD
TZOFFSETFROM:-0400
TZOFFSETTO:-0500
TZNAME:EST
DTSTART:20251102T060000
END:STANDARD
BEGIN:DAYLIGHT
TZOFFSETFROM:-0500
TZOFFSETTO:-0400
TZNAME:EDT
DTSTART:20260308T070000
END:DAYLIGHT
BEGIN:STANDARD
TZOFFSETFROM:-0400
TZOFFSETTO:-0500
TZNAME:EST
DTSTART:20261101T060000
END:STANDARD
BEGIN:DAYLIGHT
TZOFFSETFROM:-0500
TZOFFSETTO:-0400
TZNAME:EDT
DTSTART:20270314T070000
END:DAYLIGHT
BEGIN:STANDARD
TZOFFSETFROM:-0400
TZOFFSETTO:-0500
TZNAME:EST
DTSTART:20271107T060000
END:STANDARD
END:VTIMEZONE
BEGIN:VEVENT
DTSTART;TZID=America/New_York:20260404T100000
DTEND;TZID=America/New_York:20260404T160000
DTSTAMP:20260421T223326
CREATED:20260402T120836Z
LAST-MODIFIED:20260402T120836Z
UID:10003578-1775296800-1775318400@whatsnewpasco.com
SUMMARY:Easter Eggstravaganza at Dade City Farms
DESCRIPTION:Celebrate Easter with us at our Eggstravaganza! Bring your Easter basket for a fun egg hunt\, then turn in your collected eggs for a goodie bag filled with prizes and candy! Meet our adorable baby farm animals\, enjoy hayrides\, and jump like a bunny on our giant jump pad. Visit the petting zoo\, indulge in tasty treats from our food trucks\, and capture the fun with Easter-themed photo spots for the perfect family pictures. Don’t forget to enjoy a visit with the Easter Bunny! It’s a day full of springtime joy and memories for everyone! \nEaster Egg Hunts at 11 AM & 1 PM  | Visit the Easter Bunny 11 AM – 2 PM\nGates open at 10:00 AM. Please allow plenty of time for parking and check-in if you plan to participate in the egg hunt. For faster check-in\, we encourage purchasing tickets online.\nIncluded Activities: \n\nJump Pad\nHay Rides\nPlayground with Slides\nSand Mountain Climb\nPetting Zoo\nBubble Station\nTire Sand Pit\nConcession barn\nFood Trucks\nLive music\n\nAdditional Cost Activities: \n\nGem Mining\nPony Rides\nFeed for petting zoo animals\n\nImportant Information: \n\nPet Policy: Although we love our 4 legged friends\, only service dogs will be permitted on the farm.\nNo outside food or beverages are allowed.\n\nCost: \n🎟️Buy tickets online for easy entry🎟️ \nAdvance online tickets: $12 adults | $9 kids (ages 3–12) \n• Day-of tickets (online or at the gate): $14 adults | $11 kids \n• Kids 2 & under are FREE \nFor faster entry\, we recommend purchasing tickets online. \nParking on the premises is FREE! \nFor groups of 10 or more\, please email us or call us at 772-215-6530 to receive a discounted rate. \nEmail us to schedule your group for weekday fun!
URL:https://whatsnewpasco.com/event/easter-eggstravaganza-dade-city-farms/
LOCATION:Dade City Farms\, 17143 Lake Iola Rd\, Dade City\, FL\, 33523\, United States
CATEGORIES:Family Fun,Festivals & Markets,Food & Drinks
END:VEVENT
END:VCALENDAR