BEGIN:VCALENDAR
VERSION:2.0
PRODID:-//What&#039;s New Pasco - ECPv6.15.20//NONSGML v1.0//EN
CALSCALE:GREGORIAN
METHOD:PUBLISH
X-WR-CALNAME:What&#039;s New Pasco
X-ORIGINAL-URL:https://whatsnewpasco.com
X-WR-CALDESC:Events for What&#039;s New Pasco
REFRESH-INTERVAL;VALUE=DURATION:PT1H
X-Robots-Tag:noindex
X-PUBLISHED-TTL:PT1H
BEGIN:VTIMEZONE
TZID:America/New_York
BEGIN:DAYLIGHT
TZOFFSETFROM:-0500
TZOFFSETTO:-0400
TZNAME:EDT
DTSTART:20250309T070000
END:DAYLIGHT
BEGIN:STANDARD
TZOFFSETFROM:-0400
TZOFFSETTO:-0500
TZNAME:EST
DTSTART:20251102T060000
END:STANDARD
BEGIN:DAYLIGHT
TZOFFSETFROM:-0500
TZOFFSETTO:-0400
TZNAME:EDT
DTSTART:20260308T070000
END:DAYLIGHT
BEGIN:STANDARD
TZOFFSETFROM:-0400
TZOFFSETTO:-0500
TZNAME:EST
DTSTART:20261101T060000
END:STANDARD
BEGIN:DAYLIGHT
TZOFFSETFROM:-0500
TZOFFSETTO:-0400
TZNAME:EDT
DTSTART:20270314T070000
END:DAYLIGHT
BEGIN:STANDARD
TZOFFSETFROM:-0400
TZOFFSETTO:-0500
TZNAME:EST
DTSTART:20271107T060000
END:STANDARD
END:VTIMEZONE
BEGIN:VEVENT
DTSTART;TZID=America/New_York:20260315T090000
DTEND;TZID=America/New_York:20260315T170000
DTSTAMP:20260422T060924
CREATED:20260318T223950Z
LAST-MODIFIED:20260318T223950Z
UID:10000371-1773565200-1773594000@whatsnewpasco.com
SUMMARY:Bible Study
DESCRIPTION:Weekly Bible study session held after church services with Holy Communion at Shepherd of the Hills Lutheran Church.
URL:https://whatsnewpasco.com/event/bible-study-2/
LOCATION:Shepherd of the Hills Lutheran Church\, 37015 Orange Valley Lane\, Dade\, City\, United States
CATEGORIES:Classes & Courses,Free
END:VEVENT
BEGIN:VEVENT
DTSTART;TZID=America/New_York:20260316T090000
DTEND;TZID=America/New_York:20260316T170000
DTSTAMP:20260422T060924
CREATED:20260318T223950Z
LAST-MODIFIED:20260318T223950Z
UID:10000375-1773651600-1773680400@whatsnewpasco.com
SUMMARY:Empowered GutWise Collective
DESCRIPTION:Virtual gut-health program kickoff focused on food\, hormones\, and whole-body healing; listing describes a 6-week program beginning March 16.
URL:https://whatsnewpasco.com/event/empowered-gutwise-collective-2/
LOCATION:Virtual\, United States
CATEGORIES:Classes & Courses
END:VEVENT
BEGIN:VEVENT
DTSTART;TZID=America/New_York:20260316T090000
DTEND;TZID=America/New_York:20260316T170000
DTSTAMP:20260422T060924
CREATED:20260318T223950Z
LAST-MODIFIED:20260318T223950Z
UID:10000381-1773651600-1773680400@whatsnewpasco.com
SUMMARY:Visual Arts Class with Prodigy Cultural Arts for Youth
DESCRIPTION:Free weekly visual-arts classes for youth with instructor Junior Polo at Centennial Park Library\, with afternoon session options.
URL:https://whatsnewpasco.com/event/visual-arts-class-with-prodigy-cultural-arts-for-youth-2/
LOCATION:Centennial Park Library\, 5740 Moog Rd.\, Holiday\, United States
CATEGORIES:Classes & Courses,Festivals & Markets,Free
END:VEVENT
BEGIN:VEVENT
DTSTART;TZID=America/New_York:20260317T090000
DTEND;TZID=America/New_York:20260317T170000
DTSTAMP:20260422T060924
CREATED:20260318T223949Z
LAST-MODIFIED:20260318T223949Z
UID:10000388-1773738000-1773766800@whatsnewpasco.com
SUMMARY:Creating a Pollinator Garden...Wherever You Live!
DESCRIPTION:Come learn about creating a pollinator garden no matter where you call home.
URL:https://whatsnewpasco.com/event/creating-a-pollinator-garden-wherever-you-live/
LOCATION:FL
CATEGORIES:Classes & Courses
END:VEVENT
BEGIN:VEVENT
DTSTART;TZID=America/New_York:20260319T083000
DTEND;TZID=America/New_York:20260319T160000
DTSTAMP:20260422T060924
CREATED:20260319T031159Z
LAST-MODIFIED:20260319T031159Z
UID:10000655-1773909000-1773936000@whatsnewpasco.com
SUMMARY:6th Annual GROW Pasco
DESCRIPTION:SMARTstart is hosting the 6th Annual GROW Pasco event to help educate business owners throughout Pasco County and provide an environment to network with like-minded entrepreneurs. Join our entrepreneurial community for 15 breakout sessions led by over 30 business professionals as we explore healthy mindsets to build and thrive. General Admission: $65 per person Registration includes breakfast\, access to breakout sessions\, keynote lunch presentation\, and networking with fellow entrepreneurs.
URL:https://whatsnewpasco.com/event/6th-annual-grow-pasco-2/
LOCATION:Saint Leo University Wellness Center\, 12338 Priory Cir\, St. Leo\, FL\, 33676\, United States
CATEGORIES:Classes & Courses
ATTACH;FMTTYPE=image/png:https://whatsnewpasco.com/wp-content/uploads/2026/03/Untitled_design_2_1.png
END:VEVENT
BEGIN:VEVENT
DTSTART;TZID=America/New_York:20260319T090000
DTEND;TZID=America/New_York:20260416T170000
DTSTAMP:20260422T060924
CREATED:20260319T030045Z
LAST-MODIFIED:20260319T031117Z
UID:10000657-1773910800-1776358800@whatsnewpasco.com
SUMMARY:Pinecrest Career Expo
DESCRIPTION:Calling all passionate educators! \nPinecrest Academy Wesley Chapel is hosting the PAWC Career Expo and inviting talented teachers to explore opportunities for the 2026–2027 school year. Meet the leadership team\, learn about open positions across our Pre-K through 12 campus\, and discover what makes Pinecrest a supportive\, student-centered place to grow your career. \nWhether you are a new graduate or an experienced educator\, this is a great opportunity to connect and learn how you can make an impact in the classroom. \nThursday\, March 19Thursday\, April 166:00 PM – 8:00 PM33347 State Road 54\, Wesley Chapel\, FL \nApplicants must hold a Bachelor’s Degree in Education or a related field and be actively pursuing teacher certification.
URL:https://whatsnewpasco.com/event/pinecrest-career-expo-2/
LOCATION:Pinecrest Academy Wesley Chapel\, 33347 State Road 54\, Wesley Chapel\, FL\, 33543\, United States
CATEGORIES:Free
ATTACH;FMTTYPE=image/png:https://whatsnewpasco.com/wp-content/uploads/2026/03/footer_logo_v2.png
END:VEVENT
BEGIN:VEVENT
DTSTART;TZID=America/New_York:20260320T170000
DTEND;TZID=America/New_York:20260328T220000
DTSTAMP:20260422T060924
CREATED:20260318T203123Z
LAST-MODIFIED:20260319T161933Z
UID:10000324-1774026000-1774735200@whatsnewpasco.com
SUMMARY:Chasco Fiesta – Native American Festival
DESCRIPTION:Sims Park | New Port Richey \nExperience music\, dance\, storytelling\, artistry\, and living cultural traditions at the Chasco Fiesta Native American Festival. \n2026 Native American Cultural Showcase Daily Schedule \nThroughout the week\, guests can explore the Native American Village\, experience traditional and contemporary dance exhibitions\, hear powerful drumming and flute performances\, meet artists and craftsmen\, and learn about the rich heritage and history that remain at the heart of Chasco Fiesta. \nThis long-standing tradition honors Native cultures through authentic performances\, educational demonstrations\, interactive opportunities\, and special main stage showcases. From vibrant regalia and hoop dancing to artisan vendors and cultural storytelling\, each day offers something meaningful for all ages. \nThe Native American Festival is a cornerstone of Chasco Fiesta’s mission to enhance lives through cultural education and the performing arts.
URL:https://whatsnewpasco.com/event/chasco-fiesta-native-american-festival/
LOCATION:Sims Park\, 5012 Robert McCraney St\, New Port Richey\, FL\, 34652\, United States
CATEGORIES:Family Fun,Festivals & Markets,Free
ATTACH;FMTTYPE=image/png:https://whatsnewpasco.com/wp-content/uploads/2026/03/chasco_img_1773856010222261739.png
END:VEVENT
BEGIN:VEVENT
DTSTART;TZID=America/New_York:20260326T140000
DTEND;TZID=America/New_York:20260326T150000
DTSTAMP:20260422T060924
CREATED:20260321T230501Z
LAST-MODIFIED:20260326T173004Z
UID:10001542-1774533600-1774537200@whatsnewpasco.com
SUMMARY:Florida-Friendly Landscaping: Planting for Pollinators
DESCRIPTION:This presentation will provide information on central Florida landscape practices that draw in pollinators! \n\n\n\n\nLandscapes that support our native pollinators are places filled with wonder! They help our environment by providing safe havens for our smallest of wildlife – bees\, butterflies and more! Homeowners\, institutions\, developers – even apartment dwellers with balconies – can experience the reward of knowing that individuals CAN make a difference! Florida’s pollinators have life cycles that span the entire year. By following a few simple guidelines during the changing seasons\, they will become a vital part of your landscape year after year! \nWhat you do in your landscape matters. From the fertilizers you apply to the water you use\, your gardening choices can have an impact on land\, water\, wildlife\, and the overall well-being of Florida’s residents. \nThe Florida-Friendly Landscaping™ (FFL) Program is here to help you learn how to have healthy and beautiful landscapes that protect Florida’s natural resources by following nine science-based principles: \n\nRight Plant\, Right Place\nWater Efficiently\nFertilize Appropriately\nMulch\nAttract Wildlife\nManage Yard Pests Responsibly\nRecycle Yard Waste\nReduce Stormwater Runoff\nProtect the Waterfront\n\nA Florida-Friendly landscape can be designed to look the way you want\, fit the aesthetics of your community\, and suit your lifestyle\, while being environmentally sustainable. Join us to learn how! \nThis lecture is presented by Kate Kaste\, UF/IFAS Extension Pasco County\, FFL Program Manager.
URL:https://whatsnewpasco.com/event/florida-friendly-landscaping-planting-for-pollinators/
LOCATION:New River Library\, 34043 State Road 54\, Wesley Chapel\, FL\, 33543\, United States
CATEGORIES:Classes & Courses
ATTACH;FMTTYPE=image/webp:https://whatsnewpasco.com/wp-content/uploads/2026/03/image.webp
END:VEVENT
BEGIN:VEVENT
DTSTART;TZID=America/New_York:20260327T090000
DTEND;TZID=America/New_York:20260327T130000
DTSTAMP:20260422T060924
CREATED:20260326T045624Z
LAST-MODIFIED:20260326T045624Z
UID:10001914-1774602000-1774616400@whatsnewpasco.com
SUMMARY:Homeschool Drop-Off: Herp Heroes | Withlacoochee River Park
DESCRIPTION:Herp Heroes!  \nAnswer the call of wild Florida and immerse yourself in the exploration of Florida’s native herp heroes! In this drop-off homeschool class\, students will work together to discover the secret identities of our native reptiles and amphibians. We will trek through wetlands\, learn the differences between animal classes\, and identify what makes Florida’s herp heroes so magnificent! \nDate: Friday\, March 27th\, 2026\nLocation: Withlacoochee River Park (Pavilion #2)\nTime: 9:00am – 1:00pm\nAges: 7-12 years old\nCost: $20.00 per child \nPlease send your child with lunch\, snacks\, water\, and close-toed shoes. It is recommended that they be sent with bug spray\, and sunscreen. \nDrop-off will be from 8:45am-9:00am and pick-up will be from 12:45pm-1:00pm. \nAll participants must register.\nProgram subject to changes and cancellation. Notice will be sent out in the event of cancellation. \nPlease contact OutdoorAdventures@MyPasco.net with any questions.
URL:https://whatsnewpasco.com/event/homeschool-drop-off-herp-heroes-withlacoochee-river-park/
LOCATION:Withlacoochee River Park\, 12449 Withlacoochee Blvd.\, Dade City\, FL\, 33525\, United States
CATEGORIES:Classes & Courses,Family Fun
END:VEVENT
END:VCALENDAR