BEGIN:VCALENDAR
VERSION:2.0
PRODID:-//What&#039;s New Pasco - ECPv6.15.20//NONSGML v1.0//EN
CALSCALE:GREGORIAN
METHOD:PUBLISH
X-ORIGINAL-URL:https://whatsnewpasco.com
X-WR-CALDESC:Events for What&#039;s New Pasco
REFRESH-INTERVAL;VALUE=DURATION:PT1H
X-Robots-Tag:noindex
X-PUBLISHED-TTL:PT1H
BEGIN:VTIMEZONE
TZID:America/New_York
BEGIN:DAYLIGHT
TZOFFSETFROM:-0500
TZOFFSETTO:-0400
TZNAME:EDT
DTSTART:20250309T070000
END:DAYLIGHT
BEGIN:STANDARD
TZOFFSETFROM:-0400
TZOFFSETTO:-0500
TZNAME:EST
DTSTART:20251102T060000
END:STANDARD
BEGIN:DAYLIGHT
TZOFFSETFROM:-0500
TZOFFSETTO:-0400
TZNAME:EDT
DTSTART:20260308T070000
END:DAYLIGHT
BEGIN:STANDARD
TZOFFSETFROM:-0400
TZOFFSETTO:-0500
TZNAME:EST
DTSTART:20261101T060000
END:STANDARD
BEGIN:DAYLIGHT
TZOFFSETFROM:-0500
TZOFFSETTO:-0400
TZNAME:EDT
DTSTART:20270314T070000
END:DAYLIGHT
BEGIN:STANDARD
TZOFFSETFROM:-0400
TZOFFSETTO:-0500
TZNAME:EST
DTSTART:20271107T060000
END:STANDARD
END:VTIMEZONE
BEGIN:VEVENT
DTSTART;TZID=America/New_York:20260320T103000
DTEND;TZID=America/New_York:20260320T123000
DTSTAMP:20260422T034213
CREATED:20260319T022739Z
LAST-MODIFIED:20260319T022739Z
UID:10000662-1774002600-1774009800@whatsnewpasco.com
SUMMARY:Heritage Park's Little Bunny Bash
DESCRIPTION:Hop into Spring with us for a fun-filled morning that the whole family will enjoy! Bring your baskets\, your smiles\, and your little ones for an egg-stra special celebration at Heritage Park!\n\n\nFamilies can enjoy:\nEgg hunts (age-appropriate)Spring Crafts Meet & greet the Easter BunnyPhoto opportunities Music\, dancing\, and games Sweet treats & more\n (Ages 5 & Under)\n\n\n March 20\, 2026\n Time: 10:30AM – 12:30PM\n Admission: $2.00 Per Child (CASH ONLY)\n\n\nLocation: Land O’ Lakes Heritage Park5401 Land O’ Lakes Blvd\, Land O’ Lakes Lakes FL 34639\n\n\nFor questions or additional information\, call our office at 813-929-1229.
URL:https://whatsnewpasco.com/event/heritage-parks-little-bunny-bash/
LOCATION:Heritage Park (Land O’ Lakes Community Center)\, 5401 Land O' lakes Blvd (Hwy 41)\, Land O' Lakes\, FL\, 34639\, United States
CATEGORIES:Family Fun,Festivals & Markets
ATTACH;FMTTYPE=image/jpeg:https://whatsnewpasco.com/wp-content/uploads/2026/03/wp_img_1482262144412527752.jpg
END:VEVENT
BEGIN:VEVENT
DTSTART;TZID=America/New_York:20260321T080000
DTEND;TZID=America/New_York:20260321T103000
DTSTAMP:20260422T034213
CREATED:20260319T141852Z
LAST-MODIFIED:20260319T142326Z
UID:10001285-1774080000-1774089000@whatsnewpasco.com
SUMMARY:Shell Hunt with the Easter Bunny
DESCRIPTION:We’re going on a SHELL HUNT with the Easter Bunny!  \nEnjoy some family fun for those who are young… or simply young at heart! \nJoin us on Saturday\, March 21st from 8am-10:30am as we enjoy a guided tour with our Certified Master Naturalist out to beautiful Anclote Key. \nOnce there\, we’ll hunt for shells for approximately 90 minutes and see what treasures we can find. The lucky guest who finds the hidden golden shell will win a special prize. \nHop aboard an Odyssey Cruise and make memories together that will last a lifetime! \nPrice: $37.95 per guest: Book now at www.odysseycruises.net! \nProfessional digital photo packages with the Easter Bunny on the island are available for an additional fee of $25 per group session. These packages include up to 4 digital images and can be of an individual or your entire group. These images will be emailed to you within 24 hours after your cruise. Please book your photo session when you book your cruise as session space is limited. \nShelling baskets will be provided for use on the island\, or you can bring your own. \nPlease note: Absolutely NO live shells are allowed on the boat. Our Certified Master Naturalist will be there keep a watchful eye and to answer any questions you may have.
URL:https://whatsnewpasco.com/event/shell-hunt-with-the-easter-bunny/
LOCATION:Odyssey Cruises\, 776 Dodecanese Blvd\, Tarpon Springs\, FL\, 34689\, United States
CATEGORIES:Family Fun
ATTACH;FMTTYPE=image/jpeg:https://whatsnewpasco.com/wp-content/uploads/2026/03/640721714_1489929019801172_7467183654250419464_n-e1773930051920.jpg
END:VEVENT
BEGIN:VEVENT
DTSTART;TZID=America/New_York:20260321T100000
DTEND;TZID=America/New_York:20260321T140000
DTSTAMP:20260422T034213
CREATED:20260317T100200Z
LAST-MODIFIED:20260317T130454Z
UID:10000313-1774087200-1774101600@whatsnewpasco.com
SUMMARY:Angeline Market – Easter Edition!
DESCRIPTION:Celebrate the start of spring at the Angeline Market at the Farm! 🌸 \nLocal vendors\, farm produce\, Wild Thyme Café\, FREE Easter Bunny photos & a kids egg hunt at noon. \nBring the whole family out for a fun-filled morning featuring local vendors\, fresh farm produce\, handmade goods\, and delicious bites from Wild Thyme Café. Kids can bounce and play while families enjoy the beautiful farm setting. \nDon’t miss FREE photos with the Easter Bunny and our FREE kids egg hunt at noon — a perfect springtime tradition for little ones! \nCome shop local\, enjoy great food\, and make memories with friends\, family\, and neighbors at Angeline. \nRSVP is required.
URL:https://whatsnewpasco.com/event/angeline-farmers-market-easter-edition/
LOCATION:Angeline Community Farmers Market\, 11725 Angeline Place\, Land O' Lakes\, FL\, 34638\, United States
CATEGORIES:Family Fun,Festivals & Markets,Food & Drinks,Free
ATTACH;FMTTYPE=image/webp:https://whatsnewpasco.com/wp-content/uploads/2026/03/Angeline-Market-321.webp
END:VEVENT
BEGIN:VEVENT
DTSTART;TZID=America/New_York:20260325T100000
DTEND;TZID=America/New_York:20260325T130000
DTSTAMP:20260422T034213
CREATED:20260325T171923Z
LAST-MODIFIED:20260325T171923Z
UID:10001538-1774432800-1774443600@whatsnewpasco.com
SUMMARY:Breakfast with the Easter Bunny Toddler Time
DESCRIPTION:Join us for pictures with the Bunny\, Easter Craft and a Pancake Breakfast Bar.\nWed.\, March 25th\nStarts at 10:00am\nAges: 0-5\n$10 per person\nRegister by Fri.\, March 20th
URL:https://whatsnewpasco.com/event/breakfast-with-the-easter-bunny-toddler-time/
LOCATION:6630 Van Buren St\, 6630 Van Buren St\, New Port Richey\, FL\, 34653\, United States
CATEGORIES:Family Fun,Festivals & Markets
ATTACH;FMTTYPE=image/jpeg:https://whatsnewpasco.com/wp-content/uploads/2026/03/wp_img_5964435235021210795.jpg
END:VEVENT
BEGIN:VEVENT
DTSTART;VALUE=DATE:20260328
DTEND;VALUE=DATE:20260329
DTSTAMP:20260422T034213
CREATED:20260325T172930Z
LAST-MODIFIED:20260326T144913Z
UID:10001928-1774656000-1774742399@whatsnewpasco.com
SUMMARY:Hoppy Fest
DESCRIPTION:🐰🌷 Hoppy Fest 🌷🐰 \nJoin us on March 28th from 11 AM – 2 PM for a lively community celebration packed with activities\, entertainment\, and springtime fun for all ages. Located at 7727 Boyette Rd\, Wesley Chapel. We are excited to host you and your family for this fun-filled day. Don’t forget to bring your own basket/bag for our egg scramble. \nAdmission is just $2.00 per person 🎟️\n✨ Enjoy a full lineup of activities:\n• 🎈 Bounce houses for nonstop jumping\n• 📸 Photo ops to capture fun memories\n• 🥚 Egg hunt for little explorers\n• 🎨 Crafts to spark creativity\n• 🛍️ Vendors with unique finds\n• 🍔 Food trucks serving tasty treats\n• 🎉 And even more surprises throughout the event \n🌼 Bring your family\, bring your friends — it’s the perfect way to enjoy a fun spring day together.
URL:https://whatsnewpasco.com/event/hoppy-fest/
LOCATION:Wesley Chapel Recreation Complex\, 7727 Boyette Rd\, Wesley Chapel\, FL\, 33545\, United States
CATEGORIES:Festivals & Markets,Food & Drinks
ATTACH;FMTTYPE=image/jpeg:https://whatsnewpasco.com/wp-content/uploads/2026/03/Hoppy-Fest-Wesley-Chapel.jpg
END:VEVENT
BEGIN:VEVENT
DTSTART;TZID=America/New_York:20260328T090000
DTEND;TZID=America/New_York:20260328T130000
DTSTAMP:20260422T034213
CREATED:20260325T203624Z
LAST-MODIFIED:20260326T145623Z
UID:10001923-1774688400-1774702800@whatsnewpasco.com
SUMMARY:Easter at Old McMicky's Farm
DESCRIPTION:It’s time for one of our FAVORITE day of the year… 🌷✨ \nJoin us for Easter on the Farm — a full day of family fun\, fresh air\, and memory-making! \n🐣 Egg Hunts for ALL ages (so no one misses out!)\n🐐 Petting Farm with all your favorite animals\n🎨 Face Painting\n🏰 Bounce House Fun\n🛍️ Local Vendors & Treats\n📸 Picture-perfect spring photo ops all around the farm\n✨…. and so much more!\n \nWhether you’re bringing toddlers\, teens\, or the whole crew — there’s something for everyone. We’ve designed this event so families can slow down\, laugh together\, and celebrate spring the Old McMicky’s way. 🌞 \n🎟️ Tickets are on sale now!\nThese events sell out every year — don’t wait! \nTag your squad\, grab your baskets\, and come make Easter memories with us. 💛🌸🐰 \n\nEgg Hunt Times: 10:00 AM: Ages 0-410:30 AM: Ages 5-711:00 AM: Ages 8-1211:15 AM: Special Needs11:30 AM: Ages 0-412:00 PM: Ages 5-712:30 PM: Ages 8-12
URL:https://whatsnewpasco.com/event/easter-at-old-mcmickys-farm/
LOCATION:Old McMickys Farm\, 9612 Crescent Dr\, Odessa\, FL\, 33556\, United States
CATEGORIES:Family Fun,Festivals & Markets
ATTACH;FMTTYPE=image/jpeg:https://whatsnewpasco.com/wp-content/uploads/2026/03/Easter-at-Old-McMickys-Farm.jpg
END:VEVENT
BEGIN:VEVENT
DTSTART;TZID=America/New_York:20260328T100000
DTEND;TZID=America/New_York:20260328T130000
DTSTAMP:20260422T034213
CREATED:20260325T202722Z
LAST-MODIFIED:20260326T154248Z
UID:10001926-1774692000-1774702800@whatsnewpasco.com
SUMMARY:EASTER EGG HUNT by LIFE CHURCH
DESCRIPTION:100\,000 EGG EASTER HUNT  at the KRATE \n Presented by Life Church  \nGet ready for one of the largest Easter celebrations in Wesley Chapel! Join us on Saturday\, March 28th from 10:00 AM – 1: l00 PM for an unforgettable family event filled with fun\, laughter\, and plenty of Easter eggs. \n Event Highlights: 100\,000 Easter Eggs for kids to collect Walk-thru Egg Hunts areas for children ages 0–12 Bounce Houses & Inflatables A Dedicated Toddler Area A Special Needs Area designed for a comfortable\, inclusive experience Live Entertainment  Photos with the Easter Bunny Crafts\, Activities\, and More Perfect photo opportunities for the whole family A festive outdoor celebration at KRATE at the Grove \nBring your baskets and get ready for an exciting Easter celebration the whole family will love! \n Date: Saturday\, March 28 Time: 10:00 AM – 1:00 PM Location: KRATE at the Grove – Wesley Chapel Free community event — everyone is welcome! \nInvite your friends\, bring the kids\, and come celebrate Easter with us. We look forward to seeing you there!
URL:https://whatsnewpasco.com/event/easter-egg-hunt-by-life-church/
LOCATION:KRATE at The Grove\, 5817 Goldview Pkwy\, Wesley Chapel\, FL\, 33544\, United States
CATEGORIES:Family Fun,Festivals & Markets,Free
ATTACH;FMTTYPE=image/jpeg:https://whatsnewpasco.com/wp-content/uploads/2026/03/649633163_1546103293616992_6283274000162001805_n.jpg
END:VEVENT
BEGIN:VEVENT
DTSTART;TZID=America/New_York:20260328T100000
DTEND;TZID=America/New_York:20260328T160000
DTSTAMP:20260422T034213
CREATED:20260326T032650Z
LAST-MODIFIED:20260326T155752Z
UID:10002058-1774692000-1774713600@whatsnewpasco.com
SUMMARY:Jelly Bean Fling
DESCRIPTION:Jelly Bean Fling Spring Festival – Saturday\, March 28\, 2026\, 10 am – 4 pmThis spectacular Spring Festival offers a wide range of activities for the whole family to enjoy: \nSphere’s Bubble Show (as seen on America’s Got Talent) 11 am and 1 pm\nMr. Tommy and Gigi’s Musical Show for Kids at 12 noon and 2 pm. (Mr. Tommy was formerly with the Eddie Money Band and Gigi was formerly a Ringling Brothers and Barnum Bailey Circus Clown.)\nWe are fortunate to have these World Class Entertainers.\n\nFrom Face Painting to Children’s Games with prizes and make and take Arts and Crafts\, there is something for everyone to participate in. Live Entertainment with the Geared Up Band\, unique Vendors\, Food Trucks\, Traditional Craft Demonstrations\, a Blacksmith\, Model Trains\, Petting Zoo\, Pharaoh’s Wildlife Kingdom\, and photos with Bluey!\n\nDon’t miss the opportunity to take FREE photos with the Easter Bunny 10:30 -11:30 am and 1 – 2 pm.\n\nParticipate in the Easter Egg Hunt (10 am – 3 pm) for children. Turn in your eggs at the Mabel Jordan Barn for prizes.\n\nExplore all museum buildings where history comes alive with every step you take.\n\nSome food (Concessions stand) and activities are CASH ONLY.\n\nTickets are $10 for adults\, $5 for students\, and children under 5 are free.\n\nTickets can be purchased at the Museum entrance only\, and parking is free for all attendees. We look forward to seeing you at the Jelly Bean Fling for a day of fun\, learning\, and entertainment!\n\n\nPioneer Florida Museum 15602 Pioneer Museum Rd\, Dade City\, FL 33523\nVendor applications and payments on our website only: www.pioneerfloridamuseum.org
URL:https://whatsnewpasco.com/event/jelly-bean-fling/
LOCATION:Pioneer Florida Museum\, Dade City\, FL\, United States
CATEGORIES:Family Fun,Festivals & Markets
ATTACH;FMTTYPE=image/jpeg:https://whatsnewpasco.com/wp-content/uploads/2026/03/619275537_1467152168744555_3938819730450818411_n.jpg
END:VEVENT
BEGIN:VEVENT
DTSTART;TZID=America/New_York:20260328T103000
DTEND;TZID=America/New_York:20260328T113000
DTSTAMP:20260422T034213
CREATED:20260325T173457Z
LAST-MODIFIED:20260325T173457Z
UID:10001925-1774693800-1774697400@whatsnewpasco.com
SUMMARY:Easter Egg Hunt at Woodland Farms
DESCRIPTION:Join us for an Easter Egg Hunt on the farm including petting zoo\, hayrides\, crafts\, and more.\nPlease use the QR code or square link below to purchase tickets. Additional child discounts available for each family. Enter amount based on number of children attending. NOT tax-deductible.\n\nhttps://square.link/u/udobjWEO\nEgg hunt starts at 10:30.
URL:https://whatsnewpasco.com/event/easter-egg-hunt-at-woodland-farms/
LOCATION:Woodland Farms\, 9318 Bahia Loop\, Land\, O'\, United States
CATEGORIES:Family Fun
ATTACH;FMTTYPE=image/jpeg:https://whatsnewpasco.com/wp-content/uploads/2026/03/645489892_122128748841109605_8895216830167461126_n-e1774460032188.jpg
END:VEVENT
BEGIN:VEVENT
DTSTART;TZID=America/New_York:20260328T103000
DTEND;TZID=America/New_York:20260328T123000
DTSTAMP:20260422T034213
CREATED:20260325T164255Z
LAST-MODIFIED:20260326T160306Z
UID:10001917-1774693800-1774701000@whatsnewpasco.com
SUMMARY:2026 Glow in the Dark Egg Hunt
DESCRIPTION:Glow in the Dark Egg Hunt 2026  \nJoin us for a fun-filled event in our gymnasium on Saturday\, March 28th\, 2026\, from 10:30 AM to 12:30 PM! \nSensory Considerate Time Only: 9:30 AM – 10:30 AM \n  \n Age-specific Glow in the Dark Egg Hunts: \nAges 0–2: 10:45 AM \nAges 3–5: 11:15 AM \nAges 6–7: 11:45 AM \nAges 8–10: 12:15 PM \n  \nParents\, be sure to sign up your children for the time slot that corresponds to their age group! Each wave is limited to 60 participants. \nThere will be bounces houses and games outside for children to play as well! \n  \n Sensory Considerate Glow In the Dark Egg Hunt: A specially designed wave for children who prefer a more sensory-considerate environment. Eggs are tied to balloons for easy pickup\, lights dimmed\, and no music. Parents are welcome to assist! ADA-accessible through the recreation center’s front door. Limited to 20 participants. \n  \n Additional Fun: Bounce houses and outdoor games for the kids! this can be enjoyed from 10:30 AM – 12:30 PM \n Cost: $5 per child. Space is limited to 60 participants per age group and 20 for the Sensory Considerate Time. \n Registration: Register in advance at tinyurl.com/JBenHarrillRecActivities \n Contact: For more information\, call (727) 942-7439.
URL:https://whatsnewpasco.com/event/2026-glow-in-the-dark-egg-hunt/
LOCATION:2830 Gulf Trace Blvd\, 2830 Gulf Trace Blvd\, Holiday\, FL\, 34691\, United States
CATEGORIES:Family Fun
ATTACH;FMTTYPE=image/jpeg:https://whatsnewpasco.com/wp-content/uploads/2026/03/489383225_1196982579104831_5816794271244430307_n.jpg
END:VEVENT
BEGIN:VEVENT
DTSTART;TZID=America/New_York:20260328T110000
DTEND;TZID=America/New_York:20260328T130000
DTSTAMP:20260422T034213
CREATED:20260325T203155Z
LAST-MODIFIED:20260326T160607Z
UID:10001924-1774695600-1774702800@whatsnewpasco.com
SUMMARY:Easter Bash
DESCRIPTION:Join us for a FREE Easter Egg Hunt and family celebration at Hope City Church! Bring the kids and enjoy a fun afternoon filled with laughter\, candy\, and community. \n📅 March 28\n⏰ 11 AM – 2 PM\n📍 5513 School Rd\, Land O’ Lakes\, FL 34638 \n✨ Easter Egg Hunt\n🎈 Bounce House\n🎯 Games\n🎁 Easter Basket Raffle\n🍿 Food & Fun \nEveryone is welcome — invite your friends and neighbors!
URL:https://whatsnewpasco.com/event/easter-bash/
LOCATION:Hope City Church\, 5513 School Rd\, Land O' Lakes\, FL\, United States
CATEGORIES:Family Fun,Food & Drinks,Free
ATTACH;FMTTYPE=image/jpeg:https://whatsnewpasco.com/wp-content/uploads/2026/03/652376452_1280424760721176_6774202076227941469_n.jpg
END:VEVENT
BEGIN:VEVENT
DTSTART;TZID=America/New_York:20260329T120000
DTEND;TZID=America/New_York:20260329T180000
DTSTAMP:20260422T034213
CREATED:20260326T154252Z
LAST-MODIFIED:20260326T154333Z
UID:10002550-1774785600-1774807200@whatsnewpasco.com
SUMMARY:Golden Eggs & Engines Extravaganza
DESCRIPTION:We are excited to invite you to Pasco County’s largest indoor Easter egg hunt on March 29th\, 2026! Come celebrate a day of wholesome fun right here at Gulf View Square Mall. \nThe event will feature: \n– Music and dancing in center court performed by the local non-profit\, Million Dollar Divas.– An Easter egg hunt for kids aged 12 and under with thousands of eggs.– A chance to find a “golden egg” from one of our sponsors to win a special prize (limit one golden egg per child).– A 200+ car meet across the entire south parking lot.– Local artisan vendors indoors and food trucks outside. \nWe look forward to seeing you there for a wonderful community celebration! Easter egg hunt will be between 12pm & 2pm
URL:https://whatsnewpasco.com/event/golden-eggs-engines-extravaganza-2/
LOCATION:Gulf View Square Mall\, Port Richey\, FL\, United States
CATEGORIES:Family Fun,Festivals & Markets,Free
ATTACH;FMTTYPE=image/jpeg:https://whatsnewpasco.com/wp-content/uploads/2026/03/Golden-Egg-Hunt-Gulf-View-Square-Mall.jpg
END:VEVENT
BEGIN:VEVENT
DTSTART;TZID=America/New_York:20260404T100000
DTEND;TZID=America/New_York:20260404T160000
DTSTAMP:20260422T034213
CREATED:20260402T120836Z
LAST-MODIFIED:20260402T120836Z
UID:10003578-1775296800-1775318400@whatsnewpasco.com
SUMMARY:Easter Eggstravaganza at Dade City Farms
DESCRIPTION:Celebrate Easter with us at our Eggstravaganza! Bring your Easter basket for a fun egg hunt\, then turn in your collected eggs for a goodie bag filled with prizes and candy! Meet our adorable baby farm animals\, enjoy hayrides\, and jump like a bunny on our giant jump pad. Visit the petting zoo\, indulge in tasty treats from our food trucks\, and capture the fun with Easter-themed photo spots for the perfect family pictures. Don’t forget to enjoy a visit with the Easter Bunny! It’s a day full of springtime joy and memories for everyone! \nEaster Egg Hunts at 11 AM & 1 PM  | Visit the Easter Bunny 11 AM – 2 PM\nGates open at 10:00 AM. Please allow plenty of time for parking and check-in if you plan to participate in the egg hunt. For faster check-in\, we encourage purchasing tickets online.\nIncluded Activities: \n\nJump Pad\nHay Rides\nPlayground with Slides\nSand Mountain Climb\nPetting Zoo\nBubble Station\nTire Sand Pit\nConcession barn\nFood Trucks\nLive music\n\nAdditional Cost Activities: \n\nGem Mining\nPony Rides\nFeed for petting zoo animals\n\nImportant Information: \n\nPet Policy: Although we love our 4 legged friends\, only service dogs will be permitted on the farm.\nNo outside food or beverages are allowed.\n\nCost: \n🎟️Buy tickets online for easy entry🎟️ \nAdvance online tickets: $12 adults | $9 kids (ages 3–12) \n• Day-of tickets (online or at the gate): $14 adults | $11 kids \n• Kids 2 & under are FREE \nFor faster entry\, we recommend purchasing tickets online. \nParking on the premises is FREE! \nFor groups of 10 or more\, please email us or call us at 772-215-6530 to receive a discounted rate. \nEmail us to schedule your group for weekday fun!
URL:https://whatsnewpasco.com/event/easter-eggstravaganza-dade-city-farms/
LOCATION:Dade City Farms\, 17143 Lake Iola Rd\, Dade City\, FL\, 33523\, United States
CATEGORIES:Family Fun,Festivals & Markets,Food & Drinks
END:VEVENT
END:VCALENDAR