BEGIN:VCALENDAR
VERSION:2.0
PRODID:-//What&#039;s New Pasco - ECPv6.15.20//NONSGML v1.0//EN
CALSCALE:GREGORIAN
METHOD:PUBLISH
X-ORIGINAL-URL:https://whatsnewpasco.com
X-WR-CALDESC:Events for What&#039;s New Pasco
REFRESH-INTERVAL;VALUE=DURATION:PT1H
X-Robots-Tag:noindex
X-PUBLISHED-TTL:PT1H
BEGIN:VTIMEZONE
TZID:America/New_York
BEGIN:DAYLIGHT
TZOFFSETFROM:-0500
TZOFFSETTO:-0400
TZNAME:EDT
DTSTART:20250309T070000
END:DAYLIGHT
BEGIN:STANDARD
TZOFFSETFROM:-0400
TZOFFSETTO:-0500
TZNAME:EST
DTSTART:20251102T060000
END:STANDARD
BEGIN:DAYLIGHT
TZOFFSETFROM:-0500
TZOFFSETTO:-0400
TZNAME:EDT
DTSTART:20260308T070000
END:DAYLIGHT
BEGIN:STANDARD
TZOFFSETFROM:-0400
TZOFFSETTO:-0500
TZNAME:EST
DTSTART:20261101T060000
END:STANDARD
BEGIN:DAYLIGHT
TZOFFSETFROM:-0500
TZOFFSETTO:-0400
TZNAME:EDT
DTSTART:20270314T070000
END:DAYLIGHT
BEGIN:STANDARD
TZOFFSETFROM:-0400
TZOFFSETTO:-0500
TZNAME:EST
DTSTART:20271107T060000
END:STANDARD
END:VTIMEZONE
BEGIN:VEVENT
DTSTART;TZID=America/New_York:20260325T100000
DTEND;TZID=America/New_York:20260325T130000
DTSTAMP:20260425T062721
CREATED:20260325T171923Z
LAST-MODIFIED:20260325T171923Z
UID:10001538-1774432800-1774443600@whatsnewpasco.com
SUMMARY:Breakfast with the Easter Bunny Toddler Time
DESCRIPTION:Join us for pictures with the Bunny\, Easter Craft and a Pancake Breakfast Bar.\nWed.\, March 25th\nStarts at 10:00am\nAges: 0-5\n$10 per person\nRegister by Fri.\, March 20th
URL:https://whatsnewpasco.com/event/breakfast-with-the-easter-bunny-toddler-time/
LOCATION:6630 Van Buren St\, 6630 Van Buren St\, New Port Richey\, FL\, 34653\, United States
CATEGORIES:Family Fun,Festivals & Markets
ATTACH;FMTTYPE=image/jpeg:https://whatsnewpasco.com/wp-content/uploads/2026/03/wp_img_5964435235021210795.jpg
END:VEVENT
END:VCALENDAR