BEGIN:VCALENDAR
VERSION:2.0
PRODID:-//What&#039;s New Pasco - ECPv6.15.20//NONSGML v1.0//EN
CALSCALE:GREGORIAN
METHOD:PUBLISH
X-ORIGINAL-URL:https://whatsnewpasco.com
X-WR-CALDESC:Events for What&#039;s New Pasco
REFRESH-INTERVAL;VALUE=DURATION:PT1H
X-Robots-Tag:noindex
X-PUBLISHED-TTL:PT1H
BEGIN:VTIMEZONE
TZID:America/New_York
BEGIN:DAYLIGHT
TZOFFSETFROM:-0500
TZOFFSETTO:-0400
TZNAME:EDT
DTSTART:20250309T070000
END:DAYLIGHT
BEGIN:STANDARD
TZOFFSETFROM:-0400
TZOFFSETTO:-0500
TZNAME:EST
DTSTART:20251102T060000
END:STANDARD
BEGIN:DAYLIGHT
TZOFFSETFROM:-0500
TZOFFSETTO:-0400
TZNAME:EDT
DTSTART:20260308T070000
END:DAYLIGHT
BEGIN:STANDARD
TZOFFSETFROM:-0400
TZOFFSETTO:-0500
TZNAME:EST
DTSTART:20261101T060000
END:STANDARD
BEGIN:DAYLIGHT
TZOFFSETFROM:-0500
TZOFFSETTO:-0400
TZNAME:EDT
DTSTART:20270314T070000
END:DAYLIGHT
BEGIN:STANDARD
TZOFFSETFROM:-0400
TZOFFSETTO:-0500
TZNAME:EST
DTSTART:20271107T060000
END:STANDARD
END:VTIMEZONE
BEGIN:VEVENT
DTSTART;TZID=America/New_York:20260320T103000
DTEND;TZID=America/New_York:20260320T123000
DTSTAMP:20260422T113915
CREATED:20260319T022739Z
LAST-MODIFIED:20260319T022739Z
UID:10000662-1774002600-1774009800@whatsnewpasco.com
SUMMARY:Heritage Park's Little Bunny Bash
DESCRIPTION:Hop into Spring with us for a fun-filled morning that the whole family will enjoy! Bring your baskets\, your smiles\, and your little ones for an egg-stra special celebration at Heritage Park!\n\n\nFamilies can enjoy:\nEgg hunts (age-appropriate)Spring Crafts Meet & greet the Easter BunnyPhoto opportunities Music\, dancing\, and games Sweet treats & more\n (Ages 5 & Under)\n\n\n March 20\, 2026\n Time: 10:30AM – 12:30PM\n Admission: $2.00 Per Child (CASH ONLY)\n\n\nLocation: Land O’ Lakes Heritage Park5401 Land O’ Lakes Blvd\, Land O’ Lakes Lakes FL 34639\n\n\nFor questions or additional information\, call our office at 813-929-1229.
URL:https://whatsnewpasco.com/event/heritage-parks-little-bunny-bash/
LOCATION:Heritage Park (Land O’ Lakes Community Center)\, 5401 Land O' lakes Blvd (Hwy 41)\, Land O' Lakes\, FL\, 34639\, United States
CATEGORIES:Family Fun,Festivals & Markets
ATTACH;FMTTYPE=image/jpeg:https://whatsnewpasco.com/wp-content/uploads/2026/03/wp_img_1482262144412527752.jpg
END:VEVENT
END:VCALENDAR