BEGIN:VCALENDAR
VERSION:2.0
PRODID:-//What&#039;s New Pasco - ECPv6.15.20//NONSGML v1.0//EN
CALSCALE:GREGORIAN
METHOD:PUBLISH
X-WR-CALNAME:What&#039;s New Pasco
X-ORIGINAL-URL:https://whatsnewpasco.com
X-WR-CALDESC:Events for What&#039;s New Pasco
REFRESH-INTERVAL;VALUE=DURATION:PT1H
X-Robots-Tag:noindex
X-PUBLISHED-TTL:PT1H
BEGIN:VTIMEZONE
TZID:America/New_York
BEGIN:DAYLIGHT
TZOFFSETFROM:-0500
TZOFFSETTO:-0400
TZNAME:EDT
DTSTART:20250309T070000
END:DAYLIGHT
BEGIN:STANDARD
TZOFFSETFROM:-0400
TZOFFSETTO:-0500
TZNAME:EST
DTSTART:20251102T060000
END:STANDARD
BEGIN:DAYLIGHT
TZOFFSETFROM:-0500
TZOFFSETTO:-0400
TZNAME:EDT
DTSTART:20260308T070000
END:DAYLIGHT
BEGIN:STANDARD
TZOFFSETFROM:-0400
TZOFFSETTO:-0500
TZNAME:EST
DTSTART:20261101T060000
END:STANDARD
BEGIN:DAYLIGHT
TZOFFSETFROM:-0500
TZOFFSETTO:-0400
TZNAME:EDT
DTSTART:20270314T070000
END:DAYLIGHT
BEGIN:STANDARD
TZOFFSETFROM:-0400
TZOFFSETTO:-0500
TZNAME:EST
DTSTART:20271107T060000
END:STANDARD
END:VTIMEZONE
BEGIN:VEVENT
DTSTART;TZID=America/New_York:20260315T090000
DTEND;TZID=America/New_York:20260315T170000
DTSTAMP:20260421T222724
CREATED:20260318T223950Z
LAST-MODIFIED:20260318T223950Z
UID:10000372-1773565200-1773594000@whatsnewpasco.com
SUMMARY:New Port Richey Film Festival
DESCRIPTION:Community film festival featuring youth and adult local filmmakers.
URL:https://whatsnewpasco.com/event/new-port-richey-film-festival-2/
LOCATION:Richey Suncoast Theatre\, 6237 Grand Boulevard\, New\, Port\, United States
CATEGORIES:Festivals & Markets
END:VEVENT
BEGIN:VEVENT
DTSTART;TZID=America/New_York:20260320T170000
DTEND;TZID=America/New_York:20260320T230000
DTSTAMP:20260421T222724
CREATED:20260318T203123Z
LAST-MODIFIED:20260319T161933Z
UID:10000321-1774026000-1774047600@whatsnewpasco.com
SUMMARY:Chasco Fiesta 2026 – Opening Day
DESCRIPTION:Opening Day of Chasco Fiesta 2026. Sims Park comes alive with performances on the main stage\, vendors\, food\, and the Grand Entry of the Chasco Fiesta Native American Pow Wow\, setting the tone for nine days of culture and celebration.
URL:https://whatsnewpasco.com/event/chasco-fiesta-2026-opening-day/
LOCATION:Sims Park\, 5012 Robert McCraney St\, New Port Richey\, FL\, 34652\, United States
CATEGORIES:Family Fun,Festivals & Markets,Free
ATTACH;FMTTYPE=image/png:https://whatsnewpasco.com/wp-content/uploads/2026/03/chasco_img_1773856004386316923.png
END:VEVENT
BEGIN:VEVENT
DTSTART;TZID=America/New_York:20260320T170000
DTEND;TZID=America/New_York:20260328T220000
DTSTAMP:20260421T222724
CREATED:20260318T203123Z
LAST-MODIFIED:20260319T161933Z
UID:10000324-1774026000-1774735200@whatsnewpasco.com
SUMMARY:Chasco Fiesta – Native American Festival
DESCRIPTION:Sims Park | New Port Richey \nExperience music\, dance\, storytelling\, artistry\, and living cultural traditions at the Chasco Fiesta Native American Festival. \n2026 Native American Cultural Showcase Daily Schedule \nThroughout the week\, guests can explore the Native American Village\, experience traditional and contemporary dance exhibitions\, hear powerful drumming and flute performances\, meet artists and craftsmen\, and learn about the rich heritage and history that remain at the heart of Chasco Fiesta. \nThis long-standing tradition honors Native cultures through authentic performances\, educational demonstrations\, interactive opportunities\, and special main stage showcases. From vibrant regalia and hoop dancing to artisan vendors and cultural storytelling\, each day offers something meaningful for all ages. \nThe Native American Festival is a cornerstone of Chasco Fiesta’s mission to enhance lives through cultural education and the performing arts.
URL:https://whatsnewpasco.com/event/chasco-fiesta-native-american-festival/
LOCATION:Sims Park\, 5012 Robert McCraney St\, New Port Richey\, FL\, 34652\, United States
CATEGORIES:Family Fun,Festivals & Markets,Free
ATTACH;FMTTYPE=image/png:https://whatsnewpasco.com/wp-content/uploads/2026/03/chasco_img_1773856010222261739.png
END:VEVENT
BEGIN:VEVENT
DTSTART;TZID=America/New_York:20260323T180000
DTEND;TZID=America/New_York:20260323T190000
DTSTAMP:20260421T222724
CREATED:20260318T203018Z
LAST-MODIFIED:20260319T161933Z
UID:10000332-1774288800-1774292400@whatsnewpasco.com
SUMMARY:Chasco Fiesta – River Spirit Play
DESCRIPTION:River Spirit Play brings the history of New Port Richey to life through “The Spirit of the River.”\n\n\n\n\n\n\n\n\n\n\n\n\n\nPresented by the West Pasco Historical Society and Chasco Fiesta™\, this special production brings local stories to life through narration\, historic visuals\, and meaningful moments that celebrate the heart of our community. \nWritten by Alma Bennett\, Ph.D. and directed by Jessica Glass\, River Spirit stars Judy Meyers in an evening that honors New Port Richey’s past and the river that helped shape it. \nThis year’s production includes support from local partners\, with special thanks to the Richey Suncoast Theatrefor their involvement in helping bring this community story to the stage. \nAudience members can also expect historical props featured on stage to help bring these stories to life. \nFree admission. All ages welcome! \n\n\n\n\n\n\n\n\n\nLearn more about the West Pasco Historical Society at westpascosmuseum.org.
URL:https://whatsnewpasco.com/event/chasco-fiesta-river-spirit-play/
LOCATION:Sims Park\, 5012 Robert McCraney St\, New Port Richey\, FL\, 34652\, United States
CATEGORIES:Family Fun,Festivals & Markets,Free
ATTACH;FMTTYPE=image/png:https://whatsnewpasco.com/wp-content/uploads/2026/03/chasco_img_1773856028481136141.png
END:VEVENT
BEGIN:VEVENT
DTSTART;TZID=America/New_York:20260323T190000
DTEND;TZID=America/New_York:20260323T220000
DTSTAMP:20260421T222724
CREATED:20260318T203011Z
LAST-MODIFIED:20260319T161933Z
UID:10000331-1774292400-1774303200@whatsnewpasco.com
SUMMARY:Chasco Fiesta – Native American Showcase featuring Bill Miller
DESCRIPTION:The Native American Showcase features Grammy Award-winning artist Bill Miller performing soulful voice\, masterful flute\, and a blend of Native American tradition with contemporary folk and rock. Traditional Native American dancers and cultural presentations also featured. Gates open 5:00 PM; Native American Showcase Performances 7:00 PM; Bill Miller at 8:00 PM. FREE ALL DAY.
URL:https://whatsnewpasco.com/event/chasco-fiesta-native-american-showcase-featuring-bill-miller/
LOCATION:Sims Park\, 5012 Robert McCraney St\, New Port Richey\, FL\, 34652\, United States
CATEGORIES:Family Fun,Festivals & Markets,Free
ATTACH;FMTTYPE=image/png:https://whatsnewpasco.com/wp-content/uploads/2026/03/chasco_img_1773856025799743310.png
END:VEVENT
BEGIN:VEVENT
DTSTART;VALUE=DATE:20260407
DTEND;VALUE=DATE:20260412
DTSTAMP:20260421T222724
CREATED:20260409T004238Z
LAST-MODIFIED:20260409T004238Z
UID:10003793-1775520000-1775951999@whatsnewpasco.com
SUMMARY:Tampa Bay Wine and Food Festival 2026
DESCRIPTION:Tues\, Apr 7 – Sat\, Apr 11: Join together as we celebrate Tampa Bay leading restaurants with curated events @TampaBayWFF !\n\n\n\nJoin us for five days of curated culinary experiences across Tampa Bay\, featuring top chefs\, standout restaurants\, and world-class wine and cocktail partners\, brought to you by Breakthru Beverage and presented by GOYA FoodsHosted by Honorary Chef Sean Brasel and Celebrity Chef Robert Irvine\, this week showcases the best of Tampa\, St. Petersburg\, and beyond through immersive\, all-inclusive events.Tickets are available for each event individually\, or bundle Friday and Saturday with a discounted 2-day pass.
URL:https://whatsnewpasco.com/event/tampa-bay-wine-and-food-festival-2026/
LOCATION:Curtis Hixon Waterfront Park\, 600 North Ashley Drive\, Tampa\, FL\, 33602\, United States
CATEGORIES:Festivals & Markets,Food & Drinks
ATTACH;FMTTYPE=image/webp:https://whatsnewpasco.com/wp-content/uploads/2026/04/image-7.webp
END:VEVENT
BEGIN:VEVENT
DTSTART;TZID=America/New_York:20260411T100000
DTEND;TZID=America/New_York:20260411T150000
DTSTAMP:20260421T222724
CREATED:20260409T001243Z
LAST-MODIFIED:20260409T002109Z
UID:10003790-1775901600-1775919600@whatsnewpasco.com
SUMMARY:Author Fest - Pasco Libraries 2026
DESCRIPTION:Author Fest is returning to Starkey Ranch TLC for a day full of literary adventures! \nBring your friends and family and explore the event’s book expo featuring over 40 local authors. Book lovers of all ages are invited to enjoy an exciting lineup of speakers\, special storytimes\, interactive workshops\, awesome giveaways\, and so much more. \n FREE EVENT Saturday\, April 11 | 10 a.m. – 3 p.m. Starkey Ranch TLC | 12118 Lake Blanche Drive\, Odessa \nThis event is generously sponsored by the Friends of Starkey Ranch TLC. \nNOTICE: Please be aware and alert\, don’t fall for scams! All vendor and author spots have been filled for this event.
URL:https://whatsnewpasco.com/event/author-fest-pasco-libraries-2026/
LOCATION:Starkey Ranch Theatre Library Cultural Center\, 12118 Lake Blanche Drive\, Odessa\, FL\, United States
CATEGORIES:Art,Family Fun,Free
ATTACH;FMTTYPE=image/jpeg:https://whatsnewpasco.com/wp-content/uploads/2026/04/648670619_1327800029389427_7106565443049075363_n.jpg
END:VEVENT
END:VCALENDAR