BEGIN:VCALENDAR
VERSION:2.0
PRODID:-//What&#039;s New Pasco - ECPv6.15.20//NONSGML v1.0//EN
CALSCALE:GREGORIAN
METHOD:PUBLISH
X-ORIGINAL-URL:https://whatsnewpasco.com
X-WR-CALDESC:Events for What&#039;s New Pasco
REFRESH-INTERVAL;VALUE=DURATION:PT1H
X-Robots-Tag:noindex
X-PUBLISHED-TTL:PT1H
BEGIN:VTIMEZONE
TZID:America/New_York
BEGIN:DAYLIGHT
TZOFFSETFROM:-0500
TZOFFSETTO:-0400
TZNAME:EDT
DTSTART:20250309T070000
END:DAYLIGHT
BEGIN:STANDARD
TZOFFSETFROM:-0400
TZOFFSETTO:-0500
TZNAME:EST
DTSTART:20251102T060000
END:STANDARD
BEGIN:DAYLIGHT
TZOFFSETFROM:-0500
TZOFFSETTO:-0400
TZNAME:EDT
DTSTART:20260308T070000
END:DAYLIGHT
BEGIN:STANDARD
TZOFFSETFROM:-0400
TZOFFSETTO:-0500
TZNAME:EST
DTSTART:20261101T060000
END:STANDARD
BEGIN:DAYLIGHT
TZOFFSETFROM:-0500
TZOFFSETTO:-0400
TZNAME:EDT
DTSTART:20270314T070000
END:DAYLIGHT
BEGIN:STANDARD
TZOFFSETFROM:-0400
TZOFFSETTO:-0500
TZNAME:EST
DTSTART:20271107T060000
END:STANDARD
END:VTIMEZONE
BEGIN:VEVENT
DTSTART;TZID=America/New_York:20260504T170000
DTEND;TZID=America/New_York:20260504T180000
DTSTAMP:20260423T060622
CREATED:20260402T110138Z
LAST-MODIFIED:20260402T110138Z
UID:10002997-1777914000-1777917600@whatsnewpasco.com
SUMMARY:Grand Group - West Pasco
DESCRIPTION:Support and resource group for grandparents raising grandchildren \n\n\n\n\nAre you a grandparent raising grandchildren? Or do you know someone who is? \nThe first Monday of every month\, One Stop Shop hosts a Grand Group support and resource meeting to walk with you during this journey. Meetings are created for Grands to meet one another\, share\, and find support and resources. Each month\, a guest speak joins us to share available local resources and assistance in Pasco County. \nFor more information\, please call 1.352.521.1254.
URL:https://whatsnewpasco.com/event/grand-group-west-pasco/2026-05-04/
LOCATION:Elsie Logan Memorial Park\, 15830 Greenglen Lane\, Shady Hills\, FL\, 34610\, United States
CATEGORIES:Free
ATTACH;FMTTYPE=image/webp:https://whatsnewpasco.com/wp-content/uploads/2026/04/image-2-scaled.webp
END:VEVENT
BEGIN:VEVENT
DTSTART;TZID=America/New_York:20260504T170000
DTEND;TZID=America/New_York:20260504T200000
DTSTAMP:20260423T060622
CREATED:20260318T203442Z
LAST-MODIFIED:20260318T203442Z
UID:10000397-1777914000-1777924800@whatsnewpasco.com
SUMMARY:Mahjong Mondays (5PM ET)
DESCRIPTION:Join us for Mahjong Mondays at B&B! 5-8PM (ET)! New & experienced Mahjong players are welcome! 😊 \nIf you are ready to challenge your skills & enjoy a Chinese game of strategy and luck\, don’t miss these fun events! \n🍻Arrive early to enjoy our Happy Hour menu! \n#BBTheatres #Mahjong #HappyHour
URL:https://whatsnewpasco.com/event/mahjong-mondays-5pm-et/2026-05-04/
LOCATION:B&B Theatres Wesley Chapel – The Grove 16\, 6333 Wesley Grove Blvd\, Wesley Chapel\, FL\, 33544\, United States
CATEGORIES:Free
ATTACH;FMTTYPE=image/jpeg:https://whatsnewpasco.com/wp-content/uploads/2026/03/wp_img_8849721989371461753.jpg
END:VEVENT
BEGIN:VEVENT
DTSTART;TZID=America/New_York:20260510T110000
DTEND;TZID=America/New_York:20260510T150000
DTSTAMP:20260423T060622
CREATED:20260319T142657Z
LAST-MODIFIED:20260319T142917Z
UID:10001469-1778410800-1778425200@whatsnewpasco.com
SUMMARY:Harvest Markets near KRATE at The Grove
DESCRIPTION:OPEN 11AM-3PM!FREE ENTRY! FREE PARKING!FAMILY & PET FRIENDLY!\nHANDICAP ACCESSIBLE! \n80+ Vendors with Produce\, Cottage Goods\, Baked Goods\, Home Decor\, Self Care\, Art\, Accessories & more! Located in Wesley Chapel\, near KRATE at the Grove\, Harvest Markets happen every 2nd & 4th Sunday\, from Fall to Spring. \nHosted by Florida Penguin Productions\nVendor Fee: ONLY $55! For more info\, click the link below or email our coordinator at Brett@FloridaPenguinProductions.com \nVendor Registration: https://lp.constantcontactpages.com/ev/reg/466t8k9
URL:https://whatsnewpasco.com/event/harvest-markets-near-krate-at-the-grove-2/2026-05-10/
LOCATION:KRATE at The Grove\, 5817 Goldview Pkwy\, Wesley Chapel\, FL\, 33544\, United States
CATEGORIES:Family Fun,Festivals & Markets,Food & Drinks,Free
ATTACH;FMTTYPE=image/jpeg:https://whatsnewpasco.com/wp-content/uploads/2026/03/Harvest-Market-at-The-Grove.jpg
END:VEVENT
END:VCALENDAR