BEGIN:VCALENDAR
VERSION:2.0
PRODID:-//What&#039;s New Pasco - ECPv6.15.20//NONSGML v1.0//EN
CALSCALE:GREGORIAN
METHOD:PUBLISH
X-WR-CALNAME:What&#039;s New Pasco
X-ORIGINAL-URL:https://whatsnewpasco.com
X-WR-CALDESC:Events for What&#039;s New Pasco
REFRESH-INTERVAL;VALUE=DURATION:PT1H
X-Robots-Tag:noindex
X-PUBLISHED-TTL:PT1H
BEGIN:VTIMEZONE
TZID:America/New_York
BEGIN:DAYLIGHT
TZOFFSETFROM:-0500
TZOFFSETTO:-0400
TZNAME:EDT
DTSTART:20250309T070000
END:DAYLIGHT
BEGIN:STANDARD
TZOFFSETFROM:-0400
TZOFFSETTO:-0500
TZNAME:EST
DTSTART:20251102T060000
END:STANDARD
BEGIN:DAYLIGHT
TZOFFSETFROM:-0500
TZOFFSETTO:-0400
TZNAME:EDT
DTSTART:20260308T070000
END:DAYLIGHT
BEGIN:STANDARD
TZOFFSETFROM:-0400
TZOFFSETTO:-0500
TZNAME:EST
DTSTART:20261101T060000
END:STANDARD
BEGIN:DAYLIGHT
TZOFFSETFROM:-0500
TZOFFSETTO:-0400
TZNAME:EDT
DTSTART:20270314T070000
END:DAYLIGHT
BEGIN:STANDARD
TZOFFSETFROM:-0400
TZOFFSETTO:-0500
TZNAME:EST
DTSTART:20271107T060000
END:STANDARD
END:VTIMEZONE
BEGIN:VEVENT
DTSTART;TZID=America/New_York:20260319T090000
DTEND;TZID=America/New_York:20260416T170000
DTSTAMP:20260423T001935
CREATED:20260319T030045Z
LAST-MODIFIED:20260319T031117Z
UID:10000657-1773910800-1776358800@whatsnewpasco.com
SUMMARY:Pinecrest Career Expo
DESCRIPTION:Calling all passionate educators! \nPinecrest Academy Wesley Chapel is hosting the PAWC Career Expo and inviting talented teachers to explore opportunities for the 2026–2027 school year. Meet the leadership team\, learn about open positions across our Pre-K through 12 campus\, and discover what makes Pinecrest a supportive\, student-centered place to grow your career. \nWhether you are a new graduate or an experienced educator\, this is a great opportunity to connect and learn how you can make an impact in the classroom. \nThursday\, March 19Thursday\, April 166:00 PM – 8:00 PM33347 State Road 54\, Wesley Chapel\, FL \nApplicants must hold a Bachelor’s Degree in Education or a related field and be actively pursuing teacher certification.
URL:https://whatsnewpasco.com/event/pinecrest-career-expo-2/
LOCATION:Pinecrest Academy Wesley Chapel\, 33347 State Road 54\, Wesley Chapel\, FL\, 33543\, United States
CATEGORIES:Free
ATTACH;FMTTYPE=image/png:https://whatsnewpasco.com/wp-content/uploads/2026/03/footer_logo_v2.png
END:VEVENT
BEGIN:VEVENT
DTSTART;TZID=America/New_York:20260406T170000
DTEND;TZID=America/New_York:20260406T180000
DTSTAMP:20260423T001935
CREATED:20260402T110138Z
LAST-MODIFIED:20260402T110138Z
UID:10002996-1775494800-1775498400@whatsnewpasco.com
SUMMARY:Grand Group - West Pasco
DESCRIPTION:Support and resource group for grandparents raising grandchildren \n\n\n\n\nAre you a grandparent raising grandchildren? Or do you know someone who is? \nThe first Monday of every month\, One Stop Shop hosts a Grand Group support and resource meeting to walk with you during this journey. Meetings are created for Grands to meet one another\, share\, and find support and resources. Each month\, a guest speak joins us to share available local resources and assistance in Pasco County. \nFor more information\, please call 1.352.521.1254.
URL:https://whatsnewpasco.com/event/grand-group-west-pasco/2026-04-06/
LOCATION:Elsie Logan Memorial Park\, 15830 Greenglen Lane\, Shady Hills\, FL\, 34610\, United States
CATEGORIES:Free
ATTACH;FMTTYPE=image/webp:https://whatsnewpasco.com/wp-content/uploads/2026/04/image-2-scaled.webp
END:VEVENT
BEGIN:VEVENT
DTSTART;TZID=America/New_York:20260406T170000
DTEND;TZID=America/New_York:20260406T200000
DTSTAMP:20260423T001935
CREATED:20260318T203442Z
LAST-MODIFIED:20260318T203442Z
UID:10000393-1775494800-1775505600@whatsnewpasco.com
SUMMARY:Mahjong Mondays (5PM ET)
DESCRIPTION:Join us for Mahjong Mondays at B&B! 5-8PM (ET)! New & experienced Mahjong players are welcome! 😊 \nIf you are ready to challenge your skills & enjoy a Chinese game of strategy and luck\, don’t miss these fun events! \n🍻Arrive early to enjoy our Happy Hour menu! \n#BBTheatres #Mahjong #HappyHour
URL:https://whatsnewpasco.com/event/mahjong-mondays-5pm-et/2026-04-06/
LOCATION:B&B Theatres Wesley Chapel – The Grove 16\, 6333 Wesley Grove Blvd\, Wesley Chapel\, FL\, 33544\, United States
CATEGORIES:Free
ATTACH;FMTTYPE=image/jpeg:https://whatsnewpasco.com/wp-content/uploads/2026/03/wp_img_8849721989371461753.jpg
END:VEVENT
END:VCALENDAR