BEGIN:VCALENDAR
VERSION:2.0
PRODID:-//What&#039;s New Pasco - ECPv6.15.20//NONSGML v1.0//EN
CALSCALE:GREGORIAN
METHOD:PUBLISH
X-WR-CALNAME:What&#039;s New Pasco
X-ORIGINAL-URL:https://whatsnewpasco.com
X-WR-CALDESC:Events for What&#039;s New Pasco
REFRESH-INTERVAL;VALUE=DURATION:PT1H
X-Robots-Tag:noindex
X-PUBLISHED-TTL:PT1H
BEGIN:VTIMEZONE
TZID:America/New_York
BEGIN:DAYLIGHT
TZOFFSETFROM:-0500
TZOFFSETTO:-0400
TZNAME:EDT
DTSTART:20250309T070000
END:DAYLIGHT
BEGIN:STANDARD
TZOFFSETFROM:-0400
TZOFFSETTO:-0500
TZNAME:EST
DTSTART:20251102T060000
END:STANDARD
BEGIN:DAYLIGHT
TZOFFSETFROM:-0500
TZOFFSETTO:-0400
TZNAME:EDT
DTSTART:20260308T070000
END:DAYLIGHT
BEGIN:STANDARD
TZOFFSETFROM:-0400
TZOFFSETTO:-0500
TZNAME:EST
DTSTART:20261101T060000
END:STANDARD
BEGIN:DAYLIGHT
TZOFFSETFROM:-0500
TZOFFSETTO:-0400
TZNAME:EDT
DTSTART:20270314T070000
END:DAYLIGHT
BEGIN:STANDARD
TZOFFSETFROM:-0400
TZOFFSETTO:-0500
TZNAME:EST
DTSTART:20271107T060000
END:STANDARD
END:VTIMEZONE
BEGIN:VEVENT
DTSTART;TZID=America/New_York:20260320T190000
DTEND;TZID=America/New_York:20260320T203000
DTSTAMP:20260421T233741
CREATED:20260319T021815Z
LAST-MODIFIED:20260319T021815Z
UID:10000664-1774033200-1774038600@whatsnewpasco.com
SUMMARY:The Winery Comedy Tour at Masaryk Winery!
DESCRIPTION:Get ready to laugh your socks off at The Winery Comedy Tour at Masaryk – a night of hilarious stand-up and top-notch drinks! \n\n\n\n\nCome join us for a night of laughter\, the Winery Comedy Tour is hitting the road and making a stop at this awesome venue. Get ready to enjoy some hilarious stand-up comedy from talented comedians while sipping on delicious drinks. This in-person event promises to be a night full of fun and laughter. Don’t miss out on this unique comedy experience!
URL:https://whatsnewpasco.com/event/the-winery-comedy-tour-at-masaryk-winery/
LOCATION:Masaryk Winery\, 19125 Phillips Road\, Masaryktown\, FL\, United States
CATEGORIES:Nightlife
ATTACH;FMTTYPE=image/jpeg:https://whatsnewpasco.com/wp-content/uploads/2026/03/wp_img_1382745121109520587.jpg
END:VEVENT
BEGIN:VEVENT
DTSTART;TZID=America/New_York:20260320T200000
DTEND;TZID=America/New_York:20260320T213000
DTSTAMP:20260421T233741
CREATED:20260319T014439Z
LAST-MODIFIED:20260319T014611Z
UID:10000669-1774036800-1774042200@whatsnewpasco.com
SUMMARY:Chuck Glass: Dad Jokes – Comedy Special Recording
DESCRIPTION:Chuck Glass: Dad Jokes – Comedy Special Recording \nBe part of comedy history!\nAward-winning comedian Chuck Glass brings his sharp wit and high-energy humor to the stage for the live taping of his highly anticipated special\, Dad Jokes. This one-night-only event dives into the chaos\, nostalgia\, and hilarious realities of being a millennial dad. \n🎤 Featuring Special Guests: \nBarry S. Naylor\nStefano Capicotto \n📅 Friday\, March 20\, 2026\n🕗 8:00 PM\n📍 Richey Suncoast Theatre\n6237 Grand Blvd\, New Port Richey\, FL \nNote: While the special is about kids\, it contains adult humor and is not appropriate for children. (+18 adults only)\n Don’t miss your chance to laugh\, cheer\, and be part of the audience for this unforgettable recording!
URL:https://whatsnewpasco.com/event/chuck-glass-dad-jokes-comedy-special-recording/
LOCATION:6237 Grand Blvd\, New Port Richey\, FL\, United States
CATEGORIES:Comedy,Nightlife
ATTACH;FMTTYPE=image/jpeg:https://whatsnewpasco.com/wp-content/uploads/2026/03/wp_img_2241162134455951537.jpg
END:VEVENT
END:VCALENDAR