BEGIN:VCALENDAR
VERSION:2.0
PRODID:-//What&#039;s New Pasco - ECPv6.15.20//NONSGML v1.0//EN
CALSCALE:GREGORIAN
METHOD:PUBLISH
X-ORIGINAL-URL:https://whatsnewpasco.com
X-WR-CALDESC:Events for What&#039;s New Pasco
REFRESH-INTERVAL;VALUE=DURATION:PT1H
X-Robots-Tag:noindex
X-PUBLISHED-TTL:PT1H
BEGIN:VTIMEZONE
TZID:America/New_York
BEGIN:DAYLIGHT
TZOFFSETFROM:-0500
TZOFFSETTO:-0400
TZNAME:EDT
DTSTART:20250309T070000
END:DAYLIGHT
BEGIN:STANDARD
TZOFFSETFROM:-0400
TZOFFSETTO:-0500
TZNAME:EST
DTSTART:20251102T060000
END:STANDARD
BEGIN:DAYLIGHT
TZOFFSETFROM:-0500
TZOFFSETTO:-0400
TZNAME:EDT
DTSTART:20260308T070000
END:DAYLIGHT
BEGIN:STANDARD
TZOFFSETFROM:-0400
TZOFFSETTO:-0500
TZNAME:EST
DTSTART:20261101T060000
END:STANDARD
BEGIN:DAYLIGHT
TZOFFSETFROM:-0500
TZOFFSETTO:-0400
TZNAME:EDT
DTSTART:20270314T070000
END:DAYLIGHT
BEGIN:STANDARD
TZOFFSETFROM:-0400
TZOFFSETTO:-0500
TZNAME:EST
DTSTART:20271107T060000
END:STANDARD
END:VTIMEZONE
BEGIN:VEVENT
DTSTART;VALUE=DATE:20260320
DTEND;VALUE=DATE:20260329
DTSTAMP:20260424T184854
CREATED:20260318T171639Z
LAST-MODIFIED:20260319T155923Z
UID:10000320-1773964800-1774742399@whatsnewpasco.com
SUMMARY:2026 Chasco Fiesta
DESCRIPTION:Chasco Fiesta is one of Pasco County’s most beloved annual traditions — a nine-day spring festival celebrating the cultural heritage of the Pithlachascotee River and the surrounding New Port Richey community. The festival features live music concerts\, a grand street parade\, Native American cultural programming\, a boat parade down the Pithlachascotee River\, a classic car and truck show\, carnival rides\, and a diverse lineup of family-friendly activities across Sims Park and downtown venues. \n\n\n\nFestival Highlights\n\n\n\n\nParades – Fiesta Street Parade on March 21 and Flagship Bank Boat Parade on March 28\nLive Music – Nightly concerts including Molly Hatchet\, Cassidy Daniels with John Carter Cash\, The Black Honkeys\, Pat Travers Band\, Sean Chambers\, and more\nNative American Festival – Nine-day cultural village with dance exhibitions\, drumming\, flute performances\, and artisan vendors\nCar\, Truck & Bike Show – 27th annual show hosted by Gulf Side Corvette Club on March 22\nCarnival – Midway rides and attractions throughout festival week\nRiver Spirit Play – Historical performance celebrating the history of New Port Richey\nGolf Tournament – Annual Chasco Fiesta Golf Tournament at Seven Springs Golf and Country Club (March 26)\n\n\n\n\nMost general festival activities at Sims Park are free. Select evening concerts require tickets\, ranging from $5 for daily festival entry to $20–$30 for premium reserved seating at national acts. Children 12 and under are free for most events. \n\n\n\nFor the full schedule\, ticketing\, and event details\, visit chascofiesta.com.
URL:https://whatsnewpasco.com/event/2026-chasco-fiesta-2/
LOCATION:Sims Park\, 5012 Robert McCraney St\, New Port Richey\, FL\, 34652\, United States
CATEGORIES:Family Fun,Festivals & Markets,Free
ATTACH;FMTTYPE=image/png:https://whatsnewpasco.com/wp-content/uploads/2026/03/chasco-fiesta-2026.png
END:VEVENT
BEGIN:VEVENT
DTSTART;TZID=America/New_York:20260320T170000
DTEND;TZID=America/New_York:20260328T220000
DTSTAMP:20260424T184854
CREATED:20260318T203123Z
LAST-MODIFIED:20260319T161933Z
UID:10000324-1774026000-1774735200@whatsnewpasco.com
SUMMARY:Chasco Fiesta – Native American Festival
DESCRIPTION:Sims Park | New Port Richey \nExperience music\, dance\, storytelling\, artistry\, and living cultural traditions at the Chasco Fiesta Native American Festival. \n2026 Native American Cultural Showcase Daily Schedule \nThroughout the week\, guests can explore the Native American Village\, experience traditional and contemporary dance exhibitions\, hear powerful drumming and flute performances\, meet artists and craftsmen\, and learn about the rich heritage and history that remain at the heart of Chasco Fiesta. \nThis long-standing tradition honors Native cultures through authentic performances\, educational demonstrations\, interactive opportunities\, and special main stage showcases. From vibrant regalia and hoop dancing to artisan vendors and cultural storytelling\, each day offers something meaningful for all ages. \nThe Native American Festival is a cornerstone of Chasco Fiesta’s mission to enhance lives through cultural education and the performing arts.
URL:https://whatsnewpasco.com/event/chasco-fiesta-native-american-festival/
LOCATION:Sims Park\, 5012 Robert McCraney St\, New Port Richey\, FL\, 34652\, United States
CATEGORIES:Family Fun,Festivals & Markets,Free
ATTACH;FMTTYPE=image/png:https://whatsnewpasco.com/wp-content/uploads/2026/03/chasco_img_1773856010222261739.png
END:VEVENT
BEGIN:VEVENT
DTSTART;TZID=America/New_York:20260320T170000
DTEND;TZID=America/New_York:20260328T230000
DTSTAMP:20260424T184854
CREATED:20260318T203123Z
LAST-MODIFIED:20260319T162317Z
UID:10000322-1774026000-1774738800@whatsnewpasco.com
SUMMARY:Chasco Fiesta Carnival
DESCRIPTION:Enjoy classic midway rides\, family attractions\, and carnival favorites during the Chasco Fiesta Carnival™ in downtown New Port Richey. \nThe Chasco Fiesta Carnival™ returns with bright lights\, thrilling rides\, games\, and traditional carnival treats for all ages. Located near Main Street and River Road\, the midway is a longtime festival tradition and a favorite stop for families and thrill seekers throughout the week. \nGuests can enjoy a wide variety of rides and attractions while taking in the excitement of the carnival during Chasco Fiesta. \nRide Ticket Prices \nSingle Ticket: $1\n24 Tickets: $20\n45 Tickets: $35 \nUnlimited Ride Wristbands \nWeekdays: $25\nFriday\, Saturday and Sunday: $30 \nTwo-Ticket Tuesday Special \nOn Tuesday\, all rides require just two tickets each. Unlimited ride wristbands are also available. \nCarnival Hours \nFriday\, March 20\n5:00 PM – 11:00 PM \nSaturday\, March 21\n12:00 PM – 11:00 PM \nSunday\, March 22\n12:00 PM – 10:00 PM \nMonday\, March 23 – Thursday\, March 26\n5:00 PM – 10:00 PM \nFriday\, March 27\n5:00 PM – 11:00 PM \nSaturday\, March 28\n12:00 PM – 11:00 PM \nLocation\nMain Street & River Road\nDowntown New Port Richey
URL:https://whatsnewpasco.com/event/chasco-fiesta-carnival/2026-03-20/
LOCATION:Downtown New Port Richey\, Main Street & River Road\, New Port Richey\, FL\, 34652\, United States
CATEGORIES:Family Fun,Festivals & Markets,Free
ATTACH;FMTTYPE=image/png:https://whatsnewpasco.com/wp-content/uploads/2026/03/chasco_img_1773856005374708501.png
END:VEVENT
BEGIN:VEVENT
DTSTART;TZID=America/New_York:20260328T120000
DTEND;TZID=America/New_York:20260328T230000
DTSTAMP:20260424T184854
CREATED:20260318T203123Z
LAST-MODIFIED:20260319T162317Z
UID:10001535-1774699200-1774738800@whatsnewpasco.com
SUMMARY:Chasco Fiesta Carnival
DESCRIPTION:Enjoy classic midway rides\, family attractions\, and carnival favorites during the Chasco Fiesta Carnival™ in downtown New Port Richey. \nThe Chasco Fiesta Carnival™ returns with bright lights\, thrilling rides\, games\, and traditional carnival treats for all ages. Located near Main Street and River Road\, the midway is a longtime festival tradition and a favorite stop for families and thrill seekers throughout the week. \nGuests can enjoy a wide variety of rides and attractions while taking in the excitement of the carnival during Chasco Fiesta. \nRide Ticket Prices \nSingle Ticket: $1\n24 Tickets: $20\n45 Tickets: $35 \nUnlimited Ride Wristbands \nWeekdays: $25\nFriday\, Saturday and Sunday: $30 \nTwo-Ticket Tuesday Special \nOn Tuesday\, all rides require just two tickets each. Unlimited ride wristbands are also available. \nCarnival Hours \nFriday\, March 20\n5:00 PM – 11:00 PM \nSaturday\, March 21\n12:00 PM – 11:00 PM \nSunday\, March 22\n12:00 PM – 10:00 PM \nMonday\, March 23 – Thursday\, March 26\n5:00 PM – 10:00 PM \nFriday\, March 27\n5:00 PM – 11:00 PM \nSaturday\, March 28\n12:00 PM – 11:00 PM \nLocation\nMain Street & River Road\nDowntown New Port Richey
URL:https://whatsnewpasco.com/event/chasco-fiesta-carnival/2026-03-28/
LOCATION:Downtown New Port Richey\, Main Street & River Road\, New Port Richey\, FL\, 34652\, United States
CATEGORIES:Family Fun,Festivals & Markets,Free
ATTACH;FMTTYPE=image/png:https://whatsnewpasco.com/wp-content/uploads/2026/03/chasco_img_1773856005374708501.png
END:VEVENT
BEGIN:VEVENT
DTSTART;TZID=America/New_York:20260328T130000
DTEND;TZID=America/New_York:20260328T160000
DTSTAMP:20260424T184854
CREATED:20260318T202911Z
LAST-MODIFIED:20260319T161934Z
UID:10000339-1774702800-1774713600@whatsnewpasco.com
SUMMARY:Chasco Fiesta – Flagship Bank Boat Parade
DESCRIPTION:The Flagship Bank Chasco Fiesta Boat Parade™ is free to watch from Sims Park\, and park entry is FREE until 4:00 PM on parade day. Grab a spot along the river\, and enjoy the sights and sounds as decorated boats cruise through Downtown New Port Richey. No ticket or festival entry is required before 4:00 PM. \nArrive early for the best viewing spots along the river! \nThe Flagship Bank Chasco Fiesta Boat Parade™ returns to Downtown New Port Richey for an afternoon of color\, creativity\, and hometown pride on the Pithlachascotee River as part of Chasco Fiesta™. This beloved tradition invites boaters of all kinds to decorate\, celebrate\, and showcase what the Spirit of America means to them. \nFrom patriotic themes to imaginative designs\, the parade brings the community together on the water for one of the area’s longest-running and most anticipated events. \nParade Time: 1:00 PMLocation: Pithlachascotee River\, Downtown New Port RicheyBest Viewing Area: Sims Park \nPresented by: Flagship BankHosted by: Rotary Club of New Port Richey \nEntry Fee (Participants Only) $25 per participating boat\nAwards & Prizes\n• Business / Profit Category• Non-Profit / School Category• Individual / Family Category \nPrize Payouts:• 1st Place: $1\,000• 2nd Place: $750• 3rd Place: $500• People’s Choice Award: $1\,000• Grand Prize: $2\,000 \nParticipant Details\nAll registered captains must attend the mandatory Captain’s Meeting on Thursday\, March 26 at 6:00 PM at Hooters.Large boats will launch from an alternate starting location at Moonlight Bay.For safety reasons\, water balloons and any thrown objects are not permitted. \nParticipant Information \nRegistration & More Information\nClick here for the Boat Parade Registration form to enter the parade.For questions\, please contact the Rotary Club of New Port Richey at nprrotary.secretary@gmail.com or 727-859-6540. \nExplore the History\nView historic photos from the Chasco Fiesta™ Boat Parade\, including images dating back to 1947\, in this curated photo album provided by our friends at the West Pasco Historical Society. View the historic photo gallery here.
URL:https://whatsnewpasco.com/event/chasco-fiesta-flagship-bank-boat-parade/
LOCATION:Sims Park\, 5012 Robert McCraney St\, New Port Richey\, FL\, 34652\, United States
CATEGORIES:Family Fun,Festivals & Markets,Free
ATTACH;FMTTYPE=image/png:https://whatsnewpasco.com/wp-content/uploads/2026/03/chasco_img_1773856039918685790.png
END:VEVENT
BEGIN:VEVENT
DTSTART;TZID=America/New_York:20260328T180000
DTEND;TZID=America/New_York:20260328T230000
DTSTAMP:20260424T184854
CREATED:20260318T202903Z
LAST-MODIFIED:20260319T161934Z
UID:10000338-1774720800-1774738800@whatsnewpasco.com
SUMMARY:Chasco Fiesta – Country Stage: Cassidy Daniels & John Carter Cash Tribute
DESCRIPTION:Chasco Fiesta™ Country Stage brings a powerful night of music\, legacy\, and celebration to Sims Park on Saturday\, March 28. \nThe evening features a special stage dedication honoring Johnny and June Carter Cash\, with John Carter Cash present on behalf of the Cash family for a commemorative tribute and performance. This meaningful moment celebrates the enduring impact of one of country music’s most iconic families. \nAlso taking the stage is rising country artist Cassidy Daniels\, delivering a high-energy closing performance\, along with opening act Clint Byron to kick off the night. \nShow Schedule:11:00 AM – Gates Open6:00 PM – Clint Byron7:30 PM – Johnny Cash & June Carter Cash Stage Dedication with a Special Performance by John Carter Cash9:00 PM – Cassidy Daniels \nAdmission: \n$20 General Concert Seating$30 Premium Concert SeatingYour concert ticket includes full park entry for the day. \n$5 Park EntryFor guests who wish to enjoy the festival grounds only. Does not include access to the amphitheater concert area. \nSponsored by Coast Buick GMC\, F.I. Grey & Son\, and the City of New Port Richey. \nTickets available through Ruth Eckerd Hall. HERE \nFor artist bios\, videos\, and additional details\, visit the Live Music page HERE.
URL:https://whatsnewpasco.com/event/chasco-fiesta-country-stage-cassidy-daniels-john-carter-cash-tribute/
LOCATION:Sims Park\, 5012 Robert McCraney St\, New Port Richey\, FL\, 34652\, United States
CATEGORIES:Family Fun,Festivals & Markets
ATTACH;FMTTYPE=image/png:https://whatsnewpasco.com/wp-content/uploads/2026/03/chasco_img_1773856038807200706.png
END:VEVENT
END:VCALENDAR