BEGIN:VCALENDAR
VERSION:2.0
PRODID:-//What&#039;s New Pasco - ECPv6.15.20//NONSGML v1.0//EN
CALSCALE:GREGORIAN
METHOD:PUBLISH
X-WR-CALNAME:What&#039;s New Pasco
X-ORIGINAL-URL:https://whatsnewpasco.com
X-WR-CALDESC:Events for What&#039;s New Pasco
REFRESH-INTERVAL;VALUE=DURATION:PT1H
X-Robots-Tag:noindex
X-PUBLISHED-TTL:PT1H
BEGIN:VTIMEZONE
TZID:America/New_York
BEGIN:DAYLIGHT
TZOFFSETFROM:-0500
TZOFFSETTO:-0400
TZNAME:EDT
DTSTART:20250309T070000
END:DAYLIGHT
BEGIN:STANDARD
TZOFFSETFROM:-0400
TZOFFSETTO:-0500
TZNAME:EST
DTSTART:20251102T060000
END:STANDARD
BEGIN:DAYLIGHT
TZOFFSETFROM:-0500
TZOFFSETTO:-0400
TZNAME:EDT
DTSTART:20260308T070000
END:DAYLIGHT
BEGIN:STANDARD
TZOFFSETFROM:-0400
TZOFFSETTO:-0500
TZNAME:EST
DTSTART:20261101T060000
END:STANDARD
BEGIN:DAYLIGHT
TZOFFSETFROM:-0500
TZOFFSETTO:-0400
TZNAME:EDT
DTSTART:20270314T070000
END:DAYLIGHT
BEGIN:STANDARD
TZOFFSETFROM:-0400
TZOFFSETTO:-0500
TZNAME:EST
DTSTART:20271107T060000
END:STANDARD
END:VTIMEZONE
BEGIN:VEVENT
DTSTART;TZID=America/New_York:20260307T090000
DTEND;TZID=America/New_York:20260307T170000
DTSTAMP:20260421T215128
CREATED:20260318T224002Z
LAST-MODIFIED:20260318T224002Z
UID:10000347-1772874000-1772902800@whatsnewpasco.com
SUMMARY:Holi Festival of Colors (KRATE at The Grove)
DESCRIPTION:Festival-style Holi celebration event listed on KRATE calendar with live entertainment and community gathering.
URL:https://whatsnewpasco.com/event/holi-festival-of-colors-krate-at-the-grove-2/
LOCATION:KRATE at The Grove\, 5817 Goldview Pkwy\, Wesley Chapel\, FL\, 33544\, United States
CATEGORIES:Family Fun,Festivals & Markets
END:VEVENT
BEGIN:VEVENT
DTSTART;TZID=America/New_York:20260308T090000
DTEND;TZID=America/New_York:20260308T170000
DTSTAMP:20260421T215128
CREATED:20260318T224002Z
LAST-MODIFIED:20260318T224002Z
UID:10000348-1772960400-1772989200@whatsnewpasco.com
SUMMARY:29th Annual Kumquat Festival
DESCRIPTION:East Pasco signature festival with arts/crafts\, vendors\, food\, and family activities; rescheduled date posted by chamber listing.
URL:https://whatsnewpasco.com/event/29th-annual-kumquat-festival-2/
LOCATION:Downtown Dade City\, FL\, United States
CATEGORIES:Family Fun,Festivals & Markets,Food & Drinks
END:VEVENT
BEGIN:VEVENT
DTSTART;TZID=America/New_York:20260315T090000
DTEND;TZID=America/New_York:20260315T170000
DTSTAMP:20260421T215128
CREATED:20260318T223950Z
LAST-MODIFIED:20260318T223950Z
UID:10000372-1773565200-1773594000@whatsnewpasco.com
SUMMARY:New Port Richey Film Festival
DESCRIPTION:Community film festival featuring youth and adult local filmmakers.
URL:https://whatsnewpasco.com/event/new-port-richey-film-festival-2/
LOCATION:Richey Suncoast Theatre\, 6237 Grand Boulevard\, New\, Port\, United States
CATEGORIES:Festivals & Markets
END:VEVENT
BEGIN:VEVENT
DTSTART;TZID=America/New_York:20260316T090000
DTEND;TZID=America/New_York:20260316T170000
DTSTAMP:20260421T215128
CREATED:20260318T223950Z
LAST-MODIFIED:20260318T223950Z
UID:10000381-1773651600-1773680400@whatsnewpasco.com
SUMMARY:Visual Arts Class with Prodigy Cultural Arts for Youth
DESCRIPTION:Free weekly visual-arts classes for youth with instructor Junior Polo at Centennial Park Library\, with afternoon session options.
URL:https://whatsnewpasco.com/event/visual-arts-class-with-prodigy-cultural-arts-for-youth-2/
LOCATION:Centennial Park Library\, 5740 Moog Rd.\, Holiday\, United States
CATEGORIES:Classes & Courses,Festivals & Markets,Free
END:VEVENT
BEGIN:VEVENT
DTSTART;TZID=America/New_York:20260319T190000
DTEND;TZID=America/New_York:20260319T220000
DTSTAMP:20260421T215128
CREATED:20260319T031827Z
LAST-MODIFIED:20260319T031827Z
UID:10000656-1773946800-1773957600@whatsnewpasco.com
SUMMARY:KRATE Has Talent
DESCRIPTION:Local talent showcase event at KRATE.
URL:https://whatsnewpasco.com/event/krate-has-talent-2/
LOCATION:KRATE at The Grove\, 5817 Goldview Pkwy\, Wesley Chapel\, FL\, 33544\, United States
CATEGORIES:Family Fun,Festivals & Markets,Free
ATTACH;FMTTYPE=image/png:https://whatsnewpasco.com/wp-content/uploads/2026/03/logo-5001.png
END:VEVENT
BEGIN:VEVENT
DTSTART;VALUE=DATE:20260320
DTEND;VALUE=DATE:20260329
DTSTAMP:20260421T215128
CREATED:20260318T171639Z
LAST-MODIFIED:20260319T155923Z
UID:10000320-1773964800-1774742399@whatsnewpasco.com
SUMMARY:2026 Chasco Fiesta
DESCRIPTION:Chasco Fiesta is one of Pasco County’s most beloved annual traditions — a nine-day spring festival celebrating the cultural heritage of the Pithlachascotee River and the surrounding New Port Richey community. The festival features live music concerts\, a grand street parade\, Native American cultural programming\, a boat parade down the Pithlachascotee River\, a classic car and truck show\, carnival rides\, and a diverse lineup of family-friendly activities across Sims Park and downtown venues. \n\n\n\nFestival Highlights\n\n\n\n\nParades – Fiesta Street Parade on March 21 and Flagship Bank Boat Parade on March 28\nLive Music – Nightly concerts including Molly Hatchet\, Cassidy Daniels with John Carter Cash\, The Black Honkeys\, Pat Travers Band\, Sean Chambers\, and more\nNative American Festival – Nine-day cultural village with dance exhibitions\, drumming\, flute performances\, and artisan vendors\nCar\, Truck & Bike Show – 27th annual show hosted by Gulf Side Corvette Club on March 22\nCarnival – Midway rides and attractions throughout festival week\nRiver Spirit Play – Historical performance celebrating the history of New Port Richey\nGolf Tournament – Annual Chasco Fiesta Golf Tournament at Seven Springs Golf and Country Club (March 26)\n\n\n\n\nMost general festival activities at Sims Park are free. Select evening concerts require tickets\, ranging from $5 for daily festival entry to $20–$30 for premium reserved seating at national acts. Children 12 and under are free for most events. \n\n\n\nFor the full schedule\, ticketing\, and event details\, visit chascofiesta.com.
URL:https://whatsnewpasco.com/event/2026-chasco-fiesta-2/
LOCATION:Sims Park\, 5012 Robert McCraney St\, New Port Richey\, FL\, 34652\, United States
CATEGORIES:Family Fun,Festivals & Markets,Free
ATTACH;FMTTYPE=image/png:https://whatsnewpasco.com/wp-content/uploads/2026/03/chasco-fiesta-2026.png
END:VEVENT
BEGIN:VEVENT
DTSTART;TZID=America/New_York:20260320T170000
DTEND;TZID=America/New_York:20260328T220000
DTSTAMP:20260421T215128
CREATED:20260318T203123Z
LAST-MODIFIED:20260319T161933Z
UID:10000324-1774026000-1774735200@whatsnewpasco.com
SUMMARY:Chasco Fiesta – Native American Festival
DESCRIPTION:Sims Park | New Port Richey \nExperience music\, dance\, storytelling\, artistry\, and living cultural traditions at the Chasco Fiesta Native American Festival. \n2026 Native American Cultural Showcase Daily Schedule \nThroughout the week\, guests can explore the Native American Village\, experience traditional and contemporary dance exhibitions\, hear powerful drumming and flute performances\, meet artists and craftsmen\, and learn about the rich heritage and history that remain at the heart of Chasco Fiesta. \nThis long-standing tradition honors Native cultures through authentic performances\, educational demonstrations\, interactive opportunities\, and special main stage showcases. From vibrant regalia and hoop dancing to artisan vendors and cultural storytelling\, each day offers something meaningful for all ages. \nThe Native American Festival is a cornerstone of Chasco Fiesta’s mission to enhance lives through cultural education and the performing arts.
URL:https://whatsnewpasco.com/event/chasco-fiesta-native-american-festival/
LOCATION:Sims Park\, 5012 Robert McCraney St\, New Port Richey\, FL\, 34652\, United States
CATEGORIES:Family Fun,Festivals & Markets,Free
ATTACH;FMTTYPE=image/png:https://whatsnewpasco.com/wp-content/uploads/2026/03/chasco_img_1773856010222261739.png
END:VEVENT
BEGIN:VEVENT
DTSTART;TZID=America/New_York:20260320T180000
DTEND;TZID=America/New_York:20260320T230000
DTSTAMP:20260421T215128
CREATED:20260318T203123Z
LAST-MODIFIED:20260319T161933Z
UID:10000323-1774029600-1774047600@whatsnewpasco.com
SUMMARY:Chasco Fiesta – 39th Annual Coronation Ball
DESCRIPTION:The 39th Annual Chasco Coronation Ball is an elegant fundraising evening at historic Spartan Manor. Features dinner\, entertainment\, dancing\, and a silent auction. Culminates in the ceremonial coronation of King Pithla and Queen Chasco. Formal attire encouraged. Reception 6:00 PM\, Dinner 7:00 PM.
URL:https://whatsnewpasco.com/event/chasco-fiesta-39th-annual-coronation-ball/
LOCATION:Spartan Manor\, 6121 Massachusetts Avenue\, New Port Richey\, FL\, 34652
CATEGORIES:Festivals & Markets,Giving Back
ATTACH;FMTTYPE=image/png:https://whatsnewpasco.com/wp-content/uploads/2026/03/chasco_img_1773856008456650392.png
END:VEVENT
BEGIN:VEVENT
DTSTART;TZID=America/New_York:20260323T180000
DTEND;TZID=America/New_York:20260323T190000
DTSTAMP:20260421T215128
CREATED:20260318T203018Z
LAST-MODIFIED:20260319T161933Z
UID:10000332-1774288800-1774292400@whatsnewpasco.com
SUMMARY:Chasco Fiesta – River Spirit Play
DESCRIPTION:River Spirit Play brings the history of New Port Richey to life through “The Spirit of the River.”\n\n\n\n\n\n\n\n\n\n\n\n\n\nPresented by the West Pasco Historical Society and Chasco Fiesta™\, this special production brings local stories to life through narration\, historic visuals\, and meaningful moments that celebrate the heart of our community. \nWritten by Alma Bennett\, Ph.D. and directed by Jessica Glass\, River Spirit stars Judy Meyers in an evening that honors New Port Richey’s past and the river that helped shape it. \nThis year’s production includes support from local partners\, with special thanks to the Richey Suncoast Theatrefor their involvement in helping bring this community story to the stage. \nAudience members can also expect historical props featured on stage to help bring these stories to life. \nFree admission. All ages welcome! \n\n\n\n\n\n\n\n\n\nLearn more about the West Pasco Historical Society at westpascosmuseum.org.
URL:https://whatsnewpasco.com/event/chasco-fiesta-river-spirit-play/
LOCATION:Sims Park\, 5012 Robert McCraney St\, New Port Richey\, FL\, 34652\, United States
CATEGORIES:Family Fun,Festivals & Markets,Free
ATTACH;FMTTYPE=image/png:https://whatsnewpasco.com/wp-content/uploads/2026/03/chasco_img_1773856028481136141.png
END:VEVENT
BEGIN:VEVENT
DTSTART;TZID=America/New_York:20260404T170000
DTEND;TZID=America/New_York:20260404T210000
DTSTAMP:20260421T215128
CREATED:20260328T223957Z
LAST-MODIFIED:20260328T224100Z
UID:10002626-1775322000-1775336400@whatsnewpasco.com
SUMMARY:2026 Absolutely Avalon
DESCRIPTION:Join us for the 2026 Absolutely Avalon event!  The festivities will kick off on Saturday\, April 4\, 2026\, starting at 5 p.m.  Located in the heart of Avalon Park Wesley Chapel!  There will be food trucks\, vendors\, a complimentary bounce park\, and more!  This event is free and open to the public. \n\nPICTURES WITH THE EASTER BUNNY\nLASER LIGHT SHOW\nCULTURAL PERFORMANCES\nKIDS BOUNCE HOUSE AREA\nFOOD TRUCKS\n\nConveniently located 3.5 miles East of I-75 on SR 54.  For more information on this and other events\, please email us at Info@AvalonParkWesleyChapel.com or call 813-783-1515.
URL:https://whatsnewpasco.com/event/2026-absolutely-avalon-2/
LOCATION:Avalon Park Wesley Chapel\, 4110 Avalon Park Blvd.\, Wesley Chapel\, FL\, 33545\, United States
CATEGORIES:Family Fun,Festivals & Markets,Food & Drinks,Free
ATTACH;FMTTYPE=image/jpeg:https://whatsnewpasco.com/wp-content/uploads/2026/03/IMG_4025.jpeg
END:VEVENT
BEGIN:VEVENT
DTSTART;VALUE=DATE:20260409
DTEND;VALUE=DATE:20260420
DTSTAMP:20260421T215128
CREATED:20260407T221128Z
LAST-MODIFIED:20260407T221354Z
UID:10003642-1775692800-1776643199@whatsnewpasco.com
SUMMARY:Germany's Great Bavarian Circus
DESCRIPTION:Wesley Chapel — the Big Top is coming to town!Experience the wonder of Germany’s Great Bavarian Circus\, a spectacular European-style circus filled with breathtaking aerialists\, incredible acrobatics\, juggling\, comedy\, and unforgettable family entertainment. Performed by generations of the Spindler family\, this beloved circus tradition brings the magic of Bavaria straight to Florida.  Under the Big Top at The Grove at Wesley Chapel! April 9 – 19 \n Showtimes:Monday & Thursdays – 7:30 PMFridays – 4:30 PM & 7:30 PMSaturdays – 1:30 PM\, 4:30 PM & 7:30 PMSundays – 1:30 PM & 4:30 PM(No Shows on Tuesday and Wednesday) \n Get your tickets today:GreatBavarianCircus.com Step inside the Big Top and create unforgettable family memories at the circus!
URL:https://whatsnewpasco.com/event/germanys-great-bavarian-circus/
LOCATION:The Grove at Wesley Chapel\, Wesley Chapel\, FL\, United States
CATEGORIES:Family Fun,Festivals & Markets
ATTACH;FMTTYPE=image/webp:https://whatsnewpasco.com/wp-content/uploads/2026/04/GGB-Logo.webp
END:VEVENT
BEGIN:VEVENT
DTSTART;TZID=America/New_York:20260411T100000
DTEND;TZID=America/New_York:20260411T140000
DTSTAMP:20260421T215128
CREATED:20260317T002247Z
LAST-MODIFIED:20260408T023331Z
UID:10000094-1775901600-1775916000@whatsnewpasco.com
SUMMARY:2026 Florida Loquat Festival
DESCRIPTION:The 13th Annual Florida Loquat Festival returns to Sims Park in New Port Richey on Saturday\, April 11\, from 10 a.m. to 2 p.m. This unique event\, the only loquat festival in the United States\, celebrates local loquat trees with fresh fruit\, preserves\, and loquat inspired products! \nGuests can enjoy presentations on growing loquats\, using the fruit and leaves\, and supporting sustainable local agriculture. Loquat trees of various sizes will be available for purchase\, including affordable seedlings. The festival also features the Loquat Art Show and additional loquat themed activities happening throughout the week in downtown New Port Richey.
URL:https://whatsnewpasco.com/event/2026-florida-loquat-festival/
LOCATION:Sims Park\, 5012 Robert McCraney St\, New Port Richey\, FL\, 34652\, United States
CATEGORIES:Family Fun,Festivals & Markets,Free
ATTACH;FMTTYPE=image/jpeg:https://whatsnewpasco.com/wp-content/uploads/2026/03/loquat-festival-image.jpeg
END:VEVENT
BEGIN:VEVENT
DTSTART;TZID=America/New_York:20260411T140000
DTEND;TZID=America/New_York:20260411T210000
DTSTAMP:20260421T215128
CREATED:20260409T002852Z
LAST-MODIFIED:20260409T002852Z
UID:10003792-1775916000-1775941200@whatsnewpasco.com
SUMMARY:Art On Tap: Live Paint Throwdown & Oddities Market
DESCRIPTION:What happens when some local artists and an awesome brewery combine forces? We have an epic art on tap throw down!! Join us April 11th 2-9 pm! Vendors\, local artists\, artisans\, beer\, food and of course 8 extremely talented artists throwing down to see who takes the gold! Cash prize for first place along with bragging rights! We want to bring the community together to not only support the local arts but all of our small businesses around! Broad Street Brewing Company will have an exclusive beer just for this event that you do not want to miss! Are you a local business looking to get your name out? We are offering sponsorships with three tiers to pick from! All of which will promote you as an owner! VIP spots are available but limited and more information will be revealed soon for VIP purchase. Want to be a vendor? Please email us at travelingartparties@gmail.comWant to join the battle? Please fill out our application form\, it is a $30.00 application fee. (As we would love to take everyone we will be picking 8 artists to compete). Application fee is pooled which will go to first place winner. You will be sent an invoice for payment once application is received. You will have 48 hours once the application is complete to pay the invoice or application will be null. Please see link below for application: Keep an eye out as we’ll be updating throughout! \nArtist Rules! \nArtist can use whatever size canvas they feel comfortable with to complete a painting in the four hour painting period. \nArtist can pre sketch their canvases if needed. \nYou are able to work on other materials too if you feel more comfortable. (Wood\, metal sheets\, etc.)
URL:https://whatsnewpasco.com/event/art-on-tap-live-paint-throwdown-oddities-market/
LOCATION:Broad Street Brewing Company\, 291 East Jefferson street\, Brooksville\, FL\, 34601\, United States
CATEGORIES:Art,Family Fun,Festivals & Markets,Food & Drinks,Free
ATTACH;FMTTYPE=image/jpeg:https://whatsnewpasco.com/wp-content/uploads/2026/04/616134920_1449747493822766_5977196100133765268_n.jpg
END:VEVENT
END:VCALENDAR