BEGIN:VCALENDAR
VERSION:2.0
PRODID:-//What&#039;s New Pasco - ECPv6.15.20//NONSGML v1.0//EN
CALSCALE:GREGORIAN
METHOD:PUBLISH
X-WR-CALNAME:What&#039;s New Pasco
X-ORIGINAL-URL:https://whatsnewpasco.com
X-WR-CALDESC:Events for What&#039;s New Pasco
REFRESH-INTERVAL;VALUE=DURATION:PT1H
X-Robots-Tag:noindex
X-PUBLISHED-TTL:PT1H
BEGIN:VTIMEZONE
TZID:America/New_York
BEGIN:DAYLIGHT
TZOFFSETFROM:-0500
TZOFFSETTO:-0400
TZNAME:EDT
DTSTART:20250309T070000
END:DAYLIGHT
BEGIN:STANDARD
TZOFFSETFROM:-0400
TZOFFSETTO:-0500
TZNAME:EST
DTSTART:20251102T060000
END:STANDARD
BEGIN:DAYLIGHT
TZOFFSETFROM:-0500
TZOFFSETTO:-0400
TZNAME:EDT
DTSTART:20260308T070000
END:DAYLIGHT
BEGIN:STANDARD
TZOFFSETFROM:-0400
TZOFFSETTO:-0500
TZNAME:EST
DTSTART:20261101T060000
END:STANDARD
BEGIN:DAYLIGHT
TZOFFSETFROM:-0500
TZOFFSETTO:-0400
TZNAME:EDT
DTSTART:20270314T070000
END:DAYLIGHT
BEGIN:STANDARD
TZOFFSETFROM:-0400
TZOFFSETTO:-0500
TZNAME:EST
DTSTART:20271107T060000
END:STANDARD
BEGIN:DAYLIGHT
TZOFFSETFROM:-0500
TZOFFSETTO:-0400
TZNAME:EDT
DTSTART:20280312T070000
END:DAYLIGHT
BEGIN:STANDARD
TZOFFSETFROM:-0400
TZOFFSETTO:-0500
TZNAME:EST
DTSTART:20281105T060000
END:STANDARD
BEGIN:DAYLIGHT
TZOFFSETFROM:-0500
TZOFFSETTO:-0400
TZNAME:EDT
DTSTART:20290311T070000
END:DAYLIGHT
BEGIN:STANDARD
TZOFFSETFROM:-0400
TZOFFSETTO:-0500
TZNAME:EST
DTSTART:20291104T060000
END:STANDARD
END:VTIMEZONE
BEGIN:VEVENT
DTSTART;TZID=America/New_York:20260425T190000
DTEND;TZID=America/New_York:20260425T210000
DTSTAMP:20260421T213521
CREATED:20260326T043332Z
LAST-MODIFIED:20260326T043456Z
UID:10002060-1777143600-1777150800@whatsnewpasco.com
SUMMARY:Line Dancing Night @ Beef 'O' Brady's
DESCRIPTION:Yeehaw\, it’s happening 🤠💃All NEW Line Dancing Night! Join us the last Saturday of every month for line dance lessons on the patio from 7–9pm. No experience needed—just bring your boots (or sneakers)\, grab a drink\, and dance it out! 🎶
URL:https://whatsnewpasco.com/event/all-new-line-dancing-night/2026-04-25/
LOCATION:Beef O’ Brady’s Land ‘O’ Lakes\, 7040 Land O Lakes Blvd. #108\, Land O' Lakes\, FL\, 34638\, United States
CATEGORIES:Food & Drinks,Free,Nightlife
END:VEVENT
BEGIN:VEVENT
DTSTART;TZID=America/New_York:20260530T190000
DTEND;TZID=America/New_York:20260530T210000
DTSTAMP:20260421T213521
CREATED:20260326T043332Z
LAST-MODIFIED:20260326T043456Z
UID:10002061-1780167600-1780174800@whatsnewpasco.com
SUMMARY:Line Dancing Night @ Beef 'O' Brady's
DESCRIPTION:Yeehaw\, it’s happening 🤠💃All NEW Line Dancing Night! Join us the last Saturday of every month for line dance lessons on the patio from 7–9pm. No experience needed—just bring your boots (or sneakers)\, grab a drink\, and dance it out! 🎶
URL:https://whatsnewpasco.com/event/all-new-line-dancing-night/2026-05-30/
LOCATION:Beef O’ Brady’s Land ‘O’ Lakes\, 7040 Land O Lakes Blvd. #108\, Land O' Lakes\, FL\, 34638\, United States
CATEGORIES:Food & Drinks,Free,Nightlife
END:VEVENT
BEGIN:VEVENT
DTSTART;TZID=America/New_York:20260627T190000
DTEND;TZID=America/New_York:20260627T210000
DTSTAMP:20260421T213521
CREATED:20260326T043332Z
LAST-MODIFIED:20260326T043456Z
UID:10002062-1782586800-1782594000@whatsnewpasco.com
SUMMARY:Line Dancing Night @ Beef 'O' Brady's
DESCRIPTION:Yeehaw\, it’s happening 🤠💃All NEW Line Dancing Night! Join us the last Saturday of every month for line dance lessons on the patio from 7–9pm. No experience needed—just bring your boots (or sneakers)\, grab a drink\, and dance it out! 🎶
URL:https://whatsnewpasco.com/event/all-new-line-dancing-night/2026-06-27/
LOCATION:Beef O’ Brady’s Land ‘O’ Lakes\, 7040 Land O Lakes Blvd. #108\, Land O' Lakes\, FL\, 34638\, United States
CATEGORIES:Food & Drinks,Free,Nightlife
END:VEVENT
BEGIN:VEVENT
DTSTART;TZID=America/New_York:20260725T190000
DTEND;TZID=America/New_York:20260725T210000
DTSTAMP:20260421T213521
CREATED:20260326T043332Z
LAST-MODIFIED:20260326T043456Z
UID:10002063-1785006000-1785013200@whatsnewpasco.com
SUMMARY:Line Dancing Night @ Beef 'O' Brady's
DESCRIPTION:Yeehaw\, it’s happening 🤠💃All NEW Line Dancing Night! Join us the last Saturday of every month for line dance lessons on the patio from 7–9pm. No experience needed—just bring your boots (or sneakers)\, grab a drink\, and dance it out! 🎶
URL:https://whatsnewpasco.com/event/all-new-line-dancing-night/2026-07-25/
LOCATION:Beef O’ Brady’s Land ‘O’ Lakes\, 7040 Land O Lakes Blvd. #108\, Land O' Lakes\, FL\, 34638\, United States
CATEGORIES:Food & Drinks,Free,Nightlife
END:VEVENT
BEGIN:VEVENT
DTSTART;TZID=America/New_York:20260829T190000
DTEND;TZID=America/New_York:20260829T210000
DTSTAMP:20260421T213521
CREATED:20260326T043332Z
LAST-MODIFIED:20260326T043456Z
UID:10002064-1788030000-1788037200@whatsnewpasco.com
SUMMARY:Line Dancing Night @ Beef 'O' Brady's
DESCRIPTION:Yeehaw\, it’s happening 🤠💃All NEW Line Dancing Night! Join us the last Saturday of every month for line dance lessons on the patio from 7–9pm. No experience needed—just bring your boots (or sneakers)\, grab a drink\, and dance it out! 🎶
URL:https://whatsnewpasco.com/event/all-new-line-dancing-night/2026-08-29/
LOCATION:Beef O’ Brady’s Land ‘O’ Lakes\, 7040 Land O Lakes Blvd. #108\, Land O' Lakes\, FL\, 34638\, United States
CATEGORIES:Food & Drinks,Free,Nightlife
END:VEVENT
BEGIN:VEVENT
DTSTART;TZID=America/New_York:20260926T190000
DTEND;TZID=America/New_York:20260926T210000
DTSTAMP:20260421T213521
CREATED:20260326T043332Z
LAST-MODIFIED:20260326T043456Z
UID:10002065-1790449200-1790456400@whatsnewpasco.com
SUMMARY:Line Dancing Night @ Beef 'O' Brady's
DESCRIPTION:Yeehaw\, it’s happening 🤠💃All NEW Line Dancing Night! Join us the last Saturday of every month for line dance lessons on the patio from 7–9pm. No experience needed—just bring your boots (or sneakers)\, grab a drink\, and dance it out! 🎶
URL:https://whatsnewpasco.com/event/all-new-line-dancing-night/2026-09-26/
LOCATION:Beef O’ Brady’s Land ‘O’ Lakes\, 7040 Land O Lakes Blvd. #108\, Land O' Lakes\, FL\, 34638\, United States
CATEGORIES:Food & Drinks,Free,Nightlife
END:VEVENT
BEGIN:VEVENT
DTSTART;TZID=America/New_York:20261031T190000
DTEND;TZID=America/New_York:20261031T210000
DTSTAMP:20260421T213521
CREATED:20260326T043332Z
LAST-MODIFIED:20260326T043456Z
UID:10002066-1793473200-1793480400@whatsnewpasco.com
SUMMARY:Line Dancing Night @ Beef 'O' Brady's
DESCRIPTION:Yeehaw\, it’s happening 🤠💃All NEW Line Dancing Night! Join us the last Saturday of every month for line dance lessons on the patio from 7–9pm. No experience needed—just bring your boots (or sneakers)\, grab a drink\, and dance it out! 🎶
URL:https://whatsnewpasco.com/event/all-new-line-dancing-night/2026-10-31/
LOCATION:Beef O’ Brady’s Land ‘O’ Lakes\, 7040 Land O Lakes Blvd. #108\, Land O' Lakes\, FL\, 34638\, United States
CATEGORIES:Food & Drinks,Free,Nightlife
END:VEVENT
BEGIN:VEVENT
DTSTART;TZID=America/New_York:20261128T190000
DTEND;TZID=America/New_York:20261128T210000
DTSTAMP:20260421T213521
CREATED:20260326T043332Z
LAST-MODIFIED:20260326T043456Z
UID:10002067-1795892400-1795899600@whatsnewpasco.com
SUMMARY:Line Dancing Night @ Beef 'O' Brady's
DESCRIPTION:Yeehaw\, it’s happening 🤠💃All NEW Line Dancing Night! Join us the last Saturday of every month for line dance lessons on the patio from 7–9pm. No experience needed—just bring your boots (or sneakers)\, grab a drink\, and dance it out! 🎶
URL:https://whatsnewpasco.com/event/all-new-line-dancing-night/2026-11-28/
LOCATION:Beef O’ Brady’s Land ‘O’ Lakes\, 7040 Land O Lakes Blvd. #108\, Land O' Lakes\, FL\, 34638\, United States
CATEGORIES:Food & Drinks,Free,Nightlife
END:VEVENT
BEGIN:VEVENT
DTSTART;TZID=America/New_York:20261226T190000
DTEND;TZID=America/New_York:20261226T210000
DTSTAMP:20260421T213521
CREATED:20260326T043332Z
LAST-MODIFIED:20260326T043456Z
UID:10002068-1798311600-1798318800@whatsnewpasco.com
SUMMARY:Line Dancing Night @ Beef 'O' Brady's
DESCRIPTION:Yeehaw\, it’s happening 🤠💃All NEW Line Dancing Night! Join us the last Saturday of every month for line dance lessons on the patio from 7–9pm. No experience needed—just bring your boots (or sneakers)\, grab a drink\, and dance it out! 🎶
URL:https://whatsnewpasco.com/event/all-new-line-dancing-night/2026-12-26/
LOCATION:Beef O’ Brady’s Land ‘O’ Lakes\, 7040 Land O Lakes Blvd. #108\, Land O' Lakes\, FL\, 34638\, United States
CATEGORIES:Food & Drinks,Free,Nightlife
END:VEVENT
BEGIN:VEVENT
DTSTART;TZID=America/New_York:20270130T190000
DTEND;TZID=America/New_York:20270130T210000
DTSTAMP:20260421T213521
CREATED:20260326T043332Z
LAST-MODIFIED:20260326T043456Z
UID:10002069-1801335600-1801342800@whatsnewpasco.com
SUMMARY:Line Dancing Night @ Beef 'O' Brady's
DESCRIPTION:Yeehaw\, it’s happening 🤠💃All NEW Line Dancing Night! Join us the last Saturday of every month for line dance lessons on the patio from 7–9pm. No experience needed—just bring your boots (or sneakers)\, grab a drink\, and dance it out! 🎶
URL:https://whatsnewpasco.com/event/all-new-line-dancing-night/2027-01-30/
LOCATION:Beef O’ Brady’s Land ‘O’ Lakes\, 7040 Land O Lakes Blvd. #108\, Land O' Lakes\, FL\, 34638\, United States
CATEGORIES:Food & Drinks,Free,Nightlife
END:VEVENT
BEGIN:VEVENT
DTSTART;TZID=America/New_York:20270227T190000
DTEND;TZID=America/New_York:20270227T210000
DTSTAMP:20260421T213521
CREATED:20260326T043332Z
LAST-MODIFIED:20260326T043456Z
UID:10002070-1803754800-1803762000@whatsnewpasco.com
SUMMARY:Line Dancing Night @ Beef 'O' Brady's
DESCRIPTION:Yeehaw\, it’s happening 🤠💃All NEW Line Dancing Night! Join us the last Saturday of every month for line dance lessons on the patio from 7–9pm. No experience needed—just bring your boots (or sneakers)\, grab a drink\, and dance it out! 🎶
URL:https://whatsnewpasco.com/event/all-new-line-dancing-night/2027-02-27/
LOCATION:Beef O’ Brady’s Land ‘O’ Lakes\, 7040 Land O Lakes Blvd. #108\, Land O' Lakes\, FL\, 34638\, United States
CATEGORIES:Food & Drinks,Free,Nightlife
END:VEVENT
BEGIN:VEVENT
DTSTART;TZID=America/New_York:20270327T190000
DTEND;TZID=America/New_York:20270327T210000
DTSTAMP:20260421T213521
CREATED:20260326T043332Z
LAST-MODIFIED:20260326T043456Z
UID:10002071-1806174000-1806181200@whatsnewpasco.com
SUMMARY:Line Dancing Night @ Beef 'O' Brady's
DESCRIPTION:Yeehaw\, it’s happening 🤠💃All NEW Line Dancing Night! Join us the last Saturday of every month for line dance lessons on the patio from 7–9pm. No experience needed—just bring your boots (or sneakers)\, grab a drink\, and dance it out! 🎶
URL:https://whatsnewpasco.com/event/all-new-line-dancing-night/2027-03-27/
LOCATION:Beef O’ Brady’s Land ‘O’ Lakes\, 7040 Land O Lakes Blvd. #108\, Land O' Lakes\, FL\, 34638\, United States
CATEGORIES:Food & Drinks,Free,Nightlife
END:VEVENT
BEGIN:VEVENT
DTSTART;TZID=America/New_York:20270424T190000
DTEND;TZID=America/New_York:20270424T210000
DTSTAMP:20260421T213521
CREATED:20260326T043332Z
LAST-MODIFIED:20260326T043456Z
UID:10002072-1808593200-1808600400@whatsnewpasco.com
SUMMARY:Line Dancing Night @ Beef 'O' Brady's
DESCRIPTION:Yeehaw\, it’s happening 🤠💃All NEW Line Dancing Night! Join us the last Saturday of every month for line dance lessons on the patio from 7–9pm. No experience needed—just bring your boots (or sneakers)\, grab a drink\, and dance it out! 🎶
URL:https://whatsnewpasco.com/event/all-new-line-dancing-night/2027-04-24/
LOCATION:Beef O’ Brady’s Land ‘O’ Lakes\, 7040 Land O Lakes Blvd. #108\, Land O' Lakes\, FL\, 34638\, United States
CATEGORIES:Food & Drinks,Free,Nightlife
END:VEVENT
BEGIN:VEVENT
DTSTART;TZID=America/New_York:20270529T190000
DTEND;TZID=America/New_York:20270529T210000
DTSTAMP:20260421T213521
CREATED:20260326T043332Z
LAST-MODIFIED:20260326T043456Z
UID:10002073-1811617200-1811624400@whatsnewpasco.com
SUMMARY:Line Dancing Night @ Beef 'O' Brady's
DESCRIPTION:Yeehaw\, it’s happening 🤠💃All NEW Line Dancing Night! Join us the last Saturday of every month for line dance lessons on the patio from 7–9pm. No experience needed—just bring your boots (or sneakers)\, grab a drink\, and dance it out! 🎶
URL:https://whatsnewpasco.com/event/all-new-line-dancing-night/2027-05-29/
LOCATION:Beef O’ Brady’s Land ‘O’ Lakes\, 7040 Land O Lakes Blvd. #108\, Land O' Lakes\, FL\, 34638\, United States
CATEGORIES:Food & Drinks,Free,Nightlife
END:VEVENT
BEGIN:VEVENT
DTSTART;TZID=America/New_York:20270626T190000
DTEND;TZID=America/New_York:20270626T210000
DTSTAMP:20260421T213521
CREATED:20260326T043332Z
LAST-MODIFIED:20260326T043456Z
UID:10002074-1814036400-1814043600@whatsnewpasco.com
SUMMARY:Line Dancing Night @ Beef 'O' Brady's
DESCRIPTION:Yeehaw\, it’s happening 🤠💃All NEW Line Dancing Night! Join us the last Saturday of every month for line dance lessons on the patio from 7–9pm. No experience needed—just bring your boots (or sneakers)\, grab a drink\, and dance it out! 🎶
URL:https://whatsnewpasco.com/event/all-new-line-dancing-night/2027-06-26/
LOCATION:Beef O’ Brady’s Land ‘O’ Lakes\, 7040 Land O Lakes Blvd. #108\, Land O' Lakes\, FL\, 34638\, United States
CATEGORIES:Food & Drinks,Free,Nightlife
END:VEVENT
BEGIN:VEVENT
DTSTART;TZID=America/New_York:20270731T190000
DTEND;TZID=America/New_York:20270731T210000
DTSTAMP:20260421T213521
CREATED:20260326T043332Z
LAST-MODIFIED:20260326T043456Z
UID:10002075-1817060400-1817067600@whatsnewpasco.com
SUMMARY:Line Dancing Night @ Beef 'O' Brady's
DESCRIPTION:Yeehaw\, it’s happening 🤠💃All NEW Line Dancing Night! Join us the last Saturday of every month for line dance lessons on the patio from 7–9pm. No experience needed—just bring your boots (or sneakers)\, grab a drink\, and dance it out! 🎶
URL:https://whatsnewpasco.com/event/all-new-line-dancing-night/2027-07-31/
LOCATION:Beef O’ Brady’s Land ‘O’ Lakes\, 7040 Land O Lakes Blvd. #108\, Land O' Lakes\, FL\, 34638\, United States
CATEGORIES:Food & Drinks,Free,Nightlife
END:VEVENT
BEGIN:VEVENT
DTSTART;TZID=America/New_York:20270828T190000
DTEND;TZID=America/New_York:20270828T210000
DTSTAMP:20260421T213521
CREATED:20260326T043332Z
LAST-MODIFIED:20260326T043456Z
UID:10002076-1819479600-1819486800@whatsnewpasco.com
SUMMARY:Line Dancing Night @ Beef 'O' Brady's
DESCRIPTION:Yeehaw\, it’s happening 🤠💃All NEW Line Dancing Night! Join us the last Saturday of every month for line dance lessons on the patio from 7–9pm. No experience needed—just bring your boots (or sneakers)\, grab a drink\, and dance it out! 🎶
URL:https://whatsnewpasco.com/event/all-new-line-dancing-night/2027-08-28/
LOCATION:Beef O’ Brady’s Land ‘O’ Lakes\, 7040 Land O Lakes Blvd. #108\, Land O' Lakes\, FL\, 34638\, United States
CATEGORIES:Food & Drinks,Free,Nightlife
END:VEVENT
BEGIN:VEVENT
DTSTART;TZID=America/New_York:20270925T190000
DTEND;TZID=America/New_York:20270925T210000
DTSTAMP:20260421T213521
CREATED:20260326T043332Z
LAST-MODIFIED:20260326T043456Z
UID:10002077-1821898800-1821906000@whatsnewpasco.com
SUMMARY:Line Dancing Night @ Beef 'O' Brady's
DESCRIPTION:Yeehaw\, it’s happening 🤠💃All NEW Line Dancing Night! Join us the last Saturday of every month for line dance lessons on the patio from 7–9pm. No experience needed—just bring your boots (or sneakers)\, grab a drink\, and dance it out! 🎶
URL:https://whatsnewpasco.com/event/all-new-line-dancing-night/2027-09-25/
LOCATION:Beef O’ Brady’s Land ‘O’ Lakes\, 7040 Land O Lakes Blvd. #108\, Land O' Lakes\, FL\, 34638\, United States
CATEGORIES:Food & Drinks,Free,Nightlife
END:VEVENT
BEGIN:VEVENT
DTSTART;TZID=America/New_York:20271030T190000
DTEND;TZID=America/New_York:20271030T210000
DTSTAMP:20260421T213521
CREATED:20260326T043332Z
LAST-MODIFIED:20260326T043456Z
UID:10002078-1824922800-1824930000@whatsnewpasco.com
SUMMARY:Line Dancing Night @ Beef 'O' Brady's
DESCRIPTION:Yeehaw\, it’s happening 🤠💃All NEW Line Dancing Night! Join us the last Saturday of every month for line dance lessons on the patio from 7–9pm. No experience needed—just bring your boots (or sneakers)\, grab a drink\, and dance it out! 🎶
URL:https://whatsnewpasco.com/event/all-new-line-dancing-night/2027-10-30/
LOCATION:Beef O’ Brady’s Land ‘O’ Lakes\, 7040 Land O Lakes Blvd. #108\, Land O' Lakes\, FL\, 34638\, United States
CATEGORIES:Food & Drinks,Free,Nightlife
END:VEVENT
BEGIN:VEVENT
DTSTART;TZID=America/New_York:20271127T190000
DTEND;TZID=America/New_York:20271127T210000
DTSTAMP:20260421T213521
CREATED:20260326T043332Z
LAST-MODIFIED:20260326T043456Z
UID:10002079-1827342000-1827349200@whatsnewpasco.com
SUMMARY:Line Dancing Night @ Beef 'O' Brady's
DESCRIPTION:Yeehaw\, it’s happening 🤠💃All NEW Line Dancing Night! Join us the last Saturday of every month for line dance lessons on the patio from 7–9pm. No experience needed—just bring your boots (or sneakers)\, grab a drink\, and dance it out! 🎶
URL:https://whatsnewpasco.com/event/all-new-line-dancing-night/2027-11-27/
LOCATION:Beef O’ Brady’s Land ‘O’ Lakes\, 7040 Land O Lakes Blvd. #108\, Land O' Lakes\, FL\, 34638\, United States
CATEGORIES:Food & Drinks,Free,Nightlife
END:VEVENT
BEGIN:VEVENT
DTSTART;TZID=America/New_York:20271225T190000
DTEND;TZID=America/New_York:20271225T210000
DTSTAMP:20260421T213521
CREATED:20260326T043332Z
LAST-MODIFIED:20260326T043456Z
UID:10002080-1829761200-1829768400@whatsnewpasco.com
SUMMARY:Line Dancing Night @ Beef 'O' Brady's
DESCRIPTION:Yeehaw\, it’s happening 🤠💃All NEW Line Dancing Night! Join us the last Saturday of every month for line dance lessons on the patio from 7–9pm. No experience needed—just bring your boots (or sneakers)\, grab a drink\, and dance it out! 🎶
URL:https://whatsnewpasco.com/event/all-new-line-dancing-night/2027-12-25/
LOCATION:Beef O’ Brady’s Land ‘O’ Lakes\, 7040 Land O Lakes Blvd. #108\, Land O' Lakes\, FL\, 34638\, United States
CATEGORIES:Food & Drinks,Free,Nightlife
END:VEVENT
BEGIN:VEVENT
DTSTART;TZID=America/New_York:20280129T190000
DTEND;TZID=America/New_York:20280129T210000
DTSTAMP:20260421T213521
CREATED:20260326T043332Z
LAST-MODIFIED:20260326T043456Z
UID:10002081-1832785200-1832792400@whatsnewpasco.com
SUMMARY:Line Dancing Night @ Beef 'O' Brady's
DESCRIPTION:Yeehaw\, it’s happening 🤠💃All NEW Line Dancing Night! Join us the last Saturday of every month for line dance lessons on the patio from 7–9pm. No experience needed—just bring your boots (or sneakers)\, grab a drink\, and dance it out! 🎶
URL:https://whatsnewpasco.com/event/all-new-line-dancing-night/2028-01-29/
LOCATION:Beef O’ Brady’s Land ‘O’ Lakes\, 7040 Land O Lakes Blvd. #108\, Land O' Lakes\, FL\, 34638\, United States
CATEGORIES:Food & Drinks,Free,Nightlife
END:VEVENT
BEGIN:VEVENT
DTSTART;TZID=America/New_York:20280226T190000
DTEND;TZID=America/New_York:20280226T210000
DTSTAMP:20260421T213521
CREATED:20260326T043332Z
LAST-MODIFIED:20260326T043456Z
UID:10002082-1835204400-1835211600@whatsnewpasco.com
SUMMARY:Line Dancing Night @ Beef 'O' Brady's
DESCRIPTION:Yeehaw\, it’s happening 🤠💃All NEW Line Dancing Night! Join us the last Saturday of every month for line dance lessons on the patio from 7–9pm. No experience needed—just bring your boots (or sneakers)\, grab a drink\, and dance it out! 🎶
URL:https://whatsnewpasco.com/event/all-new-line-dancing-night/2028-02-26/
LOCATION:Beef O’ Brady’s Land ‘O’ Lakes\, 7040 Land O Lakes Blvd. #108\, Land O' Lakes\, FL\, 34638\, United States
CATEGORIES:Food & Drinks,Free,Nightlife
END:VEVENT
BEGIN:VEVENT
DTSTART;TZID=America/New_York:20280325T190000
DTEND;TZID=America/New_York:20280325T210000
DTSTAMP:20260421T213521
CREATED:20260326T043332Z
LAST-MODIFIED:20260326T043456Z
UID:10002083-1837623600-1837630800@whatsnewpasco.com
SUMMARY:Line Dancing Night @ Beef 'O' Brady's
DESCRIPTION:Yeehaw\, it’s happening 🤠💃All NEW Line Dancing Night! Join us the last Saturday of every month for line dance lessons on the patio from 7–9pm. No experience needed—just bring your boots (or sneakers)\, grab a drink\, and dance it out! 🎶
URL:https://whatsnewpasco.com/event/all-new-line-dancing-night/2028-03-25/
LOCATION:Beef O’ Brady’s Land ‘O’ Lakes\, 7040 Land O Lakes Blvd. #108\, Land O' Lakes\, FL\, 34638\, United States
CATEGORIES:Food & Drinks,Free,Nightlife
END:VEVENT
BEGIN:VEVENT
DTSTART;TZID=America/New_York:20280429T190000
DTEND;TZID=America/New_York:20280429T210000
DTSTAMP:20260421T213521
CREATED:20260326T043332Z
LAST-MODIFIED:20260326T043456Z
UID:10002084-1840647600-1840654800@whatsnewpasco.com
SUMMARY:Line Dancing Night @ Beef 'O' Brady's
DESCRIPTION:Yeehaw\, it’s happening 🤠💃All NEW Line Dancing Night! Join us the last Saturday of every month for line dance lessons on the patio from 7–9pm. No experience needed—just bring your boots (or sneakers)\, grab a drink\, and dance it out! 🎶
URL:https://whatsnewpasco.com/event/all-new-line-dancing-night/2028-04-29/
LOCATION:Beef O’ Brady’s Land ‘O’ Lakes\, 7040 Land O Lakes Blvd. #108\, Land O' Lakes\, FL\, 34638\, United States
CATEGORIES:Food & Drinks,Free,Nightlife
END:VEVENT
BEGIN:VEVENT
DTSTART;TZID=America/New_York:20280527T190000
DTEND;TZID=America/New_York:20280527T210000
DTSTAMP:20260421T213521
CREATED:20260326T043332Z
LAST-MODIFIED:20260326T043456Z
UID:10002085-1843066800-1843074000@whatsnewpasco.com
SUMMARY:Line Dancing Night @ Beef 'O' Brady's
DESCRIPTION:Yeehaw\, it’s happening 🤠💃All NEW Line Dancing Night! Join us the last Saturday of every month for line dance lessons on the patio from 7–9pm. No experience needed—just bring your boots (or sneakers)\, grab a drink\, and dance it out! 🎶
URL:https://whatsnewpasco.com/event/all-new-line-dancing-night/2028-05-27/
LOCATION:Beef O’ Brady’s Land ‘O’ Lakes\, 7040 Land O Lakes Blvd. #108\, Land O' Lakes\, FL\, 34638\, United States
CATEGORIES:Food & Drinks,Free,Nightlife
END:VEVENT
BEGIN:VEVENT
DTSTART;TZID=America/New_York:20280624T190000
DTEND;TZID=America/New_York:20280624T210000
DTSTAMP:20260421T213521
CREATED:20260326T043332Z
LAST-MODIFIED:20260326T043456Z
UID:10002086-1845486000-1845493200@whatsnewpasco.com
SUMMARY:Line Dancing Night @ Beef 'O' Brady's
DESCRIPTION:Yeehaw\, it’s happening 🤠💃All NEW Line Dancing Night! Join us the last Saturday of every month for line dance lessons on the patio from 7–9pm. No experience needed—just bring your boots (or sneakers)\, grab a drink\, and dance it out! 🎶
URL:https://whatsnewpasco.com/event/all-new-line-dancing-night/2028-06-24/
LOCATION:Beef O’ Brady’s Land ‘O’ Lakes\, 7040 Land O Lakes Blvd. #108\, Land O' Lakes\, FL\, 34638\, United States
CATEGORIES:Food & Drinks,Free,Nightlife
END:VEVENT
BEGIN:VEVENT
DTSTART;TZID=America/New_York:20280729T190000
DTEND;TZID=America/New_York:20280729T210000
DTSTAMP:20260421T213521
CREATED:20260326T043332Z
LAST-MODIFIED:20260326T043456Z
UID:10002087-1848510000-1848517200@whatsnewpasco.com
SUMMARY:Line Dancing Night @ Beef 'O' Brady's
DESCRIPTION:Yeehaw\, it’s happening 🤠💃All NEW Line Dancing Night! Join us the last Saturday of every month for line dance lessons on the patio from 7–9pm. No experience needed—just bring your boots (or sneakers)\, grab a drink\, and dance it out! 🎶
URL:https://whatsnewpasco.com/event/all-new-line-dancing-night/2028-07-29/
LOCATION:Beef O’ Brady’s Land ‘O’ Lakes\, 7040 Land O Lakes Blvd. #108\, Land O' Lakes\, FL\, 34638\, United States
CATEGORIES:Food & Drinks,Free,Nightlife
END:VEVENT
BEGIN:VEVENT
DTSTART;TZID=America/New_York:20280826T190000
DTEND;TZID=America/New_York:20280826T210000
DTSTAMP:20260421T213521
CREATED:20260326T043332Z
LAST-MODIFIED:20260326T043456Z
UID:10002088-1850929200-1850936400@whatsnewpasco.com
SUMMARY:Line Dancing Night @ Beef 'O' Brady's
DESCRIPTION:Yeehaw\, it’s happening 🤠💃All NEW Line Dancing Night! Join us the last Saturday of every month for line dance lessons on the patio from 7–9pm. No experience needed—just bring your boots (or sneakers)\, grab a drink\, and dance it out! 🎶
URL:https://whatsnewpasco.com/event/all-new-line-dancing-night/2028-08-26/
LOCATION:Beef O’ Brady’s Land ‘O’ Lakes\, 7040 Land O Lakes Blvd. #108\, Land O' Lakes\, FL\, 34638\, United States
CATEGORIES:Food & Drinks,Free,Nightlife
END:VEVENT
BEGIN:VEVENT
DTSTART;TZID=America/New_York:20280930T190000
DTEND;TZID=America/New_York:20280930T210000
DTSTAMP:20260421T213521
CREATED:20260326T043332Z
LAST-MODIFIED:20260326T043456Z
UID:10002089-1853953200-1853960400@whatsnewpasco.com
SUMMARY:Line Dancing Night @ Beef 'O' Brady's
DESCRIPTION:Yeehaw\, it’s happening 🤠💃All NEW Line Dancing Night! Join us the last Saturday of every month for line dance lessons on the patio from 7–9pm. No experience needed—just bring your boots (or sneakers)\, grab a drink\, and dance it out! 🎶
URL:https://whatsnewpasco.com/event/all-new-line-dancing-night/2028-09-30/
LOCATION:Beef O’ Brady’s Land ‘O’ Lakes\, 7040 Land O Lakes Blvd. #108\, Land O' Lakes\, FL\, 34638\, United States
CATEGORIES:Food & Drinks,Free,Nightlife
END:VEVENT
END:VCALENDAR