BEGIN:VCALENDAR
VERSION:2.0
PRODID:-//What&#039;s New Pasco - ECPv6.15.20//NONSGML v1.0//EN
CALSCALE:GREGORIAN
METHOD:PUBLISH
X-WR-CALNAME:What&#039;s New Pasco
X-ORIGINAL-URL:https://whatsnewpasco.com
X-WR-CALDESC:Events for What&#039;s New Pasco
REFRESH-INTERVAL;VALUE=DURATION:PT1H
X-Robots-Tag:noindex
X-PUBLISHED-TTL:PT1H
BEGIN:VTIMEZONE
TZID:America/New_York
BEGIN:DAYLIGHT
TZOFFSETFROM:-0500
TZOFFSETTO:-0400
TZNAME:EDT
DTSTART:20250309T070000
END:DAYLIGHT
BEGIN:STANDARD
TZOFFSETFROM:-0400
TZOFFSETTO:-0500
TZNAME:EST
DTSTART:20251102T060000
END:STANDARD
BEGIN:DAYLIGHT
TZOFFSETFROM:-0500
TZOFFSETTO:-0400
TZNAME:EDT
DTSTART:20260308T070000
END:DAYLIGHT
BEGIN:STANDARD
TZOFFSETFROM:-0400
TZOFFSETTO:-0500
TZNAME:EST
DTSTART:20261101T060000
END:STANDARD
BEGIN:DAYLIGHT
TZOFFSETFROM:-0500
TZOFFSETTO:-0400
TZNAME:EDT
DTSTART:20270314T070000
END:DAYLIGHT
BEGIN:STANDARD
TZOFFSETFROM:-0400
TZOFFSETTO:-0500
TZNAME:EST
DTSTART:20271107T060000
END:STANDARD
END:VTIMEZONE
BEGIN:VEVENT
DTSTART;TZID=America/New_York:20260427T170000
DTEND;TZID=America/New_York:20260427T200000
DTSTAMP:20260421T143617
CREATED:20260318T203442Z
LAST-MODIFIED:20260318T203442Z
UID:10000396-1777309200-1777320000@whatsnewpasco.com
SUMMARY:Mahjong Mondays (5PM ET)
DESCRIPTION:Join us for Mahjong Mondays at B&B! 5-8PM (ET)! New & experienced Mahjong players are welcome! 😊 \nIf you are ready to challenge your skills & enjoy a Chinese game of strategy and luck\, don’t miss these fun events! \n🍻Arrive early to enjoy our Happy Hour menu! \n#BBTheatres #Mahjong #HappyHour
URL:https://whatsnewpasco.com/event/mahjong-mondays-5pm-et/2026-04-27/
LOCATION:B&B Theatres Wesley Chapel – The Grove 16\, 6333 Wesley Grove Blvd\, Wesley Chapel\, FL\, 33544\, United States
CATEGORIES:Free
ATTACH;FMTTYPE=image/jpeg:https://whatsnewpasco.com/wp-content/uploads/2026/03/wp_img_8849721989371461753.jpg
END:VEVENT
BEGIN:VEVENT
DTSTART;TZID=America/New_York:20260504T170000
DTEND;TZID=America/New_York:20260504T200000
DTSTAMP:20260421T143617
CREATED:20260318T203442Z
LAST-MODIFIED:20260318T203442Z
UID:10000397-1777914000-1777924800@whatsnewpasco.com
SUMMARY:Mahjong Mondays (5PM ET)
DESCRIPTION:Join us for Mahjong Mondays at B&B! 5-8PM (ET)! New & experienced Mahjong players are welcome! 😊 \nIf you are ready to challenge your skills & enjoy a Chinese game of strategy and luck\, don’t miss these fun events! \n🍻Arrive early to enjoy our Happy Hour menu! \n#BBTheatres #Mahjong #HappyHour
URL:https://whatsnewpasco.com/event/mahjong-mondays-5pm-et/2026-05-04/
LOCATION:B&B Theatres Wesley Chapel – The Grove 16\, 6333 Wesley Grove Blvd\, Wesley Chapel\, FL\, 33544\, United States
CATEGORIES:Free
ATTACH;FMTTYPE=image/jpeg:https://whatsnewpasco.com/wp-content/uploads/2026/03/wp_img_8849721989371461753.jpg
END:VEVENT
BEGIN:VEVENT
DTSTART;TZID=America/New_York:20260511T170000
DTEND;TZID=America/New_York:20260511T200000
DTSTAMP:20260421T143617
CREATED:20260318T203442Z
LAST-MODIFIED:20260318T203442Z
UID:10000398-1778518800-1778529600@whatsnewpasco.com
SUMMARY:Mahjong Mondays (5PM ET)
DESCRIPTION:Join us for Mahjong Mondays at B&B! 5-8PM (ET)! New & experienced Mahjong players are welcome! 😊 \nIf you are ready to challenge your skills & enjoy a Chinese game of strategy and luck\, don’t miss these fun events! \n🍻Arrive early to enjoy our Happy Hour menu! \n#BBTheatres #Mahjong #HappyHour
URL:https://whatsnewpasco.com/event/mahjong-mondays-5pm-et/2026-05-11/
LOCATION:B&B Theatres Wesley Chapel – The Grove 16\, 6333 Wesley Grove Blvd\, Wesley Chapel\, FL\, 33544\, United States
CATEGORIES:Free
ATTACH;FMTTYPE=image/jpeg:https://whatsnewpasco.com/wp-content/uploads/2026/03/wp_img_8849721989371461753.jpg
END:VEVENT
BEGIN:VEVENT
DTSTART;TZID=America/New_York:20260518T170000
DTEND;TZID=America/New_York:20260518T200000
DTSTAMP:20260421T143617
CREATED:20260318T203442Z
LAST-MODIFIED:20260318T203442Z
UID:10000399-1779123600-1779134400@whatsnewpasco.com
SUMMARY:Mahjong Mondays (5PM ET)
DESCRIPTION:Join us for Mahjong Mondays at B&B! 5-8PM (ET)! New & experienced Mahjong players are welcome! 😊 \nIf you are ready to challenge your skills & enjoy a Chinese game of strategy and luck\, don’t miss these fun events! \n🍻Arrive early to enjoy our Happy Hour menu! \n#BBTheatres #Mahjong #HappyHour
URL:https://whatsnewpasco.com/event/mahjong-mondays-5pm-et/2026-05-18/
LOCATION:B&B Theatres Wesley Chapel – The Grove 16\, 6333 Wesley Grove Blvd\, Wesley Chapel\, FL\, 33544\, United States
CATEGORIES:Free
ATTACH;FMTTYPE=image/jpeg:https://whatsnewpasco.com/wp-content/uploads/2026/03/wp_img_8849721989371461753.jpg
END:VEVENT
BEGIN:VEVENT
DTSTART;TZID=America/New_York:20260525T170000
DTEND;TZID=America/New_York:20260525T200000
DTSTAMP:20260421T143617
CREATED:20260318T203442Z
LAST-MODIFIED:20260318T203442Z
UID:10000400-1779728400-1779739200@whatsnewpasco.com
SUMMARY:Mahjong Mondays (5PM ET)
DESCRIPTION:Join us for Mahjong Mondays at B&B! 5-8PM (ET)! New & experienced Mahjong players are welcome! 😊 \nIf you are ready to challenge your skills & enjoy a Chinese game of strategy and luck\, don’t miss these fun events! \n🍻Arrive early to enjoy our Happy Hour menu! \n#BBTheatres #Mahjong #HappyHour
URL:https://whatsnewpasco.com/event/mahjong-mondays-5pm-et/2026-05-25/
LOCATION:B&B Theatres Wesley Chapel – The Grove 16\, 6333 Wesley Grove Blvd\, Wesley Chapel\, FL\, 33544\, United States
CATEGORIES:Free
ATTACH;FMTTYPE=image/jpeg:https://whatsnewpasco.com/wp-content/uploads/2026/03/wp_img_8849721989371461753.jpg
END:VEVENT
BEGIN:VEVENT
DTSTART;TZID=America/New_York:20260601T170000
DTEND;TZID=America/New_York:20260601T200000
DTSTAMP:20260421T143617
CREATED:20260318T203442Z
LAST-MODIFIED:20260318T203442Z
UID:10000401-1780333200-1780344000@whatsnewpasco.com
SUMMARY:Mahjong Mondays (5PM ET)
DESCRIPTION:Join us for Mahjong Mondays at B&B! 5-8PM (ET)! New & experienced Mahjong players are welcome! 😊 \nIf you are ready to challenge your skills & enjoy a Chinese game of strategy and luck\, don’t miss these fun events! \n🍻Arrive early to enjoy our Happy Hour menu! \n#BBTheatres #Mahjong #HappyHour
URL:https://whatsnewpasco.com/event/mahjong-mondays-5pm-et/2026-06-01/
LOCATION:B&B Theatres Wesley Chapel – The Grove 16\, 6333 Wesley Grove Blvd\, Wesley Chapel\, FL\, 33544\, United States
CATEGORIES:Free
ATTACH;FMTTYPE=image/jpeg:https://whatsnewpasco.com/wp-content/uploads/2026/03/wp_img_8849721989371461753.jpg
END:VEVENT
BEGIN:VEVENT
DTSTART;TZID=America/New_York:20260608T170000
DTEND;TZID=America/New_York:20260608T200000
DTSTAMP:20260421T143617
CREATED:20260318T203442Z
LAST-MODIFIED:20260318T203442Z
UID:10000402-1780938000-1780948800@whatsnewpasco.com
SUMMARY:Mahjong Mondays (5PM ET)
DESCRIPTION:Join us for Mahjong Mondays at B&B! 5-8PM (ET)! New & experienced Mahjong players are welcome! 😊 \nIf you are ready to challenge your skills & enjoy a Chinese game of strategy and luck\, don’t miss these fun events! \n🍻Arrive early to enjoy our Happy Hour menu! \n#BBTheatres #Mahjong #HappyHour
URL:https://whatsnewpasco.com/event/mahjong-mondays-5pm-et/2026-06-08/
LOCATION:B&B Theatres Wesley Chapel – The Grove 16\, 6333 Wesley Grove Blvd\, Wesley Chapel\, FL\, 33544\, United States
CATEGORIES:Free
ATTACH;FMTTYPE=image/jpeg:https://whatsnewpasco.com/wp-content/uploads/2026/03/wp_img_8849721989371461753.jpg
END:VEVENT
BEGIN:VEVENT
DTSTART;TZID=America/New_York:20260615T170000
DTEND;TZID=America/New_York:20260615T200000
DTSTAMP:20260421T143617
CREATED:20260318T203442Z
LAST-MODIFIED:20260318T203442Z
UID:10000403-1781542800-1781553600@whatsnewpasco.com
SUMMARY:Mahjong Mondays (5PM ET)
DESCRIPTION:Join us for Mahjong Mondays at B&B! 5-8PM (ET)! New & experienced Mahjong players are welcome! 😊 \nIf you are ready to challenge your skills & enjoy a Chinese game of strategy and luck\, don’t miss these fun events! \n🍻Arrive early to enjoy our Happy Hour menu! \n#BBTheatres #Mahjong #HappyHour
URL:https://whatsnewpasco.com/event/mahjong-mondays-5pm-et/2026-06-15/
LOCATION:B&B Theatres Wesley Chapel – The Grove 16\, 6333 Wesley Grove Blvd\, Wesley Chapel\, FL\, 33544\, United States
CATEGORIES:Free
ATTACH;FMTTYPE=image/jpeg:https://whatsnewpasco.com/wp-content/uploads/2026/03/wp_img_8849721989371461753.jpg
END:VEVENT
BEGIN:VEVENT
DTSTART;TZID=America/New_York:20260622T170000
DTEND;TZID=America/New_York:20260622T200000
DTSTAMP:20260421T143617
CREATED:20260318T203442Z
LAST-MODIFIED:20260318T203442Z
UID:10000404-1782147600-1782158400@whatsnewpasco.com
SUMMARY:Mahjong Mondays (5PM ET)
DESCRIPTION:Join us for Mahjong Mondays at B&B! 5-8PM (ET)! New & experienced Mahjong players are welcome! 😊 \nIf you are ready to challenge your skills & enjoy a Chinese game of strategy and luck\, don’t miss these fun events! \n🍻Arrive early to enjoy our Happy Hour menu! \n#BBTheatres #Mahjong #HappyHour
URL:https://whatsnewpasco.com/event/mahjong-mondays-5pm-et/2026-06-22/
LOCATION:B&B Theatres Wesley Chapel – The Grove 16\, 6333 Wesley Grove Blvd\, Wesley Chapel\, FL\, 33544\, United States
CATEGORIES:Free
ATTACH;FMTTYPE=image/jpeg:https://whatsnewpasco.com/wp-content/uploads/2026/03/wp_img_8849721989371461753.jpg
END:VEVENT
BEGIN:VEVENT
DTSTART;TZID=America/New_York:20260629T170000
DTEND;TZID=America/New_York:20260629T200000
DTSTAMP:20260421T143617
CREATED:20260318T203442Z
LAST-MODIFIED:20260318T203442Z
UID:10000405-1782752400-1782763200@whatsnewpasco.com
SUMMARY:Mahjong Mondays (5PM ET)
DESCRIPTION:Join us for Mahjong Mondays at B&B! 5-8PM (ET)! New & experienced Mahjong players are welcome! 😊 \nIf you are ready to challenge your skills & enjoy a Chinese game of strategy and luck\, don’t miss these fun events! \n🍻Arrive early to enjoy our Happy Hour menu! \n#BBTheatres #Mahjong #HappyHour
URL:https://whatsnewpasco.com/event/mahjong-mondays-5pm-et/2026-06-29/
LOCATION:B&B Theatres Wesley Chapel – The Grove 16\, 6333 Wesley Grove Blvd\, Wesley Chapel\, FL\, 33544\, United States
CATEGORIES:Free
ATTACH;FMTTYPE=image/jpeg:https://whatsnewpasco.com/wp-content/uploads/2026/03/wp_img_8849721989371461753.jpg
END:VEVENT
BEGIN:VEVENT
DTSTART;TZID=America/New_York:20260706T170000
DTEND;TZID=America/New_York:20260706T200000
DTSTAMP:20260421T143617
CREATED:20260318T203442Z
LAST-MODIFIED:20260318T203442Z
UID:10000406-1783357200-1783368000@whatsnewpasco.com
SUMMARY:Mahjong Mondays (5PM ET)
DESCRIPTION:Join us for Mahjong Mondays at B&B! 5-8PM (ET)! New & experienced Mahjong players are welcome! 😊 \nIf you are ready to challenge your skills & enjoy a Chinese game of strategy and luck\, don’t miss these fun events! \n🍻Arrive early to enjoy our Happy Hour menu! \n#BBTheatres #Mahjong #HappyHour
URL:https://whatsnewpasco.com/event/mahjong-mondays-5pm-et/2026-07-06/
LOCATION:B&B Theatres Wesley Chapel – The Grove 16\, 6333 Wesley Grove Blvd\, Wesley Chapel\, FL\, 33544\, United States
CATEGORIES:Free
ATTACH;FMTTYPE=image/jpeg:https://whatsnewpasco.com/wp-content/uploads/2026/03/wp_img_8849721989371461753.jpg
END:VEVENT
BEGIN:VEVENT
DTSTART;TZID=America/New_York:20260713T170000
DTEND;TZID=America/New_York:20260713T200000
DTSTAMP:20260421T143617
CREATED:20260318T203442Z
LAST-MODIFIED:20260318T203442Z
UID:10000407-1783962000-1783972800@whatsnewpasco.com
SUMMARY:Mahjong Mondays (5PM ET)
DESCRIPTION:Join us for Mahjong Mondays at B&B! 5-8PM (ET)! New & experienced Mahjong players are welcome! 😊 \nIf you are ready to challenge your skills & enjoy a Chinese game of strategy and luck\, don’t miss these fun events! \n🍻Arrive early to enjoy our Happy Hour menu! \n#BBTheatres #Mahjong #HappyHour
URL:https://whatsnewpasco.com/event/mahjong-mondays-5pm-et/2026-07-13/
LOCATION:B&B Theatres Wesley Chapel – The Grove 16\, 6333 Wesley Grove Blvd\, Wesley Chapel\, FL\, 33544\, United States
CATEGORIES:Free
ATTACH;FMTTYPE=image/jpeg:https://whatsnewpasco.com/wp-content/uploads/2026/03/wp_img_8849721989371461753.jpg
END:VEVENT
BEGIN:VEVENT
DTSTART;TZID=America/New_York:20260720T170000
DTEND;TZID=America/New_York:20260720T200000
DTSTAMP:20260421T143617
CREATED:20260318T203442Z
LAST-MODIFIED:20260318T203442Z
UID:10000408-1784566800-1784577600@whatsnewpasco.com
SUMMARY:Mahjong Mondays (5PM ET)
DESCRIPTION:Join us for Mahjong Mondays at B&B! 5-8PM (ET)! New & experienced Mahjong players are welcome! 😊 \nIf you are ready to challenge your skills & enjoy a Chinese game of strategy and luck\, don’t miss these fun events! \n🍻Arrive early to enjoy our Happy Hour menu! \n#BBTheatres #Mahjong #HappyHour
URL:https://whatsnewpasco.com/event/mahjong-mondays-5pm-et/2026-07-20/
LOCATION:B&B Theatres Wesley Chapel – The Grove 16\, 6333 Wesley Grove Blvd\, Wesley Chapel\, FL\, 33544\, United States
CATEGORIES:Free
ATTACH;FMTTYPE=image/jpeg:https://whatsnewpasco.com/wp-content/uploads/2026/03/wp_img_8849721989371461753.jpg
END:VEVENT
BEGIN:VEVENT
DTSTART;TZID=America/New_York:20260727T170000
DTEND;TZID=America/New_York:20260727T200000
DTSTAMP:20260421T143617
CREATED:20260318T203442Z
LAST-MODIFIED:20260318T203442Z
UID:10000409-1785171600-1785182400@whatsnewpasco.com
SUMMARY:Mahjong Mondays (5PM ET)
DESCRIPTION:Join us for Mahjong Mondays at B&B! 5-8PM (ET)! New & experienced Mahjong players are welcome! 😊 \nIf you are ready to challenge your skills & enjoy a Chinese game of strategy and luck\, don’t miss these fun events! \n🍻Arrive early to enjoy our Happy Hour menu! \n#BBTheatres #Mahjong #HappyHour
URL:https://whatsnewpasco.com/event/mahjong-mondays-5pm-et/2026-07-27/
LOCATION:B&B Theatres Wesley Chapel – The Grove 16\, 6333 Wesley Grove Blvd\, Wesley Chapel\, FL\, 33544\, United States
CATEGORIES:Free
ATTACH;FMTTYPE=image/jpeg:https://whatsnewpasco.com/wp-content/uploads/2026/03/wp_img_8849721989371461753.jpg
END:VEVENT
BEGIN:VEVENT
DTSTART;TZID=America/New_York:20260803T170000
DTEND;TZID=America/New_York:20260803T200000
DTSTAMP:20260421T143617
CREATED:20260318T203442Z
LAST-MODIFIED:20260318T203442Z
UID:10000410-1785776400-1785787200@whatsnewpasco.com
SUMMARY:Mahjong Mondays (5PM ET)
DESCRIPTION:Join us for Mahjong Mondays at B&B! 5-8PM (ET)! New & experienced Mahjong players are welcome! 😊 \nIf you are ready to challenge your skills & enjoy a Chinese game of strategy and luck\, don’t miss these fun events! \n🍻Arrive early to enjoy our Happy Hour menu! \n#BBTheatres #Mahjong #HappyHour
URL:https://whatsnewpasco.com/event/mahjong-mondays-5pm-et/2026-08-03/
LOCATION:B&B Theatres Wesley Chapel – The Grove 16\, 6333 Wesley Grove Blvd\, Wesley Chapel\, FL\, 33544\, United States
CATEGORIES:Free
ATTACH;FMTTYPE=image/jpeg:https://whatsnewpasco.com/wp-content/uploads/2026/03/wp_img_8849721989371461753.jpg
END:VEVENT
BEGIN:VEVENT
DTSTART;TZID=America/New_York:20260810T170000
DTEND;TZID=America/New_York:20260810T200000
DTSTAMP:20260421T143617
CREATED:20260318T203442Z
LAST-MODIFIED:20260318T203442Z
UID:10000411-1786381200-1786392000@whatsnewpasco.com
SUMMARY:Mahjong Mondays (5PM ET)
DESCRIPTION:Join us for Mahjong Mondays at B&B! 5-8PM (ET)! New & experienced Mahjong players are welcome! 😊 \nIf you are ready to challenge your skills & enjoy a Chinese game of strategy and luck\, don’t miss these fun events! \n🍻Arrive early to enjoy our Happy Hour menu! \n#BBTheatres #Mahjong #HappyHour
URL:https://whatsnewpasco.com/event/mahjong-mondays-5pm-et/2026-08-10/
LOCATION:B&B Theatres Wesley Chapel – The Grove 16\, 6333 Wesley Grove Blvd\, Wesley Chapel\, FL\, 33544\, United States
CATEGORIES:Free
ATTACH;FMTTYPE=image/jpeg:https://whatsnewpasco.com/wp-content/uploads/2026/03/wp_img_8849721989371461753.jpg
END:VEVENT
BEGIN:VEVENT
DTSTART;TZID=America/New_York:20260817T170000
DTEND;TZID=America/New_York:20260817T200000
DTSTAMP:20260421T143617
CREATED:20260318T203442Z
LAST-MODIFIED:20260318T203442Z
UID:10000412-1786986000-1786996800@whatsnewpasco.com
SUMMARY:Mahjong Mondays (5PM ET)
DESCRIPTION:Join us for Mahjong Mondays at B&B! 5-8PM (ET)! New & experienced Mahjong players are welcome! 😊 \nIf you are ready to challenge your skills & enjoy a Chinese game of strategy and luck\, don’t miss these fun events! \n🍻Arrive early to enjoy our Happy Hour menu! \n#BBTheatres #Mahjong #HappyHour
URL:https://whatsnewpasco.com/event/mahjong-mondays-5pm-et/2026-08-17/
LOCATION:B&B Theatres Wesley Chapel – The Grove 16\, 6333 Wesley Grove Blvd\, Wesley Chapel\, FL\, 33544\, United States
CATEGORIES:Free
ATTACH;FMTTYPE=image/jpeg:https://whatsnewpasco.com/wp-content/uploads/2026/03/wp_img_8849721989371461753.jpg
END:VEVENT
BEGIN:VEVENT
DTSTART;TZID=America/New_York:20260824T170000
DTEND;TZID=America/New_York:20260824T200000
DTSTAMP:20260421T143617
CREATED:20260318T203442Z
LAST-MODIFIED:20260318T203442Z
UID:10000413-1787590800-1787601600@whatsnewpasco.com
SUMMARY:Mahjong Mondays (5PM ET)
DESCRIPTION:Join us for Mahjong Mondays at B&B! 5-8PM (ET)! New & experienced Mahjong players are welcome! 😊 \nIf you are ready to challenge your skills & enjoy a Chinese game of strategy and luck\, don’t miss these fun events! \n🍻Arrive early to enjoy our Happy Hour menu! \n#BBTheatres #Mahjong #HappyHour
URL:https://whatsnewpasco.com/event/mahjong-mondays-5pm-et/2026-08-24/
LOCATION:B&B Theatres Wesley Chapel – The Grove 16\, 6333 Wesley Grove Blvd\, Wesley Chapel\, FL\, 33544\, United States
CATEGORIES:Free
ATTACH;FMTTYPE=image/jpeg:https://whatsnewpasco.com/wp-content/uploads/2026/03/wp_img_8849721989371461753.jpg
END:VEVENT
BEGIN:VEVENT
DTSTART;TZID=America/New_York:20260831T170000
DTEND;TZID=America/New_York:20260831T200000
DTSTAMP:20260421T143617
CREATED:20260318T203442Z
LAST-MODIFIED:20260318T203442Z
UID:10000414-1788195600-1788206400@whatsnewpasco.com
SUMMARY:Mahjong Mondays (5PM ET)
DESCRIPTION:Join us for Mahjong Mondays at B&B! 5-8PM (ET)! New & experienced Mahjong players are welcome! 😊 \nIf you are ready to challenge your skills & enjoy a Chinese game of strategy and luck\, don’t miss these fun events! \n🍻Arrive early to enjoy our Happy Hour menu! \n#BBTheatres #Mahjong #HappyHour
URL:https://whatsnewpasco.com/event/mahjong-mondays-5pm-et/2026-08-31/
LOCATION:B&B Theatres Wesley Chapel – The Grove 16\, 6333 Wesley Grove Blvd\, Wesley Chapel\, FL\, 33544\, United States
CATEGORIES:Free
ATTACH;FMTTYPE=image/jpeg:https://whatsnewpasco.com/wp-content/uploads/2026/03/wp_img_8849721989371461753.jpg
END:VEVENT
BEGIN:VEVENT
DTSTART;TZID=America/New_York:20260907T170000
DTEND;TZID=America/New_York:20260907T200000
DTSTAMP:20260421T143617
CREATED:20260318T203442Z
LAST-MODIFIED:20260318T203442Z
UID:10000415-1788800400-1788811200@whatsnewpasco.com
SUMMARY:Mahjong Mondays (5PM ET)
DESCRIPTION:Join us for Mahjong Mondays at B&B! 5-8PM (ET)! New & experienced Mahjong players are welcome! 😊 \nIf you are ready to challenge your skills & enjoy a Chinese game of strategy and luck\, don’t miss these fun events! \n🍻Arrive early to enjoy our Happy Hour menu! \n#BBTheatres #Mahjong #HappyHour
URL:https://whatsnewpasco.com/event/mahjong-mondays-5pm-et/2026-09-07/
LOCATION:B&B Theatres Wesley Chapel – The Grove 16\, 6333 Wesley Grove Blvd\, Wesley Chapel\, FL\, 33544\, United States
CATEGORIES:Free
ATTACH;FMTTYPE=image/jpeg:https://whatsnewpasco.com/wp-content/uploads/2026/03/wp_img_8849721989371461753.jpg
END:VEVENT
BEGIN:VEVENT
DTSTART;TZID=America/New_York:20260914T170000
DTEND;TZID=America/New_York:20260914T200000
DTSTAMP:20260421T143617
CREATED:20260318T203442Z
LAST-MODIFIED:20260318T203442Z
UID:10000416-1789405200-1789416000@whatsnewpasco.com
SUMMARY:Mahjong Mondays (5PM ET)
DESCRIPTION:Join us for Mahjong Mondays at B&B! 5-8PM (ET)! New & experienced Mahjong players are welcome! 😊 \nIf you are ready to challenge your skills & enjoy a Chinese game of strategy and luck\, don’t miss these fun events! \n🍻Arrive early to enjoy our Happy Hour menu! \n#BBTheatres #Mahjong #HappyHour
URL:https://whatsnewpasco.com/event/mahjong-mondays-5pm-et/2026-09-14/
LOCATION:B&B Theatres Wesley Chapel – The Grove 16\, 6333 Wesley Grove Blvd\, Wesley Chapel\, FL\, 33544\, United States
CATEGORIES:Free
ATTACH;FMTTYPE=image/jpeg:https://whatsnewpasco.com/wp-content/uploads/2026/03/wp_img_8849721989371461753.jpg
END:VEVENT
BEGIN:VEVENT
DTSTART;TZID=America/New_York:20260921T170000
DTEND;TZID=America/New_York:20260921T200000
DTSTAMP:20260421T143617
CREATED:20260318T203442Z
LAST-MODIFIED:20260318T203442Z
UID:10000417-1790010000-1790020800@whatsnewpasco.com
SUMMARY:Mahjong Mondays (5PM ET)
DESCRIPTION:Join us for Mahjong Mondays at B&B! 5-8PM (ET)! New & experienced Mahjong players are welcome! 😊 \nIf you are ready to challenge your skills & enjoy a Chinese game of strategy and luck\, don’t miss these fun events! \n🍻Arrive early to enjoy our Happy Hour menu! \n#BBTheatres #Mahjong #HappyHour
URL:https://whatsnewpasco.com/event/mahjong-mondays-5pm-et/2026-09-21/
LOCATION:B&B Theatres Wesley Chapel – The Grove 16\, 6333 Wesley Grove Blvd\, Wesley Chapel\, FL\, 33544\, United States
CATEGORIES:Free
ATTACH;FMTTYPE=image/jpeg:https://whatsnewpasco.com/wp-content/uploads/2026/03/wp_img_8849721989371461753.jpg
END:VEVENT
BEGIN:VEVENT
DTSTART;TZID=America/New_York:20260928T170000
DTEND;TZID=America/New_York:20260928T200000
DTSTAMP:20260421T143617
CREATED:20260318T203442Z
LAST-MODIFIED:20260318T203442Z
UID:10000418-1790614800-1790625600@whatsnewpasco.com
SUMMARY:Mahjong Mondays (5PM ET)
DESCRIPTION:Join us for Mahjong Mondays at B&B! 5-8PM (ET)! New & experienced Mahjong players are welcome! 😊 \nIf you are ready to challenge your skills & enjoy a Chinese game of strategy and luck\, don’t miss these fun events! \n🍻Arrive early to enjoy our Happy Hour menu! \n#BBTheatres #Mahjong #HappyHour
URL:https://whatsnewpasco.com/event/mahjong-mondays-5pm-et/2026-09-28/
LOCATION:B&B Theatres Wesley Chapel – The Grove 16\, 6333 Wesley Grove Blvd\, Wesley Chapel\, FL\, 33544\, United States
CATEGORIES:Free
ATTACH;FMTTYPE=image/jpeg:https://whatsnewpasco.com/wp-content/uploads/2026/03/wp_img_8849721989371461753.jpg
END:VEVENT
BEGIN:VEVENT
DTSTART;TZID=America/New_York:20261005T170000
DTEND;TZID=America/New_York:20261005T200000
DTSTAMP:20260421T143617
CREATED:20260318T203442Z
LAST-MODIFIED:20260318T203442Z
UID:10000419-1791219600-1791230400@whatsnewpasco.com
SUMMARY:Mahjong Mondays (5PM ET)
DESCRIPTION:Join us for Mahjong Mondays at B&B! 5-8PM (ET)! New & experienced Mahjong players are welcome! 😊 \nIf you are ready to challenge your skills & enjoy a Chinese game of strategy and luck\, don’t miss these fun events! \n🍻Arrive early to enjoy our Happy Hour menu! \n#BBTheatres #Mahjong #HappyHour
URL:https://whatsnewpasco.com/event/mahjong-mondays-5pm-et/2026-10-05/
LOCATION:B&B Theatres Wesley Chapel – The Grove 16\, 6333 Wesley Grove Blvd\, Wesley Chapel\, FL\, 33544\, United States
CATEGORIES:Free
ATTACH;FMTTYPE=image/jpeg:https://whatsnewpasco.com/wp-content/uploads/2026/03/wp_img_8849721989371461753.jpg
END:VEVENT
BEGIN:VEVENT
DTSTART;TZID=America/New_York:20261012T170000
DTEND;TZID=America/New_York:20261012T200000
DTSTAMP:20260421T143617
CREATED:20260318T203442Z
LAST-MODIFIED:20260318T203442Z
UID:10000420-1791824400-1791835200@whatsnewpasco.com
SUMMARY:Mahjong Mondays (5PM ET)
DESCRIPTION:Join us for Mahjong Mondays at B&B! 5-8PM (ET)! New & experienced Mahjong players are welcome! 😊 \nIf you are ready to challenge your skills & enjoy a Chinese game of strategy and luck\, don’t miss these fun events! \n🍻Arrive early to enjoy our Happy Hour menu! \n#BBTheatres #Mahjong #HappyHour
URL:https://whatsnewpasco.com/event/mahjong-mondays-5pm-et/2026-10-12/
LOCATION:B&B Theatres Wesley Chapel – The Grove 16\, 6333 Wesley Grove Blvd\, Wesley Chapel\, FL\, 33544\, United States
CATEGORIES:Free
ATTACH;FMTTYPE=image/jpeg:https://whatsnewpasco.com/wp-content/uploads/2026/03/wp_img_8849721989371461753.jpg
END:VEVENT
BEGIN:VEVENT
DTSTART;TZID=America/New_York:20261019T170000
DTEND;TZID=America/New_York:20261019T200000
DTSTAMP:20260421T143617
CREATED:20260318T203442Z
LAST-MODIFIED:20260318T203442Z
UID:10000421-1792429200-1792440000@whatsnewpasco.com
SUMMARY:Mahjong Mondays (5PM ET)
DESCRIPTION:Join us for Mahjong Mondays at B&B! 5-8PM (ET)! New & experienced Mahjong players are welcome! 😊 \nIf you are ready to challenge your skills & enjoy a Chinese game of strategy and luck\, don’t miss these fun events! \n🍻Arrive early to enjoy our Happy Hour menu! \n#BBTheatres #Mahjong #HappyHour
URL:https://whatsnewpasco.com/event/mahjong-mondays-5pm-et/2026-10-19/
LOCATION:B&B Theatres Wesley Chapel – The Grove 16\, 6333 Wesley Grove Blvd\, Wesley Chapel\, FL\, 33544\, United States
CATEGORIES:Free
ATTACH;FMTTYPE=image/jpeg:https://whatsnewpasco.com/wp-content/uploads/2026/03/wp_img_8849721989371461753.jpg
END:VEVENT
BEGIN:VEVENT
DTSTART;TZID=America/New_York:20261026T170000
DTEND;TZID=America/New_York:20261026T200000
DTSTAMP:20260421T143617
CREATED:20260318T203442Z
LAST-MODIFIED:20260318T203442Z
UID:10000422-1793034000-1793044800@whatsnewpasco.com
SUMMARY:Mahjong Mondays (5PM ET)
DESCRIPTION:Join us for Mahjong Mondays at B&B! 5-8PM (ET)! New & experienced Mahjong players are welcome! 😊 \nIf you are ready to challenge your skills & enjoy a Chinese game of strategy and luck\, don’t miss these fun events! \n🍻Arrive early to enjoy our Happy Hour menu! \n#BBTheatres #Mahjong #HappyHour
URL:https://whatsnewpasco.com/event/mahjong-mondays-5pm-et/2026-10-26/
LOCATION:B&B Theatres Wesley Chapel – The Grove 16\, 6333 Wesley Grove Blvd\, Wesley Chapel\, FL\, 33544\, United States
CATEGORIES:Free
ATTACH;FMTTYPE=image/jpeg:https://whatsnewpasco.com/wp-content/uploads/2026/03/wp_img_8849721989371461753.jpg
END:VEVENT
BEGIN:VEVENT
DTSTART;TZID=America/New_York:20261102T170000
DTEND;TZID=America/New_York:20261102T200000
DTSTAMP:20260421T143617
CREATED:20260318T203442Z
LAST-MODIFIED:20260318T203442Z
UID:10000423-1793638800-1793649600@whatsnewpasco.com
SUMMARY:Mahjong Mondays (5PM ET)
DESCRIPTION:Join us for Mahjong Mondays at B&B! 5-8PM (ET)! New & experienced Mahjong players are welcome! 😊 \nIf you are ready to challenge your skills & enjoy a Chinese game of strategy and luck\, don’t miss these fun events! \n🍻Arrive early to enjoy our Happy Hour menu! \n#BBTheatres #Mahjong #HappyHour
URL:https://whatsnewpasco.com/event/mahjong-mondays-5pm-et/2026-11-02/
LOCATION:B&B Theatres Wesley Chapel – The Grove 16\, 6333 Wesley Grove Blvd\, Wesley Chapel\, FL\, 33544\, United States
CATEGORIES:Free
ATTACH;FMTTYPE=image/jpeg:https://whatsnewpasco.com/wp-content/uploads/2026/03/wp_img_8849721989371461753.jpg
END:VEVENT
BEGIN:VEVENT
DTSTART;TZID=America/New_York:20261109T170000
DTEND;TZID=America/New_York:20261109T200000
DTSTAMP:20260421T143617
CREATED:20260318T203442Z
LAST-MODIFIED:20260318T203442Z
UID:10000424-1794243600-1794254400@whatsnewpasco.com
SUMMARY:Mahjong Mondays (5PM ET)
DESCRIPTION:Join us for Mahjong Mondays at B&B! 5-8PM (ET)! New & experienced Mahjong players are welcome! 😊 \nIf you are ready to challenge your skills & enjoy a Chinese game of strategy and luck\, don’t miss these fun events! \n🍻Arrive early to enjoy our Happy Hour menu! \n#BBTheatres #Mahjong #HappyHour
URL:https://whatsnewpasco.com/event/mahjong-mondays-5pm-et/2026-11-09/
LOCATION:B&B Theatres Wesley Chapel – The Grove 16\, 6333 Wesley Grove Blvd\, Wesley Chapel\, FL\, 33544\, United States
CATEGORIES:Free
ATTACH;FMTTYPE=image/jpeg:https://whatsnewpasco.com/wp-content/uploads/2026/03/wp_img_8849721989371461753.jpg
END:VEVENT
BEGIN:VEVENT
DTSTART;TZID=America/New_York:20261116T170000
DTEND;TZID=America/New_York:20261116T200000
DTSTAMP:20260421T143617
CREATED:20260318T203442Z
LAST-MODIFIED:20260318T203442Z
UID:10000425-1794848400-1794859200@whatsnewpasco.com
SUMMARY:Mahjong Mondays (5PM ET)
DESCRIPTION:Join us for Mahjong Mondays at B&B! 5-8PM (ET)! New & experienced Mahjong players are welcome! 😊 \nIf you are ready to challenge your skills & enjoy a Chinese game of strategy and luck\, don’t miss these fun events! \n🍻Arrive early to enjoy our Happy Hour menu! \n#BBTheatres #Mahjong #HappyHour
URL:https://whatsnewpasco.com/event/mahjong-mondays-5pm-et/2026-11-16/
LOCATION:B&B Theatres Wesley Chapel – The Grove 16\, 6333 Wesley Grove Blvd\, Wesley Chapel\, FL\, 33544\, United States
CATEGORIES:Free
ATTACH;FMTTYPE=image/jpeg:https://whatsnewpasco.com/wp-content/uploads/2026/03/wp_img_8849721989371461753.jpg
END:VEVENT
END:VCALENDAR