BEGIN:VCALENDAR
VERSION:2.0
PRODID:-//What&#039;s New Pasco - ECPv6.15.20//NONSGML v1.0//EN
CALSCALE:GREGORIAN
METHOD:PUBLISH
X-WR-CALNAME:What&#039;s New Pasco
X-ORIGINAL-URL:https://whatsnewpasco.com
X-WR-CALDESC:Events for What&#039;s New Pasco
REFRESH-INTERVAL;VALUE=DURATION:PT1H
X-Robots-Tag:noindex
X-PUBLISHED-TTL:PT1H
BEGIN:VTIMEZONE
TZID:America/New_York
BEGIN:DAYLIGHT
TZOFFSETFROM:-0500
TZOFFSETTO:-0400
TZNAME:EDT
DTSTART:20250309T070000
END:DAYLIGHT
BEGIN:STANDARD
TZOFFSETFROM:-0400
TZOFFSETTO:-0500
TZNAME:EST
DTSTART:20251102T060000
END:STANDARD
BEGIN:DAYLIGHT
TZOFFSETFROM:-0500
TZOFFSETTO:-0400
TZNAME:EDT
DTSTART:20260308T070000
END:DAYLIGHT
BEGIN:STANDARD
TZOFFSETFROM:-0400
TZOFFSETTO:-0500
TZNAME:EST
DTSTART:20261101T060000
END:STANDARD
BEGIN:DAYLIGHT
TZOFFSETFROM:-0500
TZOFFSETTO:-0400
TZNAME:EDT
DTSTART:20270314T070000
END:DAYLIGHT
BEGIN:STANDARD
TZOFFSETFROM:-0400
TZOFFSETTO:-0500
TZNAME:EST
DTSTART:20271107T060000
END:STANDARD
END:VTIMEZONE
BEGIN:VEVENT
DTSTART;TZID=America/New_York:20260303T090000
DTEND;TZID=America/New_York:20260317T170000
DTSTAMP:20260422T181451
CREATED:20260318T224013Z
LAST-MODIFIED:20260318T224013Z
UID:10000342-1772528400-1773766800@whatsnewpasco.com
SUMMARY:Happy St. Patrick's Day (Wiregrass)
DESCRIPTION:Seasonal St. Patrick’s Day activity event posted by The Shops at Wiregrass.
URL:https://whatsnewpasco.com/event/happy-st-patricks-day-wiregrass-2/
LOCATION:The Shops at Wiregrass\, 28211 Paseo Drive\, Wesley Chapel\, FL\, 33543\, United States
CATEGORIES:Family Fun
END:VEVENT
BEGIN:VEVENT
DTSTART;TZID=America/New_York:20260312T090000
DTEND;TZID=America/New_York:20260313T170000
DTSTAMP:20260422T181451
CREATED:20260318T224002Z
LAST-MODIFIED:20260318T224002Z
UID:10000352-1773306000-1773421200@whatsnewpasco.com
SUMMARY:Dillard's Fit For the Cure Benefiting Susan G. Komen
DESCRIPTION:Two-day Dillard’s Fit For the Cure event benefiting Susan G. Komen\, listed on the official Wiregrass events page for March 12-13\, 2026.
URL:https://whatsnewpasco.com/event/dillards-fit-for-the-cure-benefiting-susan-g-komen-2/
LOCATION:The Shops at Wiregrass (Dillard’s)\, Wesley Chapel\, FL\, United States
CATEGORIES:Giving Back
END:VEVENT
BEGIN:VEVENT
DTSTART;TZID=America/New_York:20260313T090000
DTEND;TZID=America/New_York:20260313T170000
DTSTAMP:20260422T181451
CREATED:20260318T224002Z
LAST-MODIFIED:20260318T224002Z
UID:10000357-1773392400-1773421200@whatsnewpasco.com
SUMMARY:Shenanigans & Hooligans: A 21+ St. Patrick’s After Dark Party
DESCRIPTION:21+ late-night St. Patrick’s celebration at Starkey Market.
URL:https://whatsnewpasco.com/event/shenanigans-hooligans-a-21-st-patricks-after-dark-party-2/
LOCATION:Starkey Market\, 3460 Starkey Boulevard\, Trinity\, FL\, 34655\, United States
CATEGORIES:Festivals & Markets
END:VEVENT
BEGIN:VEVENT
DTSTART;TZID=America/New_York:20260313T090000
DTEND;TZID=America/New_York:20260313T170000
DTSTAMP:20260422T181451
CREATED:20260318T224002Z
LAST-MODIFIED:20260318T224002Z
UID:10000358-1773392400-1773421200@whatsnewpasco.com
SUMMARY:Teen Night (KRATE at The Grove)
DESCRIPTION:Teen-focused evening event listed on KRATE calendar.
URL:https://whatsnewpasco.com/event/teen-night-krate-at-the-grove-2/
LOCATION:KRATE at The Grove\, 5817 Goldview Pkwy\, Wesley Chapel\, FL\, 33544\, United States
CATEGORIES:Family Fun
END:VEVENT
BEGIN:VEVENT
DTSTART;TZID=America/New_York:20260313T090000
DTEND;TZID=America/New_York:20260404T170000
DTSTAMP:20260422T181451
CREATED:20260318T224002Z
LAST-MODIFIED:20260319T051012Z
UID:10000356-1773392400-1775322000@whatsnewpasco.com
SUMMARY:Kidz Bop Bunny Dance Parties (Wiregrass)
DESCRIPTION:Hop into the fun with KIDZ BOP Bunny Dance Parties! Every hour on the hour at the Easter Bunny photo set\, families can join Bunny for a fun KIDZ BOP dance party made just for kids. With easy-to-follow moves and upbeat music\, it’s high-energy\, totally kid-approved\, and guaranteed to bring smiles all around! \nLearn more about our Easter Bunny Photos (located at The Circle near Pottery Barn) and book your photo session HERE!
URL:https://whatsnewpasco.com/event/kidz-bop-bunny-dance-parties-wiregrass-2/
LOCATION:The Shops at Wiregrass\, 28211 Paseo Drive\, Wesley Chapel\, FL\, 33543\, United States
CATEGORIES:Family Fun
ATTACH;FMTTYPE=image/webp:https://whatsnewpasco.com/wp-content/uploads/2026/03/Wendell-Banner-3-scaled.webp
END:VEVENT
BEGIN:VEVENT
DTSTART;TZID=America/New_York:20260313T140000
DTEND;TZID=America/New_York:20260313T190000
DTSTAMP:20260422T181451
CREATED:20260318T224002Z
LAST-MODIFIED:20260319T004810Z
UID:10000824-1773410400-1773428400@whatsnewpasco.com
SUMMARY:Easter Bunny Photos (Wiregrass)
DESCRIPTION:CAPTURE THE MAGIC OF SPRING WITH BUNNY PHOTOS! \nWe’re so egg-cited! Bunny reservations are now open at The Shops at Wiregrass! Make this Easter season extra special by booking your Bunny photo experience today. Photos will take place at South Court near Pottery Barn. \nBring the family to visit Bunny and capture a photo you’ll treasure forever. Reserve your spot now and enjoy extra perks: \n\nReceive a free 3- month trial to Crayola Scribble Scrubbie Pets\, a creative app that encourages empathy\, responsibility\, and kindness.\nGet a free Personalized Photo Label on any large Yankee Candle\, plus $10 off your $30 purchase in-store or online.\n\nWorried your plans might change? No problem! You can reschedule your reservation for free up to 48 hours before your visit. \nRESERVE YOUR SPOT HERE \nBUNNY EVENTS\nCheck out our Easter Bunny pet photos and sensory experience dates listed below. Also\, hop into the fun at our KIDZ BOP Bunny Dance Parties! Every hour on the hour\, kids can dance along with Bunny to upbeat KIDZ BOP hits and easy-to-follow moves. \nSpecial Event Schedule \nPet Photos \nMonday\, March 16 | 5:00 PM – 7:00 PM \nMonday\, March 23 | 5:00 PM – 7:00 PM \nMonday\, March 30 | 5:00 PM – 7:00 PM \nSensory-Friendly Session \nSunday\, March 22 | 10:00 AM – 11:30 AM \nEaster Bunny Photo Schedule  \nFriday\, March 13 \n2:00 PM – 7:00 PM \nSaturday\, March 14 \n11:00 AM – 7:00 PM \nSunday\, March 15 \n12:00 PM – 6:00 PM \nMonday\, March 16 – Thursday\, March 19 \n2:00 PM – 7:00 PM \nFriday\, March 20 \n2:00 PM – 7:00 PM \nSaturday\, March 21 \n11:00 AM – 7:00 PM \nSunday\, March 22 \n12:00 PM – 6:00 PM \nMonday\, March 23 – Thursday\, March 26 \n2:00 PM – 7:00 PM \nFriday\, March 27 – Saturday\, March 28 \n11:00 AM – 7:00 PM \nSunday\, March 29 \n12:00 PM – 6:00 PM \nMonday\, March 30 – Saturday\, April 4 \n11:00 AM – 7:00 PM
URL:https://whatsnewpasco.com/event/easter-bunny-photos-wiregrass-2/2026-03-13/
LOCATION:The Shops at Wiregrass\, 28211 Paseo Drive\, Wesley Chapel\, FL\, 33543\, United States
CATEGORIES:Family Fun
ATTACH;FMTTYPE=image/webp:https://whatsnewpasco.com/wp-content/uploads/2026/03/Wendell-Banner-3-scaled.webp
END:VEVENT
BEGIN:VEVENT
DTSTART;TZID=America/New_York:20260313T170000
DTEND;TZID=America/New_York:20260313T210000
DTSTAMP:20260422T181451
CREATED:20260326T044910Z
LAST-MODIFIED:20260408T201459Z
UID:10002298-1773421200-1773435600@whatsnewpasco.com
SUMMARY:Friday Moonlight Market at The Hub at Bexley
DESCRIPTION:Friday Moonlight Market at The Hub at Bexley\nWhen: Every 2nd and 4th FridayTime: 5 PM – 9 PMWhere: The Hub at BexleyAddress: 16954 Focus Lp\, Land O’ Lakes\, FL 34638\n\nVENDORS\, FOOD\, DRINKS\, MUSIC\, GAMES & MORE!\n Live Entertainment & Activities:– Enjoy live music\, starting at 6pm– Pet-friendly thanks to Woof Gang Bakery & Grooming– Pool & Bar Games hosted at Spanky’s Taproom\n Delicious Dining Options:– Bella Brava\, Taco Bus\, Grain & Berry\, Urban Crunch\, and more!\n Unique Shopping & Treats:Explore an amazing variety of vendors offering– Permanent Jewelry & Charm Bar– Fresh Pastries\, Mini Bundt Cakes\, Gourmet Chunky Cookies– Dips\, Sauces\, Rubs\, Candies\, and other Cottage Goods– Soaps\, Wax Melts\, Selfcare Products– T-Shirts\, Tumblers\, and Mugs with Unique Designs– Paintings\, Crochet\, 3D-Printed Keepsakes & Toys– Paperback Novels\, Cigars\, and Whiskey Smokers\nThis is a kid-friendly and pet-friendly event that promises something special for everyone. Don’t miss out on this festive\, community-filled evening!\nWe can’t wait to see you there! \nWant to be a Vendor? Apply by visiting our website at www.floridapenguinproductions.com or email Brett Cecere at Brett@FloridaPenguinProductions.com.\n\nVendor Application Link: https://lp.constantcontactpages.com/…/6287fe3c-a604… \nSee less
URL:https://whatsnewpasco.com/event/friday-moonlight-market-at-the-hub-at-bexley-2/2026-03-13/
LOCATION:The Hub at Bexley\, 16954 Focus Lp\, Land O Lakes\, FL\, 34638\, United States
CATEGORIES:Family Fun,Festivals & Markets,Food & Drinks,Free,Nightlife
ATTACH;FMTTYPE=image/jpeg:https://whatsnewpasco.com/wp-content/uploads/2026/03/Friday-Moonlight-Market-The-Hub-at-Bexley.jpg
END:VEVENT
BEGIN:VEVENT
DTSTART;TZID=America/New_York:20260314T090000
DTEND;TZID=America/New_York:20260314T170000
DTSTAMP:20260422T181451
CREATED:20260318T223950Z
LAST-MODIFIED:20260318T223950Z
UID:10000369-1773478800-1773507600@whatsnewpasco.com
SUMMARY:Sunrise of Pasco County's 4th Annual Pull for Survivors
DESCRIPTION:Fundraising clay shoot\, dinner\, and auction benefitting survivors through Sunrise of Pasco County.
URL:https://whatsnewpasco.com/event/sunrise-of-pasco-countys-4th-annual-pull-for-survivors-2/
LOCATION:Tampa Bay Sporting Clays\, 10514 Ehren's Cutoff\, Land\, O'\, United States
CATEGORIES:Get Active,Giving Back
END:VEVENT
BEGIN:VEVENT
DTSTART;TZID=America/New_York:20260314T090000
DTEND;TZID=America/New_York:20260314T170000
DTSTAMP:20260422T181451
CREATED:20260318T223950Z
LAST-MODIFIED:20260318T223950Z
UID:10000370-1773478800-1773507600@whatsnewpasco.com
SUMMARY:UNCORKED—A Taste of Dade City
DESCRIPTION:Dade City Garden Club tasting fundraiser spotlighting local restaurants\, chocolates\, market and hospitality partners with craft beer service.
URL:https://whatsnewpasco.com/event/uncorked-a-taste-of-dade-city-2/
LOCATION:13630 5th Street\, Dade City\, FL\, 33525\, United States
CATEGORIES:Food & Drinks,Giving Back
END:VEVENT
BEGIN:VEVENT
DTSTART;TZID=America/New_York:20260314T090000
DTEND;TZID=America/New_York:20260314T170000
DTSTAMP:20260422T181451
CREATED:20260318T224001Z
LAST-MODIFIED:20260318T224001Z
UID:10000368-1773478800-1773507600@whatsnewpasco.com
SUMMARY:Step Class (Flip’n Fry) (KRATE)
DESCRIPTION:Step fitness class event listed on KRATE calendar.
URL:https://whatsnewpasco.com/event/step-class-flipn-fry-krate-2/
LOCATION:KRATE at The Grove\, 5817 Goldview Pkwy\, Wesley Chapel\, FL\, 33544\, United States
CATEGORIES:Get Active
END:VEVENT
BEGIN:VEVENT
DTSTART;TZID=America/New_York:20260314T090000
DTEND;TZID=America/New_York:20260314T170000
DTSTAMP:20260422T181451
CREATED:20260318T224001Z
LAST-MODIFIED:20260318T224001Z
UID:10000359-1773478800-1773507600@whatsnewpasco.com
SUMMARY:9th Annual Family Fun Fest & Summer Camp Expo
DESCRIPTION:Family Fun Fest & Summer Camp Expo listed on official Shops at Wiregrass events page.
URL:https://whatsnewpasco.com/event/9th-annual-family-fun-fest-summer-camp-expo-2/
LOCATION:The Shops at Wiregrass\, 28211 Paseo Drive\, Wesley Chapel\, FL\, 33543\, United States
CATEGORIES:Family Fun
END:VEVENT
BEGIN:VEVENT
DTSTART;TZID=America/New_York:20260314T090000
DTEND;TZID=America/New_York:20260314T170000
DTSTAMP:20260422T181451
CREATED:20260318T224001Z
LAST-MODIFIED:20260318T224001Z
UID:10000360-1773478800-1773507600@whatsnewpasco.com
SUMMARY:Absolute Queen – A Mind-Blowing Tribute to Rock Legends
DESCRIPTION:Queen tribute concert at Richey Suncoast Theatre with performances at 5:00 PM and 8:00 PM.
URL:https://whatsnewpasco.com/event/absolute-queen-a-mind-blowing-tribute-to-rock-legends-2/
LOCATION:Richey Suncoast Theatre\, 6237 Grand Boulevard\, New\, Port\, United States
CATEGORIES:Festivals & Markets
END:VEVENT
BEGIN:VEVENT
DTSTART;TZID=America/New_York:20260314T090000
DTEND;TZID=America/New_York:20260314T170000
DTSTAMP:20260422T181451
CREATED:20260318T224001Z
LAST-MODIFIED:20260318T224001Z
UID:10000361-1773478800-1773507600@whatsnewpasco.com
SUMMARY:Bunny Bash
DESCRIPTION:Spring family event with egg hunts\, inflatables\, games\, vendors\, and other Bunny Bash activities at Samuel Pasco Park.
URL:https://whatsnewpasco.com/event/bunny-bash-2/
LOCATION:Samuel Pasco Park\, 39535 Chancey Rd\, Zephyrhills\, United States
CATEGORIES:Family Fun,Festivals & Markets
END:VEVENT
BEGIN:VEVENT
DTSTART;TZID=America/New_York:20260314T090000
DTEND;TZID=America/New_York:20260314T170000
DTSTAMP:20260422T181451
CREATED:20260318T224001Z
LAST-MODIFIED:20260318T224001Z
UID:10000362-1773478800-1773507600@whatsnewpasco.com
SUMMARY:Caribbean Night at The KRATE
DESCRIPTION:Second Saturday Caribbean-themed night event at KRATE.
URL:https://whatsnewpasco.com/event/caribbean-night-at-the-krate-2/
LOCATION:KRATE at The Grove\, 5817 Goldview Pkwy\, Wesley Chapel\, FL\, 33544\, United States
CATEGORIES:Festivals & Markets
END:VEVENT
BEGIN:VEVENT
DTSTART;TZID=America/New_York:20260314T090000
DTEND;TZID=America/New_York:20260314T170000
DTSTAMP:20260422T181451
CREATED:20260318T224001Z
LAST-MODIFIED:20260318T224001Z
UID:10000363-1773478800-1773507600@whatsnewpasco.com
SUMMARY:Free Concert in the Park: Tribute to Bobby Weir ft. Dead Set Florida
DESCRIPTION:Community live concert event listed on Florida’s Sports Coast events page (5:00 PM–10:00 PM).
URL:https://whatsnewpasco.com/event/free-concert-in-the-park-tribute-to-bobby-weir-ft-dead-set-florida-2/
LOCATION:Sims Park\, 5012 Robert McCraney St\, New Port Richey\, FL\, 34652\, United States
CATEGORIES:Festivals & Markets
END:VEVENT
BEGIN:VEVENT
DTSTART;TZID=America/New_York:20260314T090000
DTEND;TZID=America/New_York:20260314T170000
DTSTAMP:20260422T181451
CREATED:20260318T224001Z
LAST-MODIFIED:20260318T224001Z
UID:10000364-1773478800-1773507600@whatsnewpasco.com
SUMMARY:Historic Downtown Dade City Farmers Market
DESCRIPTION:Downtown farmers market event in Dade City featuring local vendors and market-style community shopping.
URL:https://whatsnewpasco.com/event/historic-downtown-dade-city-farmers-market-2/
LOCATION:Historic Downtown Dade City\, Dade City\, FL\, United States
CATEGORIES:Family Fun,Festivals & Markets,Food & Drinks,Free
END:VEVENT
BEGIN:VEVENT
DTSTART;TZID=America/New_York:20260314T090000
DTEND;TZID=America/New_York:20260314T170000
DTSTAMP:20260422T181451
CREATED:20260318T224001Z
LAST-MODIFIED:20260318T224001Z
UID:10000365-1773478800-1773507600@whatsnewpasco.com
SUMMARY:Market In The Park
DESCRIPTION:Outdoor farmers market in San Antonio with community vendor shopping on the second Saturday of the month.
URL:https://whatsnewpasco.com/event/market-in-the-park-2/
LOCATION:12409 Curley St.\, San Antonio\, FL\, United States
CATEGORIES:Family Fun,Festivals & Markets,Food & Drinks,Free
END:VEVENT
BEGIN:VEVENT
DTSTART;TZID=America/New_York:20260314T090000
DTEND;TZID=America/New_York:20260315T170000
DTSTAMP:20260422T181451
CREATED:20260318T223950Z
LAST-MODIFIED:20260318T223950Z
UID:10000367-1773478800-1773594000@whatsnewpasco.com
SUMMARY:St. Paddy's Street Party Presented by The Brass Tap
DESCRIPTION:Official Wiregrass venue listing for The Brass Tap St. Paddy’s street party weekend with drinks\, music\, and festival activity.
URL:https://whatsnewpasco.com/event/st-paddys-street-party-presented-by-the-brass-tap-2/
LOCATION:The Brass Tap / The Shops at Wiregrass\, Wesley Chapel\, FL\, United States
CATEGORIES:Festivals & Markets,Food & Drinks
END:VEVENT
BEGIN:VEVENT
DTSTART;TZID=America/New_York:20260314T100000
DTEND;TZID=America/New_York:20260314T130000
DTSTAMP:20260422T181451
CREATED:20260318T223950Z
LAST-MODIFIED:20260318T234216Z
UID:10000366-1773482400-1773493200@whatsnewpasco.com
SUMMARY:Posies at Starkey Market
DESCRIPTION:Stop by and build your very own custom bouquet with Tampa Bay’s favorite Flower Truck\, Posies!
URL:https://whatsnewpasco.com/event/posies-at-starkey-market-2/
LOCATION:Starkey Market\, 3460 Starkey Boulevard\, Trinity\, FL\, 34655\, United States
CATEGORIES:Festivals & Markets
ATTACH;FMTTYPE=image/jpeg:https://whatsnewpasco.com/wp-content/uploads/2026/03/337124685_937087137302559_5984830409869659004_n.jpg
END:VEVENT
BEGIN:VEVENT
DTSTART;TZID=America/New_York:20260314T100000
DTEND;TZID=America/New_York:20260314T180000
DTSTAMP:20260422T181451
CREATED:20260317T001611Z
LAST-MODIFIED:20260319T051300Z
UID:10001222-1773482400-1773511200@whatsnewpasco.com
SUMMARY:2026 Bay Area Renaissance Festival
DESCRIPTION:Hear ye\, hear ye! The gates of Folkstone swing wide once again! Step back in time to a lively 16th-century village filled with magic\, merriment\, and unforgettable adventure. \nSet in the heart of Dade City\, 2026 Bay Area Renaissance Festival invites you to step into a 16th-century European village with 15 stages of entertainment\, over 100 talented artisans\, and immersive historical experiences. As we celebrate our 48th season\, we welcome families\, history buffs\, and adventure seekers to experience an unforgettable world of fun\, feasts\, and festivities for all ages! \nPeruse the wares of over 100 talented artisans\, feast upon food fit for royalty\, and meet the colorful villagers who bring the realm to life— including live jousting\, magicians\, minstrels\, jugglers\, and more. With 7 themed weekends of fun and festivities\, every visit is a new adventure!
URL:https://whatsnewpasco.com/event/bay-area-renaissance-festival/2026-03-14/
LOCATION:Bay Area Renaissance Festival\, 12838 Auton Rd\, Dade City\, FL\, 33525\, United States
CATEGORIES:Family Fun,Festivals & Markets,Food & Drinks
ATTACH;FMTTYPE=image/jpeg:https://whatsnewpasco.com/wp-content/uploads/2026/03/572164830_1419173973125430_1047329286886224967_n.jpg
END:VEVENT
BEGIN:VEVENT
DTSTART;TZID=America/New_York:20260314T110000
DTEND;TZID=America/New_York:20260314T190000
DTSTAMP:20260422T181451
CREATED:20260318T224002Z
LAST-MODIFIED:20260319T004810Z
UID:10000825-1773486000-1773514800@whatsnewpasco.com
SUMMARY:Easter Bunny Photos (Wiregrass)
DESCRIPTION:CAPTURE THE MAGIC OF SPRING WITH BUNNY PHOTOS! \nWe’re so egg-cited! Bunny reservations are now open at The Shops at Wiregrass! Make this Easter season extra special by booking your Bunny photo experience today. Photos will take place at South Court near Pottery Barn. \nBring the family to visit Bunny and capture a photo you’ll treasure forever. Reserve your spot now and enjoy extra perks: \n\nReceive a free 3- month trial to Crayola Scribble Scrubbie Pets\, a creative app that encourages empathy\, responsibility\, and kindness.\nGet a free Personalized Photo Label on any large Yankee Candle\, plus $10 off your $30 purchase in-store or online.\n\nWorried your plans might change? No problem! You can reschedule your reservation for free up to 48 hours before your visit. \nRESERVE YOUR SPOT HERE \nBUNNY EVENTS\nCheck out our Easter Bunny pet photos and sensory experience dates listed below. Also\, hop into the fun at our KIDZ BOP Bunny Dance Parties! Every hour on the hour\, kids can dance along with Bunny to upbeat KIDZ BOP hits and easy-to-follow moves. \nSpecial Event Schedule \nPet Photos \nMonday\, March 16 | 5:00 PM – 7:00 PM \nMonday\, March 23 | 5:00 PM – 7:00 PM \nMonday\, March 30 | 5:00 PM – 7:00 PM \nSensory-Friendly Session \nSunday\, March 22 | 10:00 AM – 11:30 AM \nEaster Bunny Photo Schedule  \nFriday\, March 13 \n2:00 PM – 7:00 PM \nSaturday\, March 14 \n11:00 AM – 7:00 PM \nSunday\, March 15 \n12:00 PM – 6:00 PM \nMonday\, March 16 – Thursday\, March 19 \n2:00 PM – 7:00 PM \nFriday\, March 20 \n2:00 PM – 7:00 PM \nSaturday\, March 21 \n11:00 AM – 7:00 PM \nSunday\, March 22 \n12:00 PM – 6:00 PM \nMonday\, March 23 – Thursday\, March 26 \n2:00 PM – 7:00 PM \nFriday\, March 27 – Saturday\, March 28 \n11:00 AM – 7:00 PM \nSunday\, March 29 \n12:00 PM – 6:00 PM \nMonday\, March 30 – Saturday\, April 4 \n11:00 AM – 7:00 PM
URL:https://whatsnewpasco.com/event/easter-bunny-photos-wiregrass-2/2026-03-14/
LOCATION:The Shops at Wiregrass\, 28211 Paseo Drive\, Wesley Chapel\, FL\, 33543\, United States
CATEGORIES:Family Fun
ATTACH;FMTTYPE=image/webp:https://whatsnewpasco.com/wp-content/uploads/2026/03/Wendell-Banner-3-scaled.webp
END:VEVENT
BEGIN:VEVENT
DTSTART;TZID=America/New_York:20260315T090000
DTEND;TZID=America/New_York:20260315T170000
DTSTAMP:20260422T181451
CREATED:20260318T223950Z
LAST-MODIFIED:20260318T223950Z
UID:10000371-1773565200-1773594000@whatsnewpasco.com
SUMMARY:Bible Study
DESCRIPTION:Weekly Bible study session held after church services with Holy Communion at Shepherd of the Hills Lutheran Church.
URL:https://whatsnewpasco.com/event/bible-study-2/
LOCATION:Shepherd of the Hills Lutheran Church\, 37015 Orange Valley Lane\, Dade\, City\, United States
CATEGORIES:Classes & Courses,Free
END:VEVENT
BEGIN:VEVENT
DTSTART;TZID=America/New_York:20260315T090000
DTEND;TZID=America/New_York:20260315T170000
DTSTAMP:20260422T181451
CREATED:20260318T223950Z
LAST-MODIFIED:20260318T223950Z
UID:10000372-1773565200-1773594000@whatsnewpasco.com
SUMMARY:New Port Richey Film Festival
DESCRIPTION:Community film festival featuring youth and adult local filmmakers.
URL:https://whatsnewpasco.com/event/new-port-richey-film-festival-2/
LOCATION:Richey Suncoast Theatre\, 6237 Grand Boulevard\, New\, Port\, United States
CATEGORIES:Festivals & Markets
END:VEVENT
BEGIN:VEVENT
DTSTART;TZID=America/New_York:20260315T100000
DTEND;TZID=America/New_York:20260315T180000
DTSTAMP:20260422T181451
CREATED:20260317T001611Z
LAST-MODIFIED:20260319T051300Z
UID:10001223-1773568800-1773597600@whatsnewpasco.com
SUMMARY:2026 Bay Area Renaissance Festival
DESCRIPTION:Hear ye\, hear ye! The gates of Folkstone swing wide once again! Step back in time to a lively 16th-century village filled with magic\, merriment\, and unforgettable adventure. \nSet in the heart of Dade City\, 2026 Bay Area Renaissance Festival invites you to step into a 16th-century European village with 15 stages of entertainment\, over 100 talented artisans\, and immersive historical experiences. As we celebrate our 48th season\, we welcome families\, history buffs\, and adventure seekers to experience an unforgettable world of fun\, feasts\, and festivities for all ages! \nPeruse the wares of over 100 talented artisans\, feast upon food fit for royalty\, and meet the colorful villagers who bring the realm to life— including live jousting\, magicians\, minstrels\, jugglers\, and more. With 7 themed weekends of fun and festivities\, every visit is a new adventure!
URL:https://whatsnewpasco.com/event/bay-area-renaissance-festival/2026-03-15/
LOCATION:Bay Area Renaissance Festival\, 12838 Auton Rd\, Dade City\, FL\, 33525\, United States
CATEGORIES:Family Fun,Festivals & Markets,Food & Drinks
ATTACH;FMTTYPE=image/jpeg:https://whatsnewpasco.com/wp-content/uploads/2026/03/572164830_1419173973125430_1047329286886224967_n.jpg
END:VEVENT
BEGIN:VEVENT
DTSTART;TZID=America/New_York:20260315T120000
DTEND;TZID=America/New_York:20260315T180000
DTSTAMP:20260422T181451
CREATED:20260318T224002Z
LAST-MODIFIED:20260319T004810Z
UID:10000826-1773576000-1773597600@whatsnewpasco.com
SUMMARY:Easter Bunny Photos (Wiregrass)
DESCRIPTION:CAPTURE THE MAGIC OF SPRING WITH BUNNY PHOTOS! \nWe’re so egg-cited! Bunny reservations are now open at The Shops at Wiregrass! Make this Easter season extra special by booking your Bunny photo experience today. Photos will take place at South Court near Pottery Barn. \nBring the family to visit Bunny and capture a photo you’ll treasure forever. Reserve your spot now and enjoy extra perks: \n\nReceive a free 3- month trial to Crayola Scribble Scrubbie Pets\, a creative app that encourages empathy\, responsibility\, and kindness.\nGet a free Personalized Photo Label on any large Yankee Candle\, plus $10 off your $30 purchase in-store or online.\n\nWorried your plans might change? No problem! You can reschedule your reservation for free up to 48 hours before your visit. \nRESERVE YOUR SPOT HERE \nBUNNY EVENTS\nCheck out our Easter Bunny pet photos and sensory experience dates listed below. Also\, hop into the fun at our KIDZ BOP Bunny Dance Parties! Every hour on the hour\, kids can dance along with Bunny to upbeat KIDZ BOP hits and easy-to-follow moves. \nSpecial Event Schedule \nPet Photos \nMonday\, March 16 | 5:00 PM – 7:00 PM \nMonday\, March 23 | 5:00 PM – 7:00 PM \nMonday\, March 30 | 5:00 PM – 7:00 PM \nSensory-Friendly Session \nSunday\, March 22 | 10:00 AM – 11:30 AM \nEaster Bunny Photo Schedule  \nFriday\, March 13 \n2:00 PM – 7:00 PM \nSaturday\, March 14 \n11:00 AM – 7:00 PM \nSunday\, March 15 \n12:00 PM – 6:00 PM \nMonday\, March 16 – Thursday\, March 19 \n2:00 PM – 7:00 PM \nFriday\, March 20 \n2:00 PM – 7:00 PM \nSaturday\, March 21 \n11:00 AM – 7:00 PM \nSunday\, March 22 \n12:00 PM – 6:00 PM \nMonday\, March 23 – Thursday\, March 26 \n2:00 PM – 7:00 PM \nFriday\, March 27 – Saturday\, March 28 \n11:00 AM – 7:00 PM \nSunday\, March 29 \n12:00 PM – 6:00 PM \nMonday\, March 30 – Saturday\, April 4 \n11:00 AM – 7:00 PM
URL:https://whatsnewpasco.com/event/easter-bunny-photos-wiregrass-2/2026-03-15/
LOCATION:The Shops at Wiregrass\, 28211 Paseo Drive\, Wesley Chapel\, FL\, 33543\, United States
CATEGORIES:Family Fun
ATTACH;FMTTYPE=image/webp:https://whatsnewpasco.com/wp-content/uploads/2026/03/Wendell-Banner-3-scaled.webp
END:VEVENT
BEGIN:VEVENT
DTSTART;TZID=America/New_York:20260316T090000
DTEND;TZID=America/New_York:20260316T170000
DTSTAMP:20260422T181451
CREATED:20260318T223950Z
LAST-MODIFIED:20260318T223950Z
UID:10000375-1773651600-1773680400@whatsnewpasco.com
SUMMARY:Empowered GutWise Collective
DESCRIPTION:Virtual gut-health program kickoff focused on food\, hormones\, and whole-body healing; listing describes a 6-week program beginning March 16.
URL:https://whatsnewpasco.com/event/empowered-gutwise-collective-2/
LOCATION:Virtual\, United States
CATEGORIES:Classes & Courses
END:VEVENT
BEGIN:VEVENT
DTSTART;TZID=America/New_York:20260316T090000
DTEND;TZID=America/New_York:20260316T170000
DTSTAMP:20260422T181451
CREATED:20260318T223950Z
LAST-MODIFIED:20260318T223950Z
UID:10000376-1773651600-1773680400@whatsnewpasco.com
SUMMARY:Farmers Market at Academy at the Farm
DESCRIPTION:Farm stand / farmers market at Academy at the Farm offering produce\, eggs\, honey\, snacks\, and plants.
URL:https://whatsnewpasco.com/event/farmers-market-at-academy-at-the-farm-2/
LOCATION:9500 Alex Lange Way\, Dade City\, FL\, United States
CATEGORIES:Festivals & Markets,Food & Drinks
END:VEVENT
BEGIN:VEVENT
DTSTART;TZID=America/New_York:20260316T090000
DTEND;TZID=America/New_York:20260316T170000
DTSTAMP:20260422T181451
CREATED:20260318T223950Z
LAST-MODIFIED:20260318T223950Z
UID:10000378-1773651600-1773680400@whatsnewpasco.com
SUMMARY:KJ Coachlines Trip to Swap O Rama
DESCRIPTION:Round-trip coach trip from downtown Zephyrhills to Swap-O-Rama / Webster flea-market shopping.
URL:https://whatsnewpasco.com/event/kj-coachlines-trip-to-swap-o-rama-2/
LOCATION:Street parking pickup\, 38544 5th Ave.\, Zephyrhills\, United States
CATEGORIES:Festivals & Markets
END:VEVENT
BEGIN:VEVENT
DTSTART;TZID=America/New_York:20260316T090000
DTEND;TZID=America/New_York:20260316T170000
DTSTAMP:20260422T181451
CREATED:20260318T223950Z
LAST-MODIFIED:20260318T223950Z
UID:10000379-1773651600-1773680400@whatsnewpasco.com
SUMMARY:Make Your Meal Matter - Betmar Community
DESCRIPTION:Community dine-out fundraiser at Culver’s Zephyrhills with prize drawings supporting the Betmar community.
URL:https://whatsnewpasco.com/event/make-your-meal-matter-betmar-community-2/
LOCATION:Culver’s Zephyrhills\, 6386 Gall Blvd.\, Zephyrhills\, United States
CATEGORIES:Food & Drinks,Giving Back
END:VEVENT
BEGIN:VEVENT
DTSTART;TZID=America/New_York:20260316T090000
DTEND;TZID=America/New_York:20260316T170000
DTSTAMP:20260422T181451
CREATED:20260318T223950Z
LAST-MODIFIED:20260318T223950Z
UID:10000380-1773651600-1773680400@whatsnewpasco.com
SUMMARY:Neighbors Supporting Neighbors Fundraiser - Scouting USA Troop 33
DESCRIPTION:Community fundraiser meal event supporting Scouting USA Troop 33\, with a portion of sales and gift-card purchases benefiting troop camps and adventures.
URL:https://whatsnewpasco.com/event/neighbors-supporting-neighbors-fundraiser-scouting-usa-troop-33-2/
LOCATION:Culver’s of Zephyrhills\, 6386 Gall Blvd.\, Zephyrhills\, United States
CATEGORIES:Food & Drinks,Giving Back
END:VEVENT
END:VCALENDAR