BEGIN:VCALENDAR
VERSION:2.0
PRODID:-//What&#039;s New Pasco - ECPv6.15.20//NONSGML v1.0//EN
CALSCALE:GREGORIAN
METHOD:PUBLISH
X-ORIGINAL-URL:https://whatsnewpasco.com
X-WR-CALDESC:Events for What&#039;s New Pasco
REFRESH-INTERVAL;VALUE=DURATION:PT1H
X-Robots-Tag:noindex
X-PUBLISHED-TTL:PT1H
BEGIN:VTIMEZONE
TZID:America/New_York
BEGIN:DAYLIGHT
TZOFFSETFROM:-0500
TZOFFSETTO:-0400
TZNAME:EDT
DTSTART:20250309T070000
END:DAYLIGHT
BEGIN:STANDARD
TZOFFSETFROM:-0400
TZOFFSETTO:-0500
TZNAME:EST
DTSTART:20251102T060000
END:STANDARD
BEGIN:DAYLIGHT
TZOFFSETFROM:-0500
TZOFFSETTO:-0400
TZNAME:EDT
DTSTART:20260308T070000
END:DAYLIGHT
BEGIN:STANDARD
TZOFFSETFROM:-0400
TZOFFSETTO:-0500
TZNAME:EST
DTSTART:20261101T060000
END:STANDARD
BEGIN:DAYLIGHT
TZOFFSETFROM:-0500
TZOFFSETTO:-0400
TZNAME:EDT
DTSTART:20270314T070000
END:DAYLIGHT
BEGIN:STANDARD
TZOFFSETFROM:-0400
TZOFFSETTO:-0500
TZNAME:EST
DTSTART:20271107T060000
END:STANDARD
END:VTIMEZONE
BEGIN:VEVENT
DTSTART;TZID=America/New_York:20260408T120000
DTEND;TZID=America/New_York:20260408T150000
DTSTAMP:20260423T063510
CREATED:20260409T002008Z
LAST-MODIFIED:20260409T002008Z
UID:10003791-1775649600-1775660400@whatsnewpasco.com
SUMMARY:Annual Autism Awareness Event
DESCRIPTION:Join us for our Annual Autism Awareness Event\, a family-friendly community event dedicated to honoring Autism Awareness month! This special event brings together community partners and families for a fun and welcoming day filled with: \n•  Family-friendly activities & kid-focused fun•  Local vendors• Yummy treats•  Giveaways\, raffles & surprises•  A positive\, inclusive environment for all \nVendor slots are still available for just $100! If you’re interested in becoming a vendor\, email us at marketing@rjkielty.com to secure your spot. \nJoin us in raising awareness for Autism and supporting Kiddy Up Ranch’s mission to assist individuals with autism and physical disabilities. \nDate: April 11thTime: Noon – 3 PMLocation: Kiddy Up Ranch – 15232 Matis Rd\, Hudson\, FL 34669 \nDon’t miss out on this special event\, bring the whole family\, and help make a difference!  \n#AutismAwareness #KiddyUpRanch #RJKielty #AutismAwarenessMonth #FamilyFun#CommunitySupport
URL:https://whatsnewpasco.com/event/annual-autism-awareness-event/
LOCATION:Kiddy Up Ranch\, 15232 Matis Rd\, Hudson\, FL\, 34669-1023\, United States
CATEGORIES:Family Fun,Festivals & Markets,Free,Giving Back
ATTACH;FMTTYPE=image/jpeg:https://whatsnewpasco.com/wp-content/uploads/2026/04/657335027_1547444717382267_6526335362154170496_n.jpg
END:VEVENT
END:VCALENDAR