BEGIN:VCALENDAR
VERSION:2.0
PRODID:-//What&#039;s New Pasco - ECPv6.15.20//NONSGML v1.0//EN
CALSCALE:GREGORIAN
METHOD:PUBLISH
X-WR-CALNAME:What&#039;s New Pasco
X-ORIGINAL-URL:https://whatsnewpasco.com
X-WR-CALDESC:Events for What&#039;s New Pasco
REFRESH-INTERVAL;VALUE=DURATION:PT1H
X-Robots-Tag:noindex
X-PUBLISHED-TTL:PT1H
BEGIN:VTIMEZONE
TZID:America/New_York
BEGIN:DAYLIGHT
TZOFFSETFROM:-0500
TZOFFSETTO:-0400
TZNAME:EDT
DTSTART:20250309T070000
END:DAYLIGHT
BEGIN:STANDARD
TZOFFSETFROM:-0400
TZOFFSETTO:-0500
TZNAME:EST
DTSTART:20251102T060000
END:STANDARD
BEGIN:DAYLIGHT
TZOFFSETFROM:-0500
TZOFFSETTO:-0400
TZNAME:EDT
DTSTART:20260308T070000
END:DAYLIGHT
BEGIN:STANDARD
TZOFFSETFROM:-0400
TZOFFSETTO:-0500
TZNAME:EST
DTSTART:20261101T060000
END:STANDARD
BEGIN:DAYLIGHT
TZOFFSETFROM:-0500
TZOFFSETTO:-0400
TZNAME:EDT
DTSTART:20270314T070000
END:DAYLIGHT
BEGIN:STANDARD
TZOFFSETFROM:-0400
TZOFFSETTO:-0500
TZNAME:EST
DTSTART:20271107T060000
END:STANDARD
END:VTIMEZONE
BEGIN:VEVENT
DTSTART;VALUE=DATE:20260403
DTEND;VALUE=DATE:20260406
DTSTAMP:20260421T215153
CREATED:20260329T154301Z
LAST-MODIFIED:20260329T154301Z
UID:10002625-1775174400-1775433599@whatsnewpasco.com
SUMMARY:Sunshine State Showdown
DESCRIPTION:The Sunshine State Showdown is back April 3-5\, bringing elite grassroots hoops and serious competition to the Wiregrass Ranch Sports Campus in Wesley Chapel 🏀🔥 Year 11 is shaping up to be packed with talent\, energy\, and can’t‑miss matchups all weekend long. \nIf you’re ready to cheer on your team- or want to catch some of the best games of the travel season\, add this one to your calendar!
URL:https://whatsnewpasco.com/event/sunshine-state-showdown-2/
LOCATION:Wiregrass Ranch Sports Complex\, 3021 Sports Coast Way\, Wesley Chapel\, 33543\, United States
CATEGORIES:Get Active
ATTACH;FMTTYPE=image/png:https://whatsnewpasco.com/wp-content/uploads/2026/03/SUNSHINE-STATE-SHOWCASE_LOGO-1-2048x1970-1.png
END:VEVENT
BEGIN:VEVENT
DTSTART;TZID=America/New_York:20260331T180000
DTEND;TZID=America/New_York:20260331T190000
DTSTAMP:20260421T215153
CREATED:20260326T041617Z
LAST-MODIFIED:20260328T141814Z
UID:10002057-1774980000-1774983600@whatsnewpasco.com
SUMMARY:Burn Boot Camp Land O’ Lakes — Free Pop-Up Camp (Bexley Community Clubhouse)
DESCRIPTION:Free Burn Boot Camp pop-up workout camp (pre-opening). Tue March 31\, 2026 at 6:00 PM. Registration/waiver required per organizer. Bring water\, gym shoes\, a friend\, and energy.
URL:https://whatsnewpasco.com/event/burn-boot-camp-land-o-lakes-free-pop-up-camp-bexley-commun/
LOCATION:Bexley Community Clubhouse\, 16950 Vibrant Way\, Land\, O’\, United States
CATEGORIES:Free,Get Active
ATTACH;FMTTYPE=image/jpeg:https://whatsnewpasco.com/wp-content/uploads/2026/03/585098326_122105648475114862_5344935265271065423_n.jpg
END:VEVENT
BEGIN:VEVENT
DTSTART;TZID=America/New_York:20260329T100000
DTEND;TZID=America/New_York:20260329T110000
DTSTAMP:20260421T215153
CREATED:20260326T042051Z
LAST-MODIFIED:20260326T042106Z
UID:10002055-1774778400-1774782000@whatsnewpasco.com
SUMMARY:Goat Yoga Tampa lakeside @ In the Loop Brewing
DESCRIPTION:Goat Yoga Tampa lakeside @ In the Loop Brewing – goats\, yoga and beer! 3/29/26 @ 10:00 am \n\n\n\n\nYoga with goats = the perfect zen happiness! Join us for a morning goat yoga session\, taught by one of our certified yoga instructors. Goats will jump around\, interact & play with yogis during the class. Prepare for an hour of smiles & pure joy! Get your cameras ready for some great goat selfies! Not a seasoned yogi? No problem! Our classes are designed for all skill levels\, even newbies. Let’s be honest\, most come for the goat love!!! \nWhat’s better than yoga with goats? Obviously goat yoga followed by a beer! In the Loop has phenomenal drinks; stay after class and enjoy your favorite beverage\, lakeside! \nPLEASE READ ***Goats will jump and can nibble – be aware you will be in close contact with goats during the yoga session – this yoga class is not recommended for anyone with health conditions that could be bothered by close interaction with goats/animals. Also not recommended for young children as goats can and will jump. Not recommended for those that do not like interacting with animals. You will be interacting closely with animals during this class. Goats are NOT potty trained.*** \nALL OF OUR GOATS ARE ADULT GOATS – for more information on why we insist on SUSTAINABLE goat yoga practices\, please click here** \n***Please fill out our online waiver in advance to speed up our check-in process. \nTo book your ticket directly through us with no fees\, e-mail goatyogatampa@gmail.com or text 727-744-9894. \nFAQs \nIs there a minimum age requirement to enter the event? \n* Children must be at least 10 years of age to participate and anyone under 16 must be accompanied by an adult. \nWhat should I bring into the event? \n*Bring your own yoga mat or a large towel is fine. Please be aware\, yoga mat could get dirty. Please bring your own bug spray\, a sweat towel and bottled water to stay hydrated. \nIn the Loop and Goat Yoga Tampa swag (tanks\, hats\, etc.) will be available for purchase. If you think you might want any of these fun items\, please bring cash. \nHow long is the class? \n*We do appx 45 minutes of yoga (for all levels) followed by 15 minutes of goat photos\, goat cuddles\, poses and selfies. You may stay at In the Loop as long as you like and have a few drinks after class .* \nDo the goats do yoga? \n*No\, but that would be cool! The people do the yoga\, the goats are there for the unconditional love and joy. It’s like animal therapy meets a zen yoga stretch meets your favorite beverage\, lakeside. It’s a win-win-win!* \nHow can I contact the organizer with any questions? \nE-mail Kelly at goatyogatampa@gmail.com.
URL:https://whatsnewpasco.com/event/goat-yoga-tampa-lakeside-in-the-loop-brewing-in-land-o-lake/
LOCATION:In The Loop Brewing\, 3338 Land O Lakes Blvd\, Land O Lakes\, FL\, 34639\, United States
CATEGORIES:Get Active
END:VEVENT
BEGIN:VEVENT
DTSTART;TZID=America/New_York:20260328T090000
DTEND;TZID=America/New_York:20260328T100000
DTSTAMP:20260421T215153
CREATED:20260325T202419Z
LAST-MODIFIED:20260325T202419Z
UID:10001927-1774688400-1774692000@whatsnewpasco.com
SUMMARY:Free Mat Club Pilates Class (Wiregrass)
DESCRIPTION:This energizing\, full-body mat class will be led by our incredible Lead Instructor\, Marlana. Whether you’re brand new to Pilates or a seasoned member\, this\nclass is designed for all levels.
URL:https://whatsnewpasco.com/event/free-mat-club-pilates-class-wiregrass-2/
LOCATION:The Shops at Wiregrass\, 28211 Paseo Drive\, Wesley Chapel\, FL\, 33543\, United States
CATEGORIES:Family Fun,Get Active
END:VEVENT
BEGIN:VEVENT
DTSTART;TZID=America/New_York:20260328T083000
DTEND;TZID=America/New_York:20260328T103000
DTSTAMP:20260421T215153
CREATED:20260319T001832Z
LAST-MODIFIED:20260326T041501Z
UID:10000823-1774686600-1774693800@whatsnewpasco.com
SUMMARY:Burn Boot Camp Land O’ Lakes — Free Pop-Up Camp (The Hub at Bexley)
DESCRIPTION:*FREE POP UP CAMPS* for the month of March at @hubatbexley 🤩🤩 We completely filled the lawn last Saturday and we’re going to continue! 👏👏🙌 \nIf you attended the last Pop Up you DO NOT need to fill out another waiver. Just register so we know you’re coming! 🤗 \n👉Download to the Burn Boot Camp app! In it you can book future camps\, sign your waiver and add payment for an exclusive Founding Membership!👈 \nCheck-in starts at 8:30 ‼️ \n**BONUS Show Up to win a $25 GiftCard courtesy of @urbancrunchtampa 💕*
URL:https://whatsnewpasco.com/event/pop-up-camp/2026-03-28/
LOCATION:The Hub at Bexley\, 16954 Focus Lp\, Land O Lakes\, FL\, 34638\, United States
CATEGORIES:Family Fun,Get Active
ATTACH;FMTTYPE=image/jpeg:https://whatsnewpasco.com/wp-content/uploads/2026/03/wp_img_223322011696789543.jpg
END:VEVENT
BEGIN:VEVENT
DTSTART;VALUE=DATE:20260328
DTEND;VALUE=DATE:20260329
DTSTAMP:20260421T215153
CREATED:20260326T020842Z
LAST-MODIFIED:20260328T141743Z
UID:10001922-1774656000-1774742399@whatsnewpasco.com
SUMMARY:Burn Boot Camp Land O’ Lakes — Free Pop-Up Camp (The Hub at Bexley)
DESCRIPTION:Free Burn Boot Camp pop-up workout camp (pre-opening). Sat March 28\, 2026 at 9:00 AM. Registration/waiver required per organizer. Bring water\, gym shoes\, a friend\, and energy.
URL:https://whatsnewpasco.com/event/burn-boot-camp-land-o-lakes-free-pop-up-camp-the-hub-at-be/
LOCATION:The Hub at Bexley\, 16954 Focus Lp\, Land O Lakes\, FL\, 34638\, United States
CATEGORIES:Free,Get Active
ATTACH;FMTTYPE=image/jpeg:https://whatsnewpasco.com/wp-content/uploads/2026/03/585098326_122105648475114862_5344935265271065423_n.jpg
END:VEVENT
BEGIN:VEVENT
DTSTART;TZID=America/New_York:20260326T120000
DTEND;TZID=America/New_York:20260326T183000
DTSTAMP:20260421T215153
CREATED:20260318T202948Z
LAST-MODIFIED:20260319T161934Z
UID:10000335-1774526400-1774549800@whatsnewpasco.com
SUMMARY:Chasco Fiesta Annual Golf Tournament
DESCRIPTION:Chasco Fiesta Golf TournamentMarch 26 | 12:00 PM – 6:30 PM \nThe Annual Chasco Fiesta™ Golf Tournament returns on Thursday\, March 26\, 2026\, at Seven Springs Golf and Country Club in Trinity. A long-standing community tradition\, this event brings together business leaders\, sponsors\, and community supporters for a day of golf\, networking\, and friendly competition in support of Chasco Fiesta™. \nAs part of the 2026 festival theme\, Spirit of America: Celebrating 250 Years of Red\, White\, and YOU\, the tournament kicks off the Chasco Fiesta™ season by bringing our community together in the spirit of connection\, celebration\, and giving back. \nCheck-in begins at 12:00 PM with a 1:00 PM shotgun start. \nPlayers will enjoy a full day on the course featuring contests\, beverages during play\, and a post-tournament dinner and awards. \nAll proceeds support Chasco Fiesta’s mission of enhancing lives through cultural education and the performing arts. \n\nTeam Registration \nStandard Team Registration | $550 (Foursome)Includes four players\, golf cart\, range balls\, beverages during play\, dinner\, and door prizes. \nSuper Ticket Team Registration | $650 (Foursome)Includes everything in Standard Registration plus: \n• Door prize raffle entry• Putting contest entry• Long drive contest entry• Chance to win a vehicle with a hole-in-one \nRegister Your Team:chascofiesta.com/golf
URL:https://whatsnewpasco.com/event/chasco-fiesta-annual-golf-tournament/
LOCATION:Seven Springs Golf and Country Club\, 3535 Trophy Blvd\, Trinity\, FL\, 34655
CATEGORIES:Get Active,Giving Back
ATTACH;FMTTYPE=image/png:https://whatsnewpasco.com/wp-content/uploads/2026/03/chasco_img_1773856033853142317.png
END:VEVENT
BEGIN:VEVENT
DTSTART;TZID=America/New_York:20260322T100000
DTEND;TZID=America/New_York:20260322T110000
DTSTAMP:20260421T215153
CREATED:20260319T042426Z
LAST-MODIFIED:20260320T150600Z
UID:10001029-1774173600-1774177200@whatsnewpasco.com
SUMMARY:Yoga & Sip at Starkey Market
DESCRIPTION:Join us for a relaxing Yoga & Sip experience set against the backdrop of our blackberry field at Starkey Market. \nThis all-levels yoga class is designed to help you slow down\, move your body mindfully\, and enjoy a moment of connection\, followed by a well-earned sip. \nWhat to Expect:\n-1-hour yoga session led by Brandi Pellerito\, RYT 500\n-Accessible movement suitable for all levels\n-Held under the pole barn with beautiful views of the blackberry field\n-Time to linger afterward and connect with community \nAfter Class: \nEnjoy a complimentary mimosa or a cup of coffee and soak in the relaxed Sunday morning vibes. \nDetails: \nSunday\, March 22\, 2026 \n10:00 AM \n$30 per person + taxes and fees Under the pole barn at Starkey Market \nWhat to Bring:\n-Yoga mat\n-Water bottle\n-Anything you need to be comfortable \nSpace is limited\, advance registration is encouraged. \n👉 GET YOUR TICKETS HERE 👈
URL:https://whatsnewpasco.com/event/yoga-sip-2/
LOCATION:Starkey Market\, 3460 Starkey Boulevard\, Trinity\, FL\, 34655\, United States
CATEGORIES:Food & Drinks,Free,Get Active
ATTACH;FMTTYPE=image/jpeg:https://whatsnewpasco.com/wp-content/uploads/2026/03/yoga-and-sip.jpg
END:VEVENT
BEGIN:VEVENT
DTSTART;TZID=America/New_York:20260321T133000
DTEND;TZID=America/New_York:20260321T153000
DTSTAMP:20260421T215153
CREATED:20260319T005056Z
LAST-MODIFIED:20260319T005056Z
UID:10000677-1774099800-1774107000@whatsnewpasco.com
SUMMARY:Hop Into Easter: Family Fun - Brunch with the Bunny
DESCRIPTION:Brunch with Bunny! \nAre you ready to have a great time with the Easter Bunny? Spring in the season and join us for a pancake breakfast and egg hunt. \nPre-registration required. You can stop by Member Services at the Y as well. \n$15 per person\, everyone must be registered. \nFee Covers:\nPicture w/ Bunny\nEaster Crafts + Activities\nEaster Egg Hunt (ages 1-12 only)\nBrunch and MORE! \n***Event sign up closes March 19 at 9:30pm. There will be no day of sign-ups\, so save your family’s spot now!*** \n\nThis is a community event open to the public\, YMCA membership is not required.
URL:https://whatsnewpasco.com/event/hop-into-easter-family-fun-brunch-with-the-bunny/
LOCATION:1300 Mariner Blvd\, Spring Hill\, FL\, United States
CATEGORIES:Family Fun,Festivals & Markets,Food & Drinks,Get Active
ATTACH;FMTTYPE=image/jpeg:https://whatsnewpasco.com/wp-content/uploads/2026/03/wp_img_5288855252208893206.jpg
END:VEVENT
BEGIN:VEVENT
DTSTART;TZID=America/New_York:20260321T083000
DTEND;TZID=America/New_York:20260321T103000
DTSTAMP:20260421T215153
CREATED:20260319T001832Z
LAST-MODIFIED:20260326T041501Z
UID:10000679-1774081800-1774089000@whatsnewpasco.com
SUMMARY:Burn Boot Camp Land O’ Lakes — Free Pop-Up Camp (The Hub at Bexley)
DESCRIPTION:*FREE POP UP CAMPS* for the month of March at @hubatbexley 🤩🤩 We completely filled the lawn last Saturday and we’re going to continue! 👏👏🙌 \nIf you attended the last Pop Up you DO NOT need to fill out another waiver. Just register so we know you’re coming! 🤗 \n👉Download to the Burn Boot Camp app! In it you can book future camps\, sign your waiver and add payment for an exclusive Founding Membership!👈 \nCheck-in starts at 8:30 ‼️ \n**BONUS Show Up to win a $25 GiftCard courtesy of @urbancrunchtampa 💕*
URL:https://whatsnewpasco.com/event/pop-up-camp/2026-03-21/
LOCATION:The Hub at Bexley\, 16954 Focus Lp\, Land O Lakes\, FL\, 34638\, United States
CATEGORIES:Family Fun,Get Active
ATTACH;FMTTYPE=image/jpeg:https://whatsnewpasco.com/wp-content/uploads/2026/03/wp_img_223322011696789543.jpg
END:VEVENT
BEGIN:VEVENT
DTSTART;TZID=America/New_York:20260321T080000
DTEND;TZID=America/New_York:20260321T133000
DTSTAMP:20260421T215153
CREATED:20260318T235231Z
LAST-MODIFIED:20260318T235231Z
UID:10000685-1774080000-1774099800@whatsnewpasco.com
SUMMARY:Starkey Ranch District Park Recreational Youth Basketball League — Evaluation Day
DESCRIPTION:Sign-ups for Starkey Recreational Youth Basketball open on February 16th at 8:00am! 🏀 \nThis season will look a little bit different than last year. Due to maintenance that took place in the Gymnasium\, School events in April\, and the timing of Spring Break we have had to push the season back\, so it will start a little later than last year. We have adjusted based not only on the start date\, but also things that we noticed from last year that could be improved. Please see below for important details before you decide to sign up for the upcoming season: \nAge is based on your child’s age as of April 25th (The first game of the season)\n*Please add your child to your Rec account (https://flpascocountyweb.myvscloud.com/webtrac/web/) prior to signing up\, to ensure you sign them up under their name and DOB\, and not your own. Please note whether jersey size is adult or youth when sign-ups open (ex. YL\, AL). \n\nDetails About the League:\n• This Spring Season will consist of 6 games (No Playoffs)\n• There will be four teams in each division\, and each team will play each other twice.\n• Games will be inside the Starkey K-8 Gymnasium on Saturdays. Game times will vary by the week but will always be one of these two-time frames:\n• 8-10 Division – 10:30am or 11:30am\n• 11-13 Division – 12:30pm or 1:30pm\n• Practices will be held on the outside courts behind Starkey K-8 and will either be on a Tuesday or Thursday (Day will be determined by the coach)\n• *Pasco County Parks and Recreation only have access for those two days*\nImportant Dates:\n• Evaluation: March 21st (10:30am for 8-10 division and 12:00pm for 11-13 division). This evaluation will consist of very simple drills for coaches to draft teams and make league as fair as possible. Coaches will then contact parents.\n• We cannot take practice day requests or coach requests from parents. Your child will be drafted based off their evaluation and practice time will be determined by coach. Only a coach’s child will be automatically assigned to their team.\n• Week of April 6th (Practices begin. Coaches will also have the option to practice inside on Saturday April 18th).\n• Season Begins: Games will be on April 25th\, May 2nd\, May 9th\, May 23rd\, May 30th\, and June 6th. Bye Week on May 16th.\nMore Information:\n• Coaches are needed\, if you are interested in coaching\, please contact Heritage Park at (813)929-1229.\n• **This is a recreational development league. Please keep this in mind when signing up your child. This league is intended to develop knowledge and skills of basketball. If you are looking for a more advanced league\, please consider AAU\, or more competitive recreational leagues. **\n• Please make sure your email is correct on your account as we will communicate via email before and during the season.If you have any questions\, you can reach out to either Austin (agleason@pascocountyfl.net)\, Malik (mwilliams@pascocountyfl.net)\, or Kim (knicely@pascocountyfl.net).\nOr give our office a call at (813)929-1229.
URL:https://whatsnewpasco.com/event/starkey-ranch-district-park-recreational-youth-basketball-league-evaluation-da/
LOCATION:Starkey Ranch K-8 Gymnasium\, Land O' Lakes\, FL\, United States
CATEGORIES:Family Fun,Free,Get Active
ATTACH;FMTTYPE=image/jpeg:https://whatsnewpasco.com/wp-content/uploads/2026/03/487123130_1079307800901042_5837904940881245760_n.jpg
END:VEVENT
BEGIN:VEVENT
DTSTART;TZID=America/New_York:20260321T080000
DTEND;TZID=America/New_York:20260321T130000
DTSTAMP:20260421T215153
CREATED:20260319T021411Z
LAST-MODIFIED:20260319T021411Z
UID:10000666-1774080000-1774098000@whatsnewpasco.com
SUMMARY:23rd Annual Marine Corps League Golf Tournament
DESCRIPTION:23rd Annual Marine Corps League golf tournament at Southport Springs
URL:https://whatsnewpasco.com/event/23rd-annual-marine-corps-league-golf-tournament-2/
LOCATION:Southport Springs\, 3737 Southport Springs Pkwy\, Zephyrhills\, FL\, United States
CATEGORIES:Get Active,Giving Back
ATTACH;FMTTYPE=image/jpeg:https://whatsnewpasco.com/wp-content/uploads/2026/03/USMC-League-Golf-Tournament.jpg
END:VEVENT
BEGIN:VEVENT
DTSTART;TZID=America/New_York:20260314T090000
DTEND;TZID=America/New_York:20260314T170000
DTSTAMP:20260421T215153
CREATED:20260318T224001Z
LAST-MODIFIED:20260318T224001Z
UID:10000368-1773478800-1773507600@whatsnewpasco.com
SUMMARY:Step Class (Flip’n Fry) (KRATE)
DESCRIPTION:Step fitness class event listed on KRATE calendar.
URL:https://whatsnewpasco.com/event/step-class-flipn-fry-krate-2/
LOCATION:KRATE at The Grove\, 5817 Goldview Pkwy\, Wesley Chapel\, FL\, 33544\, United States
CATEGORIES:Get Active
END:VEVENT
BEGIN:VEVENT
DTSTART;TZID=America/New_York:20260314T090000
DTEND;TZID=America/New_York:20260314T170000
DTSTAMP:20260421T215153
CREATED:20260318T223950Z
LAST-MODIFIED:20260318T223950Z
UID:10000369-1773478800-1773507600@whatsnewpasco.com
SUMMARY:Sunrise of Pasco County's 4th Annual Pull for Survivors
DESCRIPTION:Fundraising clay shoot\, dinner\, and auction benefitting survivors through Sunrise of Pasco County.
URL:https://whatsnewpasco.com/event/sunrise-of-pasco-countys-4th-annual-pull-for-survivors-2/
LOCATION:Tampa Bay Sporting Clays\, 10514 Ehren's Cutoff\, Land\, O'\, United States
CATEGORIES:Get Active,Giving Back
END:VEVENT
BEGIN:VEVENT
DTSTART;TZID=America/New_York:20260306T090000
DTEND;TZID=America/New_York:20260308T170000
DTSTAMP:20260421T215153
CREATED:20260318T224013Z
LAST-MODIFIED:20260318T224013Z
UID:10000344-1772787600-1772989200@whatsnewpasco.com
SUMMARY:Day In The Dirt Down South
DESCRIPTION:Multi-day motocross event featuring racing and spectator access at Dade City Raceway.
URL:https://whatsnewpasco.com/event/day-in-the-dirt-down-south-2/
LOCATION:Dade City Raceway\, 36722 State Rd 52\, Dade\, City\, United States
CATEGORIES:Family Fun,Festivals & Markets,Get Active
END:VEVENT
END:VCALENDAR