BEGIN:VCALENDAR
VERSION:2.0
PRODID:-//What&#039;s New Pasco - ECPv6.15.20//NONSGML v1.0//EN
CALSCALE:GREGORIAN
METHOD:PUBLISH
X-WR-CALNAME:What&#039;s New Pasco
X-ORIGINAL-URL:https://whatsnewpasco.com
X-WR-CALDESC:Events for What&#039;s New Pasco
REFRESH-INTERVAL;VALUE=DURATION:PT1H
X-Robots-Tag:noindex
X-PUBLISHED-TTL:PT1H
BEGIN:VTIMEZONE
TZID:America/New_York
BEGIN:DAYLIGHT
TZOFFSETFROM:-0500
TZOFFSETTO:-0400
TZNAME:EDT
DTSTART:20250309T070000
END:DAYLIGHT
BEGIN:STANDARD
TZOFFSETFROM:-0400
TZOFFSETTO:-0500
TZNAME:EST
DTSTART:20251102T060000
END:STANDARD
BEGIN:DAYLIGHT
TZOFFSETFROM:-0500
TZOFFSETTO:-0400
TZNAME:EDT
DTSTART:20260308T070000
END:DAYLIGHT
BEGIN:STANDARD
TZOFFSETFROM:-0400
TZOFFSETTO:-0500
TZNAME:EST
DTSTART:20261101T060000
END:STANDARD
BEGIN:DAYLIGHT
TZOFFSETFROM:-0500
TZOFFSETTO:-0400
TZNAME:EDT
DTSTART:20270314T070000
END:DAYLIGHT
BEGIN:STANDARD
TZOFFSETFROM:-0400
TZOFFSETTO:-0500
TZNAME:EST
DTSTART:20271107T060000
END:STANDARD
END:VTIMEZONE
BEGIN:VEVENT
DTSTART;TZID=America/New_York:20260413T100000
DTEND;TZID=America/New_York:20260413T160000
DTSTAMP:20260423T060838
CREATED:20260402T120219Z
LAST-MODIFIED:20260407T132216Z
UID:10003185-1776074400-1776096000@whatsnewpasco.com
SUMMARY:Sunflower Festival
DESCRIPTION:Get ready for a blooming good time at our Sunflower Festival! Explore acres of beautiful sunflowers with U-pick\, enjoy scenic hayrides\, interact with friendly farm animals and exotic animals\, and listen to live music. Savor delicious treats from food trucks\, shop from local vendors\, and have a blast with the corn box\, jump pad\, and more farmyard activities and attractions . It’s a day packed with fun for the whole family! \nIncluded Activities: \n\nJump Pad\nHay Rides\nPlayground with Slides\nSand Mountain Climb\nPetting Zoo\nBubble Station\nTire Sand Pit\nConcession barn\nFood Trucks\nLive music\n\nAdditional Cost Activities: \n\nGem Mining\nPony Rides\nFeed for petting zoo animals\n\nImportant Information: \n\nPet Policy: Although we love our 4 legged friends\, only service dogs will be permitted on the farm.\nNo outside food or beverages are allowed.\n\nCost: \n🎟️Buy tickets online for easy entry🎟️ \nAdvance online tickets: $12 adults | $9 kids (ages 3–12) \n• Day-of tickets (online or at the gate): $14 adults | $11 kids \n• Kids 2 & under are FREE \nFor faster entry\, we recommend purchasing tickets online. \nParking on the premises is FREE! \nFor groups of 10 or more\, please email us or call us at 772-215-6530 to receive a discounted rate. \nEmail us to schedule your group for weekday fun! \nCrop availability depends on weather and bloom cycles\, and fresh flowers aren’t guaranteed. Don’t worry\, though — there’s still so much more to enjoy at the farm! Please check our Facebook page before your visit for the latest crop and bloom updates. 
URL:https://whatsnewpasco.com/event/sunflower-festival/2026-04-13/
LOCATION:Dade City Farms\, 17143 Lake Iola Rd\, Dade City\, FL\, 33523\, United States
CATEGORIES:Family Fun,Festivals & Markets,Food & Drinks
ATTACH;FMTTYPE=image/jpeg:https://whatsnewpasco.com/wp-content/uploads/2026/04/649265665_935655048981006_2666446007390370019_n.jpg
END:VEVENT
BEGIN:VEVENT
DTSTART;TZID=America/New_York:20260414T100000
DTEND;TZID=America/New_York:20260414T160000
DTSTAMP:20260423T060838
CREATED:20260402T120219Z
LAST-MODIFIED:20260407T132216Z
UID:10003186-1776160800-1776182400@whatsnewpasco.com
SUMMARY:Sunflower Festival
DESCRIPTION:Get ready for a blooming good time at our Sunflower Festival! Explore acres of beautiful sunflowers with U-pick\, enjoy scenic hayrides\, interact with friendly farm animals and exotic animals\, and listen to live music. Savor delicious treats from food trucks\, shop from local vendors\, and have a blast with the corn box\, jump pad\, and more farmyard activities and attractions . It’s a day packed with fun for the whole family! \nIncluded Activities: \n\nJump Pad\nHay Rides\nPlayground with Slides\nSand Mountain Climb\nPetting Zoo\nBubble Station\nTire Sand Pit\nConcession barn\nFood Trucks\nLive music\n\nAdditional Cost Activities: \n\nGem Mining\nPony Rides\nFeed for petting zoo animals\n\nImportant Information: \n\nPet Policy: Although we love our 4 legged friends\, only service dogs will be permitted on the farm.\nNo outside food or beverages are allowed.\n\nCost: \n🎟️Buy tickets online for easy entry🎟️ \nAdvance online tickets: $12 adults | $9 kids (ages 3–12) \n• Day-of tickets (online or at the gate): $14 adults | $11 kids \n• Kids 2 & under are FREE \nFor faster entry\, we recommend purchasing tickets online. \nParking on the premises is FREE! \nFor groups of 10 or more\, please email us or call us at 772-215-6530 to receive a discounted rate. \nEmail us to schedule your group for weekday fun! \nCrop availability depends on weather and bloom cycles\, and fresh flowers aren’t guaranteed. Don’t worry\, though — there’s still so much more to enjoy at the farm! Please check our Facebook page before your visit for the latest crop and bloom updates. 
URL:https://whatsnewpasco.com/event/sunflower-festival/2026-04-14/
LOCATION:Dade City Farms\, 17143 Lake Iola Rd\, Dade City\, FL\, 33523\, United States
CATEGORIES:Family Fun,Festivals & Markets,Food & Drinks
ATTACH;FMTTYPE=image/jpeg:https://whatsnewpasco.com/wp-content/uploads/2026/04/649265665_935655048981006_2666446007390370019_n.jpg
END:VEVENT
BEGIN:VEVENT
DTSTART;TZID=America/New_York:20260415T100000
DTEND;TZID=America/New_York:20260415T160000
DTSTAMP:20260423T060838
CREATED:20260402T120219Z
LAST-MODIFIED:20260407T132216Z
UID:10003187-1776247200-1776268800@whatsnewpasco.com
SUMMARY:Sunflower Festival
DESCRIPTION:Get ready for a blooming good time at our Sunflower Festival! Explore acres of beautiful sunflowers with U-pick\, enjoy scenic hayrides\, interact with friendly farm animals and exotic animals\, and listen to live music. Savor delicious treats from food trucks\, shop from local vendors\, and have a blast with the corn box\, jump pad\, and more farmyard activities and attractions . It’s a day packed with fun for the whole family! \nIncluded Activities: \n\nJump Pad\nHay Rides\nPlayground with Slides\nSand Mountain Climb\nPetting Zoo\nBubble Station\nTire Sand Pit\nConcession barn\nFood Trucks\nLive music\n\nAdditional Cost Activities: \n\nGem Mining\nPony Rides\nFeed for petting zoo animals\n\nImportant Information: \n\nPet Policy: Although we love our 4 legged friends\, only service dogs will be permitted on the farm.\nNo outside food or beverages are allowed.\n\nCost: \n🎟️Buy tickets online for easy entry🎟️ \nAdvance online tickets: $12 adults | $9 kids (ages 3–12) \n• Day-of tickets (online or at the gate): $14 adults | $11 kids \n• Kids 2 & under are FREE \nFor faster entry\, we recommend purchasing tickets online. \nParking on the premises is FREE! \nFor groups of 10 or more\, please email us or call us at 772-215-6530 to receive a discounted rate. \nEmail us to schedule your group for weekday fun! \nCrop availability depends on weather and bloom cycles\, and fresh flowers aren’t guaranteed. Don’t worry\, though — there’s still so much more to enjoy at the farm! Please check our Facebook page before your visit for the latest crop and bloom updates. 
URL:https://whatsnewpasco.com/event/sunflower-festival/2026-04-15/
LOCATION:Dade City Farms\, 17143 Lake Iola Rd\, Dade City\, FL\, 33523\, United States
CATEGORIES:Family Fun,Festivals & Markets,Food & Drinks
ATTACH;FMTTYPE=image/jpeg:https://whatsnewpasco.com/wp-content/uploads/2026/04/649265665_935655048981006_2666446007390370019_n.jpg
END:VEVENT
BEGIN:VEVENT
DTSTART;TZID=America/New_York:20260416T100000
DTEND;TZID=America/New_York:20260416T160000
DTSTAMP:20260423T060838
CREATED:20260402T120219Z
LAST-MODIFIED:20260407T132216Z
UID:10003188-1776333600-1776355200@whatsnewpasco.com
SUMMARY:Sunflower Festival
DESCRIPTION:Get ready for a blooming good time at our Sunflower Festival! Explore acres of beautiful sunflowers with U-pick\, enjoy scenic hayrides\, interact with friendly farm animals and exotic animals\, and listen to live music. Savor delicious treats from food trucks\, shop from local vendors\, and have a blast with the corn box\, jump pad\, and more farmyard activities and attractions . It’s a day packed with fun for the whole family! \nIncluded Activities: \n\nJump Pad\nHay Rides\nPlayground with Slides\nSand Mountain Climb\nPetting Zoo\nBubble Station\nTire Sand Pit\nConcession barn\nFood Trucks\nLive music\n\nAdditional Cost Activities: \n\nGem Mining\nPony Rides\nFeed for petting zoo animals\n\nImportant Information: \n\nPet Policy: Although we love our 4 legged friends\, only service dogs will be permitted on the farm.\nNo outside food or beverages are allowed.\n\nCost: \n🎟️Buy tickets online for easy entry🎟️ \nAdvance online tickets: $12 adults | $9 kids (ages 3–12) \n• Day-of tickets (online or at the gate): $14 adults | $11 kids \n• Kids 2 & under are FREE \nFor faster entry\, we recommend purchasing tickets online. \nParking on the premises is FREE! \nFor groups of 10 or more\, please email us or call us at 772-215-6530 to receive a discounted rate. \nEmail us to schedule your group for weekday fun! \nCrop availability depends on weather and bloom cycles\, and fresh flowers aren’t guaranteed. Don’t worry\, though — there’s still so much more to enjoy at the farm! Please check our Facebook page before your visit for the latest crop and bloom updates. 
URL:https://whatsnewpasco.com/event/sunflower-festival/2026-04-16/
LOCATION:Dade City Farms\, 17143 Lake Iola Rd\, Dade City\, FL\, 33523\, United States
CATEGORIES:Family Fun,Festivals & Markets,Food & Drinks
ATTACH;FMTTYPE=image/jpeg:https://whatsnewpasco.com/wp-content/uploads/2026/04/649265665_935655048981006_2666446007390370019_n.jpg
END:VEVENT
BEGIN:VEVENT
DTSTART;TZID=America/New_York:20260417T100000
DTEND;TZID=America/New_York:20260417T160000
DTSTAMP:20260423T060838
CREATED:20260402T120219Z
LAST-MODIFIED:20260407T132216Z
UID:10003189-1776420000-1776441600@whatsnewpasco.com
SUMMARY:Sunflower Festival
DESCRIPTION:Get ready for a blooming good time at our Sunflower Festival! Explore acres of beautiful sunflowers with U-pick\, enjoy scenic hayrides\, interact with friendly farm animals and exotic animals\, and listen to live music. Savor delicious treats from food trucks\, shop from local vendors\, and have a blast with the corn box\, jump pad\, and more farmyard activities and attractions . It’s a day packed with fun for the whole family! \nIncluded Activities: \n\nJump Pad\nHay Rides\nPlayground with Slides\nSand Mountain Climb\nPetting Zoo\nBubble Station\nTire Sand Pit\nConcession barn\nFood Trucks\nLive music\n\nAdditional Cost Activities: \n\nGem Mining\nPony Rides\nFeed for petting zoo animals\n\nImportant Information: \n\nPet Policy: Although we love our 4 legged friends\, only service dogs will be permitted on the farm.\nNo outside food or beverages are allowed.\n\nCost: \n🎟️Buy tickets online for easy entry🎟️ \nAdvance online tickets: $12 adults | $9 kids (ages 3–12) \n• Day-of tickets (online or at the gate): $14 adults | $11 kids \n• Kids 2 & under are FREE \nFor faster entry\, we recommend purchasing tickets online. \nParking on the premises is FREE! \nFor groups of 10 or more\, please email us or call us at 772-215-6530 to receive a discounted rate. \nEmail us to schedule your group for weekday fun! \nCrop availability depends on weather and bloom cycles\, and fresh flowers aren’t guaranteed. Don’t worry\, though — there’s still so much more to enjoy at the farm! Please check our Facebook page before your visit for the latest crop and bloom updates. 
URL:https://whatsnewpasco.com/event/sunflower-festival/2026-04-17/
LOCATION:Dade City Farms\, 17143 Lake Iola Rd\, Dade City\, FL\, 33523\, United States
CATEGORIES:Family Fun,Festivals & Markets,Food & Drinks
ATTACH;FMTTYPE=image/jpeg:https://whatsnewpasco.com/wp-content/uploads/2026/04/649265665_935655048981006_2666446007390370019_n.jpg
END:VEVENT
BEGIN:VEVENT
DTSTART;TZID=America/New_York:20260418T100000
DTEND;TZID=America/New_York:20260418T160000
DTSTAMP:20260423T060838
CREATED:20260402T120219Z
LAST-MODIFIED:20260407T132216Z
UID:10003190-1776506400-1776528000@whatsnewpasco.com
SUMMARY:Sunflower Festival
DESCRIPTION:Get ready for a blooming good time at our Sunflower Festival! Explore acres of beautiful sunflowers with U-pick\, enjoy scenic hayrides\, interact with friendly farm animals and exotic animals\, and listen to live music. Savor delicious treats from food trucks\, shop from local vendors\, and have a blast with the corn box\, jump pad\, and more farmyard activities and attractions . It’s a day packed with fun for the whole family! \nIncluded Activities: \n\nJump Pad\nHay Rides\nPlayground with Slides\nSand Mountain Climb\nPetting Zoo\nBubble Station\nTire Sand Pit\nConcession barn\nFood Trucks\nLive music\n\nAdditional Cost Activities: \n\nGem Mining\nPony Rides\nFeed for petting zoo animals\n\nImportant Information: \n\nPet Policy: Although we love our 4 legged friends\, only service dogs will be permitted on the farm.\nNo outside food or beverages are allowed.\n\nCost: \n🎟️Buy tickets online for easy entry🎟️ \nAdvance online tickets: $12 adults | $9 kids (ages 3–12) \n• Day-of tickets (online or at the gate): $14 adults | $11 kids \n• Kids 2 & under are FREE \nFor faster entry\, we recommend purchasing tickets online. \nParking on the premises is FREE! \nFor groups of 10 or more\, please email us or call us at 772-215-6530 to receive a discounted rate. \nEmail us to schedule your group for weekday fun! \nCrop availability depends on weather and bloom cycles\, and fresh flowers aren’t guaranteed. Don’t worry\, though — there’s still so much more to enjoy at the farm! Please check our Facebook page before your visit for the latest crop and bloom updates. 
URL:https://whatsnewpasco.com/event/sunflower-festival/2026-04-18/
LOCATION:Dade City Farms\, 17143 Lake Iola Rd\, Dade City\, FL\, 33523\, United States
CATEGORIES:Family Fun,Festivals & Markets,Food & Drinks
ATTACH;FMTTYPE=image/jpeg:https://whatsnewpasco.com/wp-content/uploads/2026/04/649265665_935655048981006_2666446007390370019_n.jpg
END:VEVENT
BEGIN:VEVENT
DTSTART;TZID=America/New_York:20260418T120000
DTEND;TZID=America/New_York:20260418T180000
DTSTAMP:20260423T060838
CREATED:20260416T223549Z
LAST-MODIFIED:20260416T223937Z
UID:10003798-1776513600-1776535200@whatsnewpasco.com
SUMMARY:2nd Annual Land O' Lakes Seafood Festival
DESCRIPTION:Date: April 18th\, 2026 (NEW DATE) Location: Land O’ Lakes Heritage Park – 5401 Land O Lakes Blvd – Land O Lakes\, FL 34639 Entry: $10 Pre-Order Tickets ONLY ON EVENTRBITE. Kids get in free!Get ready\, seafood lovers! The 2nd Annual Land O’ Lakes Seafood Festival is making waves\, bringing you the freshest seafood\, live music\, rum samples\, and a day filled with community fun—all while supporting local charities!Enjoy performances from 3 incredible bands as you soak in the festival vibes! \nBand Schedule12:00 PM – Ambito Band2:15 PM – Bickley X.I.4:30 PM – The American Stones \nPRE-ORDER TICKETS ARE $5 OFF ONLY ON EVENTBRITE FOR A LIMITED TIME.https://www.eventbrite.com/…/2nd-annual-land-o-lakes… \n Seafood Galore!Indulge in a mouthwatering selection of fresh seafood from a dozen top vendors\, featuring shrimp\, lobster\, crab\, fresh oysters\, conch fritters\, fish & chips\, and more delicious coastal flavors! \n Community Fun for All AgesShop from local artisans\, enjoy refreshing drinks\, and connect with the community—all while giving back to great causes. \n Family-Friendly Fun!Free Kids Zone Inflatables sponsored by community partners. \n Giving BackA portion of Adult beverage proceeds will support local charity\, making your festival experience even more meaningful! \n Don’t miss out on this exciting new tradition! Tag your seafood-loving friends and mark your calendars for a weekend of great eats\, great music\, and great company! \nVendors & Sponsors interested in getting involved can call Florida Penguin Productions directly at 727-674-1464 or email Kevin@floridapenguinproductions.com for all the details. \nOfficial vendor application – https://lp.constantcontactpages.com/ev/reg/ynquf2u
URL:https://whatsnewpasco.com/event/2nd-annual-land-o-lakes-seafood-festival-2/
LOCATION:Heritage Park (Land O’ Lakes Community Center)\, 5401 Land O' lakes Blvd (Hwy 41)\, Land O' Lakes\, FL\, 34639\, United States
CATEGORIES:Family Fun,Festivals & Markets,Food & Drinks,Free
ATTACH;FMTTYPE=image/webp:https://whatsnewpasco.com/wp-content/uploads/2026/04/image-8-scaled-e1776378835300.webp
END:VEVENT
BEGIN:VEVENT
DTSTART;TZID=America/New_York:20260419T100000
DTEND;TZID=America/New_York:20260419T160000
DTSTAMP:20260423T060838
CREATED:20260402T120219Z
LAST-MODIFIED:20260407T132216Z
UID:10003191-1776592800-1776614400@whatsnewpasco.com
SUMMARY:Sunflower Festival
DESCRIPTION:Get ready for a blooming good time at our Sunflower Festival! Explore acres of beautiful sunflowers with U-pick\, enjoy scenic hayrides\, interact with friendly farm animals and exotic animals\, and listen to live music. Savor delicious treats from food trucks\, shop from local vendors\, and have a blast with the corn box\, jump pad\, and more farmyard activities and attractions . It’s a day packed with fun for the whole family! \nIncluded Activities: \n\nJump Pad\nHay Rides\nPlayground with Slides\nSand Mountain Climb\nPetting Zoo\nBubble Station\nTire Sand Pit\nConcession barn\nFood Trucks\nLive music\n\nAdditional Cost Activities: \n\nGem Mining\nPony Rides\nFeed for petting zoo animals\n\nImportant Information: \n\nPet Policy: Although we love our 4 legged friends\, only service dogs will be permitted on the farm.\nNo outside food or beverages are allowed.\n\nCost: \n🎟️Buy tickets online for easy entry🎟️ \nAdvance online tickets: $12 adults | $9 kids (ages 3–12) \n• Day-of tickets (online or at the gate): $14 adults | $11 kids \n• Kids 2 & under are FREE \nFor faster entry\, we recommend purchasing tickets online. \nParking on the premises is FREE! \nFor groups of 10 or more\, please email us or call us at 772-215-6530 to receive a discounted rate. \nEmail us to schedule your group for weekday fun! \nCrop availability depends on weather and bloom cycles\, and fresh flowers aren’t guaranteed. Don’t worry\, though — there’s still so much more to enjoy at the farm! Please check our Facebook page before your visit for the latest crop and bloom updates. 
URL:https://whatsnewpasco.com/event/sunflower-festival/2026-04-19/
LOCATION:Dade City Farms\, 17143 Lake Iola Rd\, Dade City\, FL\, 33523\, United States
CATEGORIES:Family Fun,Festivals & Markets,Food & Drinks
ATTACH;FMTTYPE=image/jpeg:https://whatsnewpasco.com/wp-content/uploads/2026/04/649265665_935655048981006_2666446007390370019_n.jpg
END:VEVENT
END:VCALENDAR