BEGIN:VCALENDAR
VERSION:2.0
PRODID:-//What&#039;s New Pasco - ECPv6.15.20//NONSGML v1.0//EN
CALSCALE:GREGORIAN
METHOD:PUBLISH
X-ORIGINAL-URL:https://whatsnewpasco.com
X-WR-CALDESC:Events for What&#039;s New Pasco
REFRESH-INTERVAL;VALUE=DURATION:PT1H
X-Robots-Tag:noindex
X-PUBLISHED-TTL:PT1H
BEGIN:VTIMEZONE
TZID:America/New_York
BEGIN:DAYLIGHT
TZOFFSETFROM:-0500
TZOFFSETTO:-0400
TZNAME:EDT
DTSTART:20250309T070000
END:DAYLIGHT
BEGIN:STANDARD
TZOFFSETFROM:-0400
TZOFFSETTO:-0500
TZNAME:EST
DTSTART:20251102T060000
END:STANDARD
BEGIN:DAYLIGHT
TZOFFSETFROM:-0500
TZOFFSETTO:-0400
TZNAME:EDT
DTSTART:20260308T070000
END:DAYLIGHT
BEGIN:STANDARD
TZOFFSETFROM:-0400
TZOFFSETTO:-0500
TZNAME:EST
DTSTART:20261101T060000
END:STANDARD
BEGIN:DAYLIGHT
TZOFFSETFROM:-0500
TZOFFSETTO:-0400
TZNAME:EDT
DTSTART:20270314T070000
END:DAYLIGHT
BEGIN:STANDARD
TZOFFSETFROM:-0400
TZOFFSETTO:-0500
TZNAME:EST
DTSTART:20271107T060000
END:STANDARD
END:VTIMEZONE
BEGIN:VEVENT
DTSTART;TZID=America/New_York:20260329T100000
DTEND;TZID=America/New_York:20260329T140000
DTSTAMP:20260422T162641
CREATED:20260326T042512Z
LAST-MODIFIED:20260326T161759Z
UID:10002056-1774778400-1774792800@whatsnewpasco.com
SUMMARY:Lagoonside Market
DESCRIPTION:Join us for the Lagoonside Market\, held at the Mirada Lagoon location on Sunday\, March 29th from 10AM – 2PM. \nMirada is the nation’s largest lagoon on 15 stunningly beautiful acres at 31461 Mirada Blvd\, San Antonio\, FL 33576. This event is FREE to attend. \nThis event will support 30+ local vendors who sell a mixture of the best of what is local in Tampa Bay. Market-goers will discover a curated market with select vendors who sell art of all media\, handcrafts\, clothing\, jewelry\, pet products\, and packaged artisan foods for take-home. Each market event will be uniquely themed and one multi-cultural food vendor will be selected as the featured ready-to-eat food vendor. \n  \n  \nPlease be aware of scammers (and spammers!) on our event pages. Sadly\, they continue to imitate us on the events\, but please know that Tampa Bay Markets will ONLY communicate to you with emails from our team. Unfortunately\, it is not uncommon for events to attract scammers – please make sure that you are working with the actual Event Coordinator when submitting information or payments. \n  \n  \nAt TBM\, we will not start initial communications with you\, as a vendor\, via social media. We work with all of our vendors through our website and a third-party site. Also\, we will never ask you for payments via any money transfer apps nor will we communicate with you via texts or any messenger apps. \nAlso\, there is no fee or tickets associated with attending our events. We have recently (as of September 2024) seen spammers offering to sell tickets for the event\, and this is not required and not accurate information.
URL:https://whatsnewpasco.com/event/lagoonside-market/
LOCATION:Mirada Lagoon\, 31461 Mirada Blvd.\, San Antonio\, FL\, 33576\, United States
CATEGORIES:Festivals & Markets,Food & Drinks,Free
ATTACH;FMTTYPE=image/jpeg:https://whatsnewpasco.com/wp-content/uploads/2026/03/646460113_122181546578756844_9154329964463493719_n.jpg
END:VEVENT
BEGIN:VEVENT
DTSTART;TZID=America/New_York:20260329T100000
DTEND;TZID=America/New_York:20260329T180000
DTSTAMP:20260422T162641
CREATED:20260317T001611Z
LAST-MODIFIED:20260319T051300Z
UID:10000294-1774778400-1774807200@whatsnewpasco.com
SUMMARY:2026 Bay Area Renaissance Festival
DESCRIPTION:Hear ye\, hear ye! The gates of Folkstone swing wide once again! Step back in time to a lively 16th-century village filled with magic\, merriment\, and unforgettable adventure. \nSet in the heart of Dade City\, 2026 Bay Area Renaissance Festival invites you to step into a 16th-century European village with 15 stages of entertainment\, over 100 talented artisans\, and immersive historical experiences. As we celebrate our 48th season\, we welcome families\, history buffs\, and adventure seekers to experience an unforgettable world of fun\, feasts\, and festivities for all ages! \nPeruse the wares of over 100 talented artisans\, feast upon food fit for royalty\, and meet the colorful villagers who bring the realm to life— including live jousting\, magicians\, minstrels\, jugglers\, and more. With 7 themed weekends of fun and festivities\, every visit is a new adventure!
URL:https://whatsnewpasco.com/event/bay-area-renaissance-festival/2026-03-29/
LOCATION:Bay Area Renaissance Festival\, 12838 Auton Rd\, Dade City\, FL\, 33525\, United States
CATEGORIES:Family Fun,Festivals & Markets,Food & Drinks
ATTACH;FMTTYPE=image/jpeg:https://whatsnewpasco.com/wp-content/uploads/2026/03/572164830_1419173973125430_1047329286886224967_n.jpg
END:VEVENT
BEGIN:VEVENT
DTSTART;TZID=America/New_York:20260329T110000
DTEND;TZID=America/New_York:20260329T160000
DTSTAMP:20260422T162641
CREATED:20260326T153603Z
LAST-MODIFIED:20260326T153619Z
UID:10002549-1774782000-1774800000@whatsnewpasco.com
SUMMARY:2nd Annual Island Takeover (Anclote Key)
DESCRIPTION:JET SKIS • BOATS • YACHTS • FLOATS LIVE DJ & IMMACULATE VIBES TUG OF WAR • ISLAND ENERGY FOOD & ICE CREAM GIVEAWAYS & TROPHIES THE ULTIMATE DAY ON THE WATER \nThe 2nd Annual Island Takeover is back and we’re pulling up stronger than ever. This is your official invite to link up on the water for an unforgettable day at one of Florida’s most iconic islands. \nBring your crew. Bring your jet ski. Bring your boat. Bring your yacht — or tag along with someone who has one. However you arrive\, just make sure you’re part of it! \nWHAT TO EXPECT: Friendly Group Game with Awards LIVE DJ keeping the energy all day Awesome giveaways from our amazing sponsors ( SandShark Anchor\, Village Powersports\, Strapinno\, Rider Coolers\, PWC Wake Strap\, Strong Arm Strap ) Florida’s very own Jambalaya King Mouth watering tacos by Donnelly’s Dockside Anclote Islands famous Two Guys Ice Cream Memories that will last forever \nEVERYTHING HAPPENS AT: Food: 11AM – 4PM Tug of War: 12PM Giveaways: 2PM \n BONUS EXPERIENCES  Anclote Lighthouse may be Open for Climbing. Climb to the top for just $7 per person and take in unreal panoramic views — a must-do while you’re there. \n Location: Anclote Island – NORTH END Time: 11:00 AM \n Boat Ramp Locations:• Robert J. Strickland Ramp (Hudson)• Nick’s Park (Port Richey)• Anclote River Park (Tarpon Springs)• Edgewater Park (Dunedin)• Seminole Boat Ramp (Clearwater) \nLet’s make this one legendary.See you on the water
URL:https://whatsnewpasco.com/event/2nd-annual-island-takeover-anclote-key/
LOCATION:Anclote Key Preserve State Park\, Anclote Key Preserve State Park\, Tarpon Springs\, FL\, 34689\, United States
CATEGORIES:Family Fun,Festivals & Markets,Food & Drinks,Free
ATTACH;FMTTYPE=image/jpeg:https://whatsnewpasco.com/wp-content/uploads/2026/03/2nd-Annual-Island-Takeover-Anclote-Key.jpg
END:VEVENT
BEGIN:VEVENT
DTSTART;TZID=America/New_York:20260329T120000
DTEND;TZID=America/New_York:20260329T180000
DTSTAMP:20260422T162641
CREATED:20260326T154252Z
LAST-MODIFIED:20260326T154333Z
UID:10002550-1774785600-1774807200@whatsnewpasco.com
SUMMARY:Golden Eggs & Engines Extravaganza
DESCRIPTION:We are excited to invite you to Pasco County’s largest indoor Easter egg hunt on March 29th\, 2026! Come celebrate a day of wholesome fun right here at Gulf View Square Mall. \nThe event will feature: \n– Music and dancing in center court performed by the local non-profit\, Million Dollar Divas.– An Easter egg hunt for kids aged 12 and under with thousands of eggs.– A chance to find a “golden egg” from one of our sponsors to win a special prize (limit one golden egg per child).– A 200+ car meet across the entire south parking lot.– Local artisan vendors indoors and food trucks outside. \nWe look forward to seeing you there for a wonderful community celebration! Easter egg hunt will be between 12pm & 2pm
URL:https://whatsnewpasco.com/event/golden-eggs-engines-extravaganza-2/
LOCATION:Gulf View Square Mall\, Port Richey\, FL\, United States
CATEGORIES:Family Fun,Festivals & Markets,Free
ATTACH;FMTTYPE=image/jpeg:https://whatsnewpasco.com/wp-content/uploads/2026/03/Golden-Egg-Hunt-Gulf-View-Square-Mall.jpg
END:VEVENT
END:VCALENDAR