BEGIN:VCALENDAR
VERSION:2.0
PRODID:-//What&#039;s New Pasco - ECPv6.15.20//NONSGML v1.0//EN
CALSCALE:GREGORIAN
METHOD:PUBLISH
X-WR-CALNAME:What&#039;s New Pasco
X-ORIGINAL-URL:https://whatsnewpasco.com
X-WR-CALDESC:Events for What&#039;s New Pasco
REFRESH-INTERVAL;VALUE=DURATION:PT1H
X-Robots-Tag:noindex
X-PUBLISHED-TTL:PT1H
BEGIN:VTIMEZONE
TZID:America/New_York
BEGIN:DAYLIGHT
TZOFFSETFROM:-0500
TZOFFSETTO:-0400
TZNAME:EDT
DTSTART:20250309T070000
END:DAYLIGHT
BEGIN:STANDARD
TZOFFSETFROM:-0400
TZOFFSETTO:-0500
TZNAME:EST
DTSTART:20251102T060000
END:STANDARD
BEGIN:DAYLIGHT
TZOFFSETFROM:-0500
TZOFFSETTO:-0400
TZNAME:EDT
DTSTART:20260308T070000
END:DAYLIGHT
BEGIN:STANDARD
TZOFFSETFROM:-0400
TZOFFSETTO:-0500
TZNAME:EST
DTSTART:20261101T060000
END:STANDARD
BEGIN:DAYLIGHT
TZOFFSETFROM:-0500
TZOFFSETTO:-0400
TZNAME:EDT
DTSTART:20270314T070000
END:DAYLIGHT
BEGIN:STANDARD
TZOFFSETFROM:-0400
TZOFFSETTO:-0500
TZNAME:EST
DTSTART:20271107T060000
END:STANDARD
END:VTIMEZONE
BEGIN:VEVENT
DTSTART;TZID=America/New_York:20260326T140000
DTEND;TZID=America/New_York:20260326T150000
DTSTAMP:20260422T181341
CREATED:20260321T230501Z
LAST-MODIFIED:20260326T173004Z
UID:10001542-1774533600-1774537200@whatsnewpasco.com
SUMMARY:Florida-Friendly Landscaping: Planting for Pollinators
DESCRIPTION:This presentation will provide information on central Florida landscape practices that draw in pollinators! \n\n\n\n\nLandscapes that support our native pollinators are places filled with wonder! They help our environment by providing safe havens for our smallest of wildlife – bees\, butterflies and more! Homeowners\, institutions\, developers – even apartment dwellers with balconies – can experience the reward of knowing that individuals CAN make a difference! Florida’s pollinators have life cycles that span the entire year. By following a few simple guidelines during the changing seasons\, they will become a vital part of your landscape year after year! \nWhat you do in your landscape matters. From the fertilizers you apply to the water you use\, your gardening choices can have an impact on land\, water\, wildlife\, and the overall well-being of Florida’s residents. \nThe Florida-Friendly Landscaping™ (FFL) Program is here to help you learn how to have healthy and beautiful landscapes that protect Florida’s natural resources by following nine science-based principles: \n\nRight Plant\, Right Place\nWater Efficiently\nFertilize Appropriately\nMulch\nAttract Wildlife\nManage Yard Pests Responsibly\nRecycle Yard Waste\nReduce Stormwater Runoff\nProtect the Waterfront\n\nA Florida-Friendly landscape can be designed to look the way you want\, fit the aesthetics of your community\, and suit your lifestyle\, while being environmentally sustainable. Join us to learn how! \nThis lecture is presented by Kate Kaste\, UF/IFAS Extension Pasco County\, FFL Program Manager.
URL:https://whatsnewpasco.com/event/florida-friendly-landscaping-planting-for-pollinators/
LOCATION:New River Library\, 34043 State Road 54\, Wesley Chapel\, FL\, 33543\, United States
CATEGORIES:Classes & Courses
ATTACH;FMTTYPE=image/webp:https://whatsnewpasco.com/wp-content/uploads/2026/03/image.webp
END:VEVENT
BEGIN:VEVENT
DTSTART;TZID=America/New_York:20260327T090000
DTEND;TZID=America/New_York:20260327T130000
DTSTAMP:20260422T181341
CREATED:20260326T045624Z
LAST-MODIFIED:20260326T045624Z
UID:10001914-1774602000-1774616400@whatsnewpasco.com
SUMMARY:Homeschool Drop-Off: Herp Heroes | Withlacoochee River Park
DESCRIPTION:Herp Heroes!  \nAnswer the call of wild Florida and immerse yourself in the exploration of Florida’s native herp heroes! In this drop-off homeschool class\, students will work together to discover the secret identities of our native reptiles and amphibians. We will trek through wetlands\, learn the differences between animal classes\, and identify what makes Florida’s herp heroes so magnificent! \nDate: Friday\, March 27th\, 2026\nLocation: Withlacoochee River Park (Pavilion #2)\nTime: 9:00am – 1:00pm\nAges: 7-12 years old\nCost: $20.00 per child \nPlease send your child with lunch\, snacks\, water\, and close-toed shoes. It is recommended that they be sent with bug spray\, and sunscreen. \nDrop-off will be from 8:45am-9:00am and pick-up will be from 12:45pm-1:00pm. \nAll participants must register.\nProgram subject to changes and cancellation. Notice will be sent out in the event of cancellation. \nPlease contact OutdoorAdventures@MyPasco.net with any questions.
URL:https://whatsnewpasco.com/event/homeschool-drop-off-herp-heroes-withlacoochee-river-park/
LOCATION:Withlacoochee River Park\, 12449 Withlacoochee Blvd.\, Dade City\, FL\, 33525\, United States
CATEGORIES:Classes & Courses,Family Fun
END:VEVENT
BEGIN:VEVENT
DTSTART;TZID=America/New_York:20260327T190000
DTEND;TZID=America/New_York:20260327T210000
DTSTAMP:20260422T181341
CREATED:20260326T045811Z
LAST-MODIFIED:20260326T045851Z
UID:10001915-1774638000-1774645200@whatsnewpasco.com
SUMMARY:Line Dance Lessons Land O Lakes Heritage Rec Center
DESCRIPTION:Join us for our monthly class at Heritage Rec in Land O Lakes from 7pm-8:45pm Please invite all your friends to join! $5 per person
URL:https://whatsnewpasco.com/event/line-dance-lessons-land-o-lakes-heritage-rec/
LOCATION:Heritage Park (Land O’ Lakes Community Center)\, 5401 Land O' lakes Blvd (Hwy 41)\, Land O' Lakes\, FL\, 34639\, United States
CATEGORIES:Classes & Courses
END:VEVENT
BEGIN:VEVENT
DTSTART;TZID=America/New_York:20260330T083000
DTEND;TZID=America/New_York:20260330T163000
DTSTAMP:20260422T181341
CREATED:20260317T060633Z
LAST-MODIFIED:20260317T130909Z
UID:10000295-1774859400-1774888200@whatsnewpasco.com
SUMMARY:Green Industries Best Lawn Care Practices
DESCRIPTION:Green Industries Best Management Practices (GI-BMPs) is an educational program for people working in lawn-care and landscape maintenance.\n\n\nFlorida law states that all commercial fertilizer applicators must have a Limited Certification from the Florida Department of Agriculture and Consumer Services (FDACS) (s. 482.1562\, F.S.). To get this certification\, each commercial applicator must be trained in the GI-BMPs and receive a certificate of completion from UF/IFAS Extension and FDEP. Local ordinances may require that non-commercial fertilizer applicators also be trained. \nWho benefits from GI-BMP training? \n•Supervisors and employees in the lawn care\, pest control\, or landscape industries \n•Municipal parks and recreation facility supervisors and employees \n•Irrigation industry workers \n•Commercial property managers \n•City and county planning department staff \n•City and county environmental department or water quality staff \n•City and county commission staff \n•Builders and developers \n•Landscape designers and architects \n•Golf course employees \n•Anyone working in the areas of water quality\, urban development\, or environmental issues. \nPlease note the following: \nClass starts promptly at 8:30am. Please arrive at 8:15am to allow for registration before the start of instruction. \nTHERE WILL BE A 1 HOUR BREAK FOR LUNCH\, WHICH IS ON YOUR OWN. There are refrigerators and microwaves available for use if you wish to bring your lunch. Numerous restaurants are located in Dade City\, but please plan to return to class within an hour lunch-break. \nSorry\, no refunds once you purchase your ticket(s) \nThe University of Florida is committed to providing universal access to all of our events. For disability accommodations such as sign language interpreters and listening devices\, please contact Kate Kaste at kkaste@pascocountyfl.net or 352-518-0156 at least 1 week in advance to this presentation date. Advance notice is necessary to arrange for some accessibility needs. \nAn Equal Opportunity Institution. \n 
URL:https://whatsnewpasco.com/event/03-30-2026-green-industries-best-management-practices/
LOCATION:UF/IFAS Extension Pasco County Office\, County Road 52\, Dade City\, FL\, 33525\, United States
CATEGORIES:Classes & Courses,Free
ATTACH;FMTTYPE=image/jpeg:https://whatsnewpasco.com/wp-content/uploads/2026/03/43cf882dae3164787933bb4a569edb79.jpg
END:VEVENT
BEGIN:VEVENT
DTSTART;VALUE=DATE:20260401
DTEND;VALUE=DATE:20260402
DTSTAMP:20260422T181341
CREATED:20260402T111226Z
LAST-MODIFIED:20260402T111226Z
UID:10002620-1775001600-1775087999@whatsnewpasco.com
SUMMARY:Plant Propagation
DESCRIPTION:Come join us at the Land O’ Lakes Library for a seminar on plant propagation.
URL:https://whatsnewpasco.com/event/plant-propagation/
LOCATION:Land O Lakes Library\, 2818 Collier Pkwy\, Land O' Lakes\, FL\, 34639\, United States
CATEGORIES:Classes & Courses,Free
ATTACH;FMTTYPE=image/webp:https://whatsnewpasco.com/wp-content/uploads/2026/04/image-3.webp
END:VEVENT
BEGIN:VEVENT
DTSTART;TZID=America/New_York:20260413T180000
DTEND;TZID=America/New_York:20260413T190000
DTSTAMP:20260422T181341
CREATED:20260402T112507Z
LAST-MODIFIED:20260402T112549Z
UID:10002480-1776103200-1776106800@whatsnewpasco.com
SUMMARY:Plant Propagation Seminar
DESCRIPTION:Overview\n\n\nJoin us for a seminar on plant propagation: this will give insight on how to start\, root\, and maintain your seedlings\, cuttings\, and rooting \n\n\n\nDo you enjoy the peace and serenity of having your hands in the soil? Do you enjoy seeing your hard work in gardening flourish? Come join us for a seminar on plant propagation: this will give insight on how to start\, root\, and maintain your seedlings\, cuttings\, and rooting’s. The presentation will cover the basics of both sexual and asexual varieties of propagation so you can head home and get started with your very own plants.
URL:https://whatsnewpasco.com/event/plant-propagation-seminar/
LOCATION:Regency Park Library\, 9701 Little Road\, New Port Richey\, FL\, 34654\, United States
CATEGORIES:Classes & Courses
ATTACH;FMTTYPE=image/webp:https://whatsnewpasco.com/wp-content/uploads/2026/04/image-4.webp
END:VEVENT
BEGIN:VEVENT
DTSTART;TZID=America/New_York:20260416T183000
DTEND;TZID=America/New_York:20260416T193000
DTSTAMP:20260422T181341
CREATED:20260402T112952Z
LAST-MODIFIED:20260402T112952Z
UID:10002483-1776364200-1776367800@whatsnewpasco.com
SUMMARY:Right Plant\, Right Place - How to Select Florida-Friendly Plants
DESCRIPTION:Overview\n\n\nLandscape plants grow better using less water\, less fertilizer and less pesticide if they are selected to match landscape conditions. \n\n\n\nFlorida-Friendly Landscaping Principle #1 is “Right Plant\, Right Place” and this presentation helps you know how to make those landscape matches! \nAchieving a healthy\, low-maintenance home landscape starts with putting the right plant in the right place. Select Florida-Friendly plants and turfgrass that match a site’s soil\, light\, water\, and climatic conditions. Buy quality plants that welcome wildlife\, consider mature plant size when you make your purchase\, and aim for a diversity of trees\, shrubs\, and groundcovers. Once these plants are established\, they’ll require minimal amounts of supplemental water\, fertilizer\, or pesticides\, saving you time and money. Help stop the spread of invasive plants by removing them from your yard. \nWhat you do in your landscape matters. From the fertilizers you apply to the water you use\, your gardening choices can have an impact on land\, water\, wildlife\, and the overall well-being of Florida’s residents. \nThe Florida-Friendly Landscaping™ (FFL) Program is here to help you learn how to have healthy and beautiful landscapes that protect Florida’s natural resources by following nine science-based principles: \n\nRight Plant\, Right Place\nWater Efficiently\nFertilize Appropriately\nMulch\nAttract Wildlife\nManage Yard Pests Responsibly\nRecycle Yard Waste\nReduce Stormwater Runoff\nProtect the Waterfront\n\nA Florida-Friendly landscape can be designed to look the way you want\, fit the aesthetics of your community\, and suit your lifestyle\, while being environmentally sustainable. Join us to learn how! \nThis lecture is presented by Kate Kaste\, UF/IFAS Extension Pasco County\, FFL Program Manager.
URL:https://whatsnewpasco.com/event/right-plant-right-place-how-to-select-florida-friendly-pla/
LOCATION:South Holiday Library\, 4649 Mile Stretch Drive\, Holiday\, FL\, 34690\, United States
CATEGORIES:Classes & Courses
ATTACH;FMTTYPE=image/webp:https://whatsnewpasco.com/wp-content/uploads/2026/04/image-5.webp
END:VEVENT
BEGIN:VEVENT
DTSTART;TZID=America/New_York:20260423T183000
DTEND;TZID=America/New_York:20260423T203000
DTSTAMP:20260422T181341
CREATED:20260413T212639Z
LAST-MODIFIED:20260413T212639Z
UID:10003797-1776969000-1776976200@whatsnewpasco.com
SUMMARY:Paint Party
DESCRIPTION:Paint pouring workshop creating 11×14 canvas. Hosted by Lori Takacs / Passport Paint Parties. Register: https://square.link/u/jFjC5cjq \nThere are no brushes and no “wrong” moves. It’s all about letting go of control and letting the paint do the work. It’s therapeutic\, messy\, and 100% unique to you.
URL:https://whatsnewpasco.com/event/paint-party/
LOCATION:That Place Down The Street\, 10509 Land O' Lakes Blvd\, Land O' Lakes\, FL\, 34637\, United States
CATEGORIES:Art,Classes & Courses
ATTACH;FMTTYPE=image/webp:https://whatsnewpasco.com/wp-content/uploads/2026/04/E6W5GZ3SOKEW4JI72IOBIE3J.png-e1776114705219.webp
END:VEVENT
BEGIN:VEVENT
DTSTART;TZID=America/New_York:20260530T110000
DTEND;TZID=America/New_York:20260530T120000
DTSTAMP:20260422T181342
CREATED:20260317T063654Z
LAST-MODIFIED:20260317T130934Z
UID:10000309-1780138800-1780142400@whatsnewpasco.com
SUMMARY:How To Propagate Plants
DESCRIPTION:We will show you how to propagate many different types of plants by various means at this seminar.\n\n\nAre you at that point where you can grow most of the plants you have bought and they are doing nicely? Why not try propagating? We will show you how to propagate many different types of plants by various means so that you can grow your collection even more!
URL:https://whatsnewpasco.com/event/5-30-2026-propagation/
LOCATION:Hugh Embry Library\, 14215 4th Street\, Dade City\, FL\, 33523\, United States
CATEGORIES:Classes & Courses,Free
ATTACH;FMTTYPE=image/jpeg:https://whatsnewpasco.com/wp-content/uploads/2026/03/acd3f379de61d1f0e4e08cc94b1b9b06-1.jpg
END:VEVENT
BEGIN:VEVENT
DTSTART;TZID=America/New_York:20260603T173000
DTEND;TZID=America/New_York:20260603T183000
DTSTAMP:20260422T181342
CREATED:20260317T063515Z
LAST-MODIFIED:20260317T131011Z
UID:10000308-1780507800-1780511400@whatsnewpasco.com
SUMMARY:Stormwater Smart Solutions Educational Seminar
DESCRIPTION:Join UF/IFAS Extension Florida Sea Grant and Pasco County for an educational program focused on reducing stormwater pollution in our waters.\n\n\nYou will learn about solutions you can adopt at home or in your community to help reduce stormwater pollution and restore natural systems. We will discuss stormwater pollution sources\, environmental impacts\, and nature-based solutions that you can use to help protect our watershed. The program will also introduce an upcoming hands-on community volunteer opportunity\, supported by the Tampa Bay Estuary Program Bay Mini Grant and the Tarpon Tag\, where attendees can take part in the restoration of a local retention pond system to restore habitat and actively reduce nutrient loading. \n  \nSign up for the volunteer pond restoration events here! \nMay 3rd- Community Pond Restoration Event Phase 1 \nJuly 12- Community Pond Restoration Event Phase 2 \nSpecial Accommodations: \nThe University of Florida is committed to providing universal access to all of our events. For disability accommodations such as sign language interpreters and listening devices\, please contact our office at (727) 355- 7601 at least 4 weeks in advance. Advance notice is necessary to arrange for some accessibility needs.
URL:https://whatsnewpasco.com/event/stormwater-smart-solutions-educational-seminar/
LOCATION:Land O’Lakes Library\, 2818 Collier Parkway\, Land O' Lakes\, FL\, 34639\, United States
CATEGORIES:Classes & Courses,Free,Giving Back
ATTACH;FMTTYPE=image/jpeg:https://whatsnewpasco.com/wp-content/uploads/2026/03/e30fa7c3443434b03c3056678dddd1c8.jpg
END:VEVENT
BEGIN:VEVENT
DTSTART;TZID=America/New_York:20260603T180000
DTEND;TZID=America/New_York:20260603T190000
DTSTAMP:20260422T181342
CREATED:20260317T063405Z
LAST-MODIFIED:20260317T131034Z
UID:10000307-1780509600-1780513200@whatsnewpasco.com
SUMMARY:How To Care For Orchids
DESCRIPTION:Caring for and repotting orchids is not as difficult as expected. Come and learn more at this informative seminar.\n\n\nOrchids are not the finicky plants often expected. The presentation will cover repotting grocery store type orchids\, including pots\, growing mediums and techniques used. Information on care will be included so that homeowners can enjoy continued blooming of their gifted or purchased orchid.
URL:https://whatsnewpasco.com/event/6-3-2026-orchids/
LOCATION:Land O’Lakes Library\, 2818 Collier Parkway\, Land O' Lakes\, FL\, 34639\, United States
CATEGORIES:Classes & Courses,Free
ATTACH;FMTTYPE=image/jpeg:https://whatsnewpasco.com/wp-content/uploads/2026/03/fae4381af70e3a2eb8db30c41ef1156a.jpg
END:VEVENT
BEGIN:VEVENT
DTSTART;TZID=America/New_York:20260606T110000
DTEND;TZID=America/New_York:20260606T120000
DTSTAMP:20260422T181342
CREATED:20260317T063241Z
LAST-MODIFIED:20260317T131109Z
UID:10000306-1780743600-1780747200@whatsnewpasco.com
SUMMARY:Shade Plants in a Home Landscape
DESCRIPTION:Come and learn how the right approach to these shady spots can transform them into stunning\, lush retreats.\n\n\nDo you have some shady areas in your landscape that need shade loving plants? Or maybe to benefit bees and butterflies or other wildlife and support the environment? As homeowners and garden enthusiasts\, we often find ourselves facing the challenge of what to do with those areas of our yards that don’t receive full sunlight. The right approach to these shady spots can transform them into stunning\, lush retreats. That’s precisely what we’ll explore in our presentation\, ‘Shade Plants in a Home Landscape.’
URL:https://whatsnewpasco.com/event/6-6-2026-shade-plants-in-a-home-landscape/
LOCATION:Canterbury Farms Nursery & Garden Center\, 14220 Thornwood Trail\, Hudson\, FL\, 34669\, United States
CATEGORIES:Classes & Courses,Free
ATTACH;FMTTYPE=image/jpeg:https://whatsnewpasco.com/wp-content/uploads/2026/03/c17396c339528ced6e844988c3f9af5a.jpg
END:VEVENT
BEGIN:VEVENT
DTSTART;TZID=America/New_York:20260608T180000
DTEND;TZID=America/New_York:20260608T190000
DTSTAMP:20260422T181342
CREATED:20260317T062504Z
LAST-MODIFIED:20260317T131128Z
UID:10000305-1780941600-1780945200@whatsnewpasco.com
SUMMARY:How To Select\, Plant\, & Care for Trees/Shrubs in Your Home Landscape
DESCRIPTION:Join us as we learn the details of how to select\, plant and care for trees in our home landscape.\n\n\nJoin us as we learn the details of how to select\, plant and care for trees in our home landscape. The talk will Include the time of year is best for planting and why. Our speaker\, Joe Gross\, an ISA certified arborist\, will speak on tree varieties\, how to select the correct plant for your landscape and proper planting techniques to give your plant a healthy start. Tree selection\, planting and maintenance are all important aspects of a plants’ health and longevity.
URL:https://whatsnewpasco.com/event/6-8-2026-select-plant-care-for-trees-shrubs-in-our-home-landscape/
LOCATION:Regency Park Library\, 9701 Little Road\, New Port Richey\, FL\, 34654\, United States
CATEGORIES:Classes & Courses,Free
ATTACH;FMTTYPE=image/jpeg:https://whatsnewpasco.com/wp-content/uploads/2026/03/6803a63577d840494c471fbac52a6cb4-1.jpg
END:VEVENT
BEGIN:VEVENT
DTSTART;TZID=America/New_York:20260609T140000
DTEND;TZID=America/New_York:20260609T150000
DTSTAMP:20260422T181342
CREATED:20260317T062403Z
LAST-MODIFIED:20260317T131209Z
UID:10000304-1781013600-1781017200@whatsnewpasco.com
SUMMARY:Learn About Native Florida Bees
DESCRIPTION:What are native bees of Florida and what is their role and purpose?\n\n\nWhat kind of native bees do we have and where can one find them? How are they different from our honey bees? We will learn how and where native bees live and what can be their greatest problems. We will discuss their life cycles and how we help them. We will learn about their favorite native plants and the pollen and nectar values of these plants. Come armed with all your questions.
URL:https://whatsnewpasco.com/event/6-9-2026-native-bees/
LOCATION:New River Library\, 34043 State Road 54\, Wesley Chapel\, FL\, 33543\, United States
CATEGORIES:Classes & Courses,Family Fun,Free
ATTACH;FMTTYPE=image/jpeg:https://whatsnewpasco.com/wp-content/uploads/2026/03/a3061b792596592495b9fe20e1a1a860.jpg
END:VEVENT
BEGIN:VEVENT
DTSTART;TZID=America/New_York:20260613T090000
DTEND;TZID=America/New_York:20260613T100000
DTSTAMP:20260422T181342
CREATED:20260317T062137Z
LAST-MODIFIED:20260317T131238Z
UID:10000303-1781341200-1781344800@whatsnewpasco.com
SUMMARY:Landscaping for Greater Curb Appeal
DESCRIPTION:Simple fixes and helpful resources will be shared in this seminar.\n\n\nCurb appeal is frequently touted as a way to increase the appearance and value of your home. But\, just what is curb appeal and how can you get it? Without expensive renovations\, you can select and organize plants to increase the beauty of your home landscape. Learn how to add interest in your yard by applying simple\, basic landscaping design principles and plant selection. Simple fixes and helpful resources will be shared in the presentation.
URL:https://whatsnewpasco.com/event/6-13-2026-landscaping-for-greater-curb-appeal/
LOCATION:Heritage Park (Land O’ Lakes Community Center)\, 5401 Land O' lakes Blvd (Hwy 41)\, Land O' Lakes\, FL\, 34639\, United States
CATEGORIES:Classes & Courses,Free
ATTACH;FMTTYPE=image/jpeg:https://whatsnewpasco.com/wp-content/uploads/2026/03/a393f855621d56e52a04ab8d71e81448-1.jpg
END:VEVENT
BEGIN:VEVENT
DTSTART;TZID=America/New_York:20260613T100000
DTEND;TZID=America/New_York:20260613T110000
DTSTAMP:20260422T181342
CREATED:20260317T061256Z
LAST-MODIFIED:20260317T130410Z
UID:10000299-1781344800-1781348400@whatsnewpasco.com
SUMMARY:Attracting Birds to Your Backyard
DESCRIPTION:Even the most urban yard can host a plethora of species\, making for very interesting wildlife-watching! Come learn more at this seminar.\n\n\nThe best home landscapes should fit the needs of humans\, but also provide for wildlife of various kinds. Even the most urban yard can host a plethora of species\, making for very interesting wildlife-watching! Just a few easy changes to your landscape can help attract birds to our backyards. Attracting birds has many benefits. This session will cover bird behavior\, benefits that birds bring to our backyard\, birds native to Florida\, and an overview on how to provide for a habitat for birds in your backyard.
URL:https://whatsnewpasco.com/event/6-13-2026-attracting-birds-to-your-backyard/
LOCATION:Zephyrhills Public Library\, 5347 8th Street\, Zephyrhills\, FL\, 33542\, United States
CATEGORIES:Classes & Courses,Free
ATTACH;FMTTYPE=image/jpeg:https://whatsnewpasco.com/wp-content/uploads/2026/03/430739fa2c953ead533f6f1aee77cbc5-1.jpg
END:VEVENT
BEGIN:VEVENT
DTSTART;TZID=America/New_York:20260616T173000
DTEND;TZID=America/New_York:20260616T183000
DTSTAMP:20260422T181342
CREATED:20260317T061314Z
LAST-MODIFIED:20260317T130340Z
UID:10000300-1781631000-1781634600@whatsnewpasco.com
SUMMARY:Grow Your Own Orchids
DESCRIPTION:This hands-on class will demonstrate the do’s and don’ts of growing orchids.\n\n\nOrchids can be exceptionally easy to grow if you give them what they need. Repotting of orchids will be demonstrated and attendees are welcome to bring their own orchids for additional discussion as time permits. This seminar typically fills quickly so sign up early and of course\, bring your orchid questions!
URL:https://whatsnewpasco.com/event/6-16-2026-orchids/
LOCATION:New Port Richey Public Library\, 5939 Main Street\, New Port Richey\, FL\, 34652\, United States
CATEGORIES:Classes & Courses,Free
ATTACH;FMTTYPE=image/jpeg:https://whatsnewpasco.com/wp-content/uploads/2026/03/94bda57c1c478793bff19d94619a265b-1.jpg
END:VEVENT
BEGIN:VEVENT
DTSTART;TZID=America/New_York:20260624T173000
DTEND;TZID=America/New_York:20260624T183000
DTSTAMP:20260422T181342
CREATED:20260317T061801Z
LAST-MODIFIED:20260317T130320Z
UID:10000301-1782322200-1782325800@whatsnewpasco.com
SUMMARY:Eco Wonders (ages 7-11): Protecting Our Watersheds
DESCRIPTION:Children ages 7–11 can learn about protecting our watersheds and preventing stormwater pollution through a hands‑on activity.\n\n\nOverview\nKids ages 7-11 will learn how to protect our watersheds and stop stormwater pollution in our community with a hands-on experience building a water filtration device. \nJoin UF/IFAS Extension Florida Sea Grant and Pasco County at the Land O’ Lakes Library for an educational program focused on understanding stormwater pollution in our watersheds. Youth will learn about stormwater pollution sources and environmental impacts. They will also get to experience a hands-on water filtration activity. Parents are welcome to join and learn. \nIf kids out of the age range are interested\, please reach out to me.moore@ufl.edu \nThe program will also introduce an upcoming hands-on community volunteer opportunity\, supported by the Tampa Bay Estuary Program Bay Mini Grant and the Tarpon Tag\, where attendees can take part in the restoration of a local retention pond system to restore habitat and actively reduce nutrient loading. \n  \nAdults and youth can sign up to volunteer for the pond restoration events here! \nMay 3rd- Community Pond Restoration Event Phase 1 \nJuly 12- Community Pond Restoration Event Phase 2 \n  \nSpecial Accommodations: \nThe University of Florida is committed to providing universal access to all of our events. For disability accommodations such as sign language interpreters and listening devices\, please contact our office at (727) 355- 7601 at least 4 weeks in advance. Advance notice is necessary to arrange for some accessibility needs.
URL:https://whatsnewpasco.com/event/eco-wonders-ages-7-11-protecting-our-watersheds/
LOCATION:Land O’Lakes Library\, 2818 Collier Parkway\, Land O' Lakes\, FL\, 34639\, United States
CATEGORIES:Classes & Courses,Family Fun,Free,Get Active,Giving Back
ATTACH;FMTTYPE=image/jpeg:https://whatsnewpasco.com/wp-content/uploads/2026/03/e30fa7c3443434b03c3056678dddd1c8.jpg
END:VEVENT
BEGIN:VEVENT
DTSTART;TZID=America/New_York:20260627T110000
DTEND;TZID=America/New_York:20260627T120000
DTSTAMP:20260422T181342
CREATED:20260317T061942Z
LAST-MODIFIED:20260317T130236Z
UID:10000302-1782558000-1782561600@whatsnewpasco.com
SUMMARY:Learn How To Grow Loofahs
DESCRIPTION:Learn how to grow loofahs — yes\, those scrubby sponges — right in your own backyard!\n\n\nThis fun class covers everything from planting seeds\, to peeling and drying your harvest. You’ll get tips on sunlight\, types of support\, and when to pick them for the best results. By the end\, you’ll be ready to start a loofah jungle and collect home grown scrubbers!
URL:https://whatsnewpasco.com/event/6-27-2026-loofahs/
LOCATION:Hugh Embry Library\, 14215 4th Street\, Dade City\, FL\, 33523\, United States
CATEGORIES:Classes & Courses,Free
ATTACH;FMTTYPE=image/jpeg:https://whatsnewpasco.com/wp-content/uploads/2026/03/b735521692b0b8bf5ce50e8c84ae3372-1.jpg
END:VEVENT
BEGIN:VEVENT
DTSTART;TZID=America/New_York:20260804T170000
DTEND;TZID=America/New_York:20260804T180000
DTSTAMP:20260422T181342
CREATED:20260317T061218Z
LAST-MODIFIED:20260317T130109Z
UID:10000296-1785862800-1785866400@whatsnewpasco.com
SUMMARY:Stormwater Smart Solutions Bioretention Pond Project Summary Seminar
DESCRIPTION:Join UF/IFAS Extension Florida Sea Grant for a seminar recapping the success and lessons of the Stormwater Smart Solutions Pond Project.\n\n\nYou will learn about the project\, environmental impacts\, and lessons learned. You will also learn how you can do a similar project home or in your community to help reduce stormwater pollution and restore natural systems. We will discuss stormwater pollution sources\, environmental impacts\, and nature-based solutions that you can use to help protect our watershed. The program is supported by the Tampa Bay Estuary Program Bay Mini Grant and the Tarpon Tag. \nSign up to volunteer for the pond restoration events before the project review here! \nMay 3rd- Community Pond Restoration Event Phase 1 \nJuly 12- Community Pond Restoration Event Phase 2 \n  \nSpecial Accommodations: \nThe University of Florida is committed to providing universal access to all of our events. For disability accommodations such as sign language interpreters and listening devices\, please contact our office at (727) 355- 7601 at least 4 weeks in advance. Advance notice is necessary to arrange for some accessibility needs.
URL:https://whatsnewpasco.com/event/stormwater-smart-solutions-bioretention-pond-project-summary-seminar/
LOCATION:Land O’Lakes Library\, 2818 Collier Parkway\, Land O' Lakes\, FL\, 34639\, United States
CATEGORIES:Classes & Courses,Free
ATTACH;FMTTYPE=image/jpeg:https://whatsnewpasco.com/wp-content/uploads/2026/03/e30fa7c3443434b03c3056678dddd1c8-1.jpg
END:VEVENT
END:VCALENDAR