BEGIN:VCALENDAR
VERSION:2.0
PRODID:-//What&#039;s New Pasco - ECPv6.15.20//NONSGML v1.0//EN
CALSCALE:GREGORIAN
METHOD:PUBLISH
X-ORIGINAL-URL:https://whatsnewpasco.com
X-WR-CALDESC:Events for What&#039;s New Pasco
REFRESH-INTERVAL;VALUE=DURATION:PT1H
X-Robots-Tag:noindex
X-PUBLISHED-TTL:PT1H
BEGIN:VTIMEZONE
TZID:America/New_York
BEGIN:DAYLIGHT
TZOFFSETFROM:-0500
TZOFFSETTO:-0400
TZNAME:EDT
DTSTART:20250309T070000
END:DAYLIGHT
BEGIN:STANDARD
TZOFFSETFROM:-0400
TZOFFSETTO:-0500
TZNAME:EST
DTSTART:20251102T060000
END:STANDARD
BEGIN:DAYLIGHT
TZOFFSETFROM:-0500
TZOFFSETTO:-0400
TZNAME:EDT
DTSTART:20260308T070000
END:DAYLIGHT
BEGIN:STANDARD
TZOFFSETFROM:-0400
TZOFFSETTO:-0500
TZNAME:EST
DTSTART:20261101T060000
END:STANDARD
BEGIN:DAYLIGHT
TZOFFSETFROM:-0500
TZOFFSETTO:-0400
TZNAME:EDT
DTSTART:20270314T070000
END:DAYLIGHT
BEGIN:STANDARD
TZOFFSETFROM:-0400
TZOFFSETTO:-0500
TZNAME:EST
DTSTART:20271107T060000
END:STANDARD
END:VTIMEZONE
BEGIN:VEVENT
DTSTART;TZID=America/New_York:20260626T170000
DTEND;TZID=America/New_York:20260626T210000
DTSTAMP:20260421T213011
CREATED:20260326T045005Z
LAST-MODIFIED:20260326T142411Z
UID:10002181-1782493200-1782507600@whatsnewpasco.com
SUMMARY:Friday Moonlight Market at The Hub at Bexley
DESCRIPTION:Kick off your weekend under the stars at the Friday Night Moonlight Market at The Hub at Bexley!\n\n\n\n🌙🎶 Friday Moonlight Market at The Hub at Bexley 🎶🌙\n📅 Every 2nd & 4th Friday | 🕔 5 PM – 9 PM\n📍 The Hub at Bexley\, Land O’ Lakes \n✨ Your Ultimate Friday Night Destination! ✨ \n🛍️ Shop Local Treasures: \n\n🖐️ Handmade Jewelry\n🍪 Gourmet Cookies & Cinnamon Rolls\n🧼 Cold-Processed Soaps & Beauty Bars\n🌿 Artisanal Hummus\, Garlic Spreads & Health Remedies\n🎁 Faith-Based Apparel\, Custom Tumblers\, & Personalized Gifts\n🎨 Unique Finds like Stained Glass\, 3D-Printed Art\, & Pop Art Accessories\n\n🍹 Sip & Savor:\nEnjoy adult beverages while you shop and take advantage of special Friday night dealsfrom nearby restaurants! 🍔🍻 \n🎶 Feel the Vibes:\nLive music to keep the energy high and the night unforgettable! 🎸🎤 \n🐾 Bring the Whole Crew:\nFamily-friendly\, pet-friendly\, and filled with local flair! \n🌟 Discover\, Shop\, and Celebrate the Best of Friday Nights! 🌟 \n🛍️✨ Tag your shopping buddies\, bring the pups\, and meet us under the moonlight for a night of fun and community! 🌙🎶
URL:https://whatsnewpasco.com/event/friday-moonlight-market-at-the-hub-at-bexley/2026-06-26/
LOCATION:The Hub at Bexley\, 16954 Focus Lp\, Land O Lakes\, FL\, 34638\, United States
CATEGORIES:Family Fun,Festivals & Markets,Food & Drinks,Free,Nightlife
ATTACH;FMTTYPE=image/jpeg:https://whatsnewpasco.com/wp-content/uploads/2026/03/Friday-Moonlight-Market-The-Hub-at-Bexley.jpg
END:VEVENT
BEGIN:VEVENT
DTSTART;TZID=America/New_York:20260626T190000
DTEND;TZID=America/New_York:20260626T230000
DTSTAMP:20260421T213011
CREATED:20260326T043924Z
LAST-MODIFIED:20260326T043924Z
UID:10002122-1782500400-1782514800@whatsnewpasco.com
SUMMARY:Only R&B @ KRATE
DESCRIPTION:On the Last Friday of every month\, Nico Brown Productions brings you…\nOnly R&B @ KRATE!!!\nSpecial Guest DJs & Entertainment Every Month!!!\n\nThis month\, we have a special guest performance by SLIM of 112!!!\nHosted by Victoria Skyy\nSoundtrack provided by DJ Spaceship\n\n– 30+ Different Restaurants to Choose From– Over a Dozen Retail Shops– Some of the Most Unique Bars in the Bay Area– Dog Friendly– Family Friendly– Playground for the Kids– Lawn Chairs Welcome– No Outside Food or Drinks Allowed– Multiple DJs throughout the Park– Price Varies from Adv Tickets to the Gate– Reserved Seating Available– Kids 12 & under are Free– Limited Capacity\, Advanced Tickets: Ensure Your Entry– Plenty of Free Parking– No Refunds
URL:https://whatsnewpasco.com/event/only-rb-krate-featuring-slim-of-112/2026-06-26/
LOCATION:KRATE at The Grove\, 5817 Goldview Pkwy\, Wesley Chapel\, FL\, 33544\, United States
CATEGORIES:Festivals & Markets,Food & Drinks,Live Music,Nightlife
END:VEVENT
END:VCALENDAR