BEGIN:VCALENDAR
VERSION:2.0
PRODID:-//What&#039;s New Pasco - ECPv6.15.20//NONSGML v1.0//EN
CALSCALE:GREGORIAN
METHOD:PUBLISH
X-ORIGINAL-URL:https://whatsnewpasco.com
X-WR-CALDESC:Events for What&#039;s New Pasco
REFRESH-INTERVAL;VALUE=DURATION:PT1H
X-Robots-Tag:noindex
X-PUBLISHED-TTL:PT1H
BEGIN:VTIMEZONE
TZID:America/New_York
BEGIN:DAYLIGHT
TZOFFSETFROM:-0500
TZOFFSETTO:-0400
TZNAME:EDT
DTSTART:20250309T070000
END:DAYLIGHT
BEGIN:STANDARD
TZOFFSETFROM:-0400
TZOFFSETTO:-0500
TZNAME:EST
DTSTART:20251102T060000
END:STANDARD
BEGIN:DAYLIGHT
TZOFFSETFROM:-0500
TZOFFSETTO:-0400
TZNAME:EDT
DTSTART:20260308T070000
END:DAYLIGHT
BEGIN:STANDARD
TZOFFSETFROM:-0400
TZOFFSETTO:-0500
TZNAME:EST
DTSTART:20261101T060000
END:STANDARD
BEGIN:DAYLIGHT
TZOFFSETFROM:-0500
TZOFFSETTO:-0400
TZNAME:EDT
DTSTART:20270314T070000
END:DAYLIGHT
BEGIN:STANDARD
TZOFFSETFROM:-0400
TZOFFSETTO:-0500
TZNAME:EST
DTSTART:20271107T060000
END:STANDARD
END:VTIMEZONE
BEGIN:VEVENT
DTSTART;TZID=America/New_York:20260620T100000
DTEND;TZID=America/New_York:20260620T140000
DTSTAMP:20260422T175848
CREATED:20260319T034835Z
LAST-MODIFIED:20260319T035320Z
UID:10001032-1781949600-1781964000@whatsnewpasco.com
SUMMARY:Fresh Market at Wiregrass
DESCRIPTION:Fresh Market at Wiregrass at The Shops at Wiregrass in Wesley Chapel. Year-round market held on the first and third Saturday of each month. Features 80+ vendors with fresh produce\, handcrafted goods\, unique gifts\, and delicious treats. Live local music\, kids choo choo train rides\, free parking\, dog-friendly and family-friendly. Hours: 10am–2pm (October–May)\, 9am–1pm (June–September).
URL:https://whatsnewpasco.com/event/fresh-market-at-wiregrass-4/2026-06-20/
LOCATION:The Shops at Wiregrass\, 28211 Paseo Drive\, Wesley Chapel\, FL\, 33543\, United States
CATEGORIES:Family Fun,Festivals & Markets,Free
ATTACH;FMTTYPE=image/jpeg:https://whatsnewpasco.com/wp-content/uploads/2026/03/2ab92ce0e8f2a9f0425710c7d8f4932a.jpg
END:VEVENT
END:VCALENDAR