BEGIN:VCALENDAR
VERSION:2.0
PRODID:-//What&#039;s New Pasco - ECPv6.15.20//NONSGML v1.0//EN
CALSCALE:GREGORIAN
METHOD:PUBLISH
X-WR-CALNAME:What&#039;s New Pasco
X-ORIGINAL-URL:https://whatsnewpasco.com
X-WR-CALDESC:Events for What&#039;s New Pasco
REFRESH-INTERVAL;VALUE=DURATION:PT1H
X-Robots-Tag:noindex
X-PUBLISHED-TTL:PT1H
BEGIN:VTIMEZONE
TZID:America/New_York
BEGIN:DAYLIGHT
TZOFFSETFROM:-0500
TZOFFSETTO:-0400
TZNAME:EDT
DTSTART:20250309T070000
END:DAYLIGHT
BEGIN:STANDARD
TZOFFSETFROM:-0400
TZOFFSETTO:-0500
TZNAME:EST
DTSTART:20251102T060000
END:STANDARD
BEGIN:DAYLIGHT
TZOFFSETFROM:-0500
TZOFFSETTO:-0400
TZNAME:EDT
DTSTART:20260308T070000
END:DAYLIGHT
BEGIN:STANDARD
TZOFFSETFROM:-0400
TZOFFSETTO:-0500
TZNAME:EST
DTSTART:20261101T060000
END:STANDARD
BEGIN:DAYLIGHT
TZOFFSETFROM:-0500
TZOFFSETTO:-0400
TZNAME:EDT
DTSTART:20270314T070000
END:DAYLIGHT
BEGIN:STANDARD
TZOFFSETFROM:-0400
TZOFFSETTO:-0500
TZNAME:EST
DTSTART:20271107T060000
END:STANDARD
END:VTIMEZONE
BEGIN:VEVENT
DTSTART;TZID=America/New_York:20260607T110000
DTEND;TZID=America/New_York:20260607T140000
DTSTAMP:20260421T195658
CREATED:20260408T203144Z
LAST-MODIFIED:20260408T203254Z
UID:10003661-1780830000-1780840800@whatsnewpasco.com
SUMMARY:Wright's Outdoor Market in Downtown New Port Richey
DESCRIPTION:It’s Sunday Funday in Downtown New Port Richey!Grab your friends and family for our Sunday morning market on Main Street. Yes\, there’s time to swing by after church too! \nBe sure to stop by the FarmNET Community Garden tent to meet your local growers\, buy seeds & seedlings\, soil & sign up for volunteering in their community events like the Loquat Festival on April 11th. \nWe’ll have locally made food like raw infused honey\, NY style cookies\, giant cookies & baked goods. \nYou can find handmade gifts like earrings\, bracelets\, t-shirts\, resin art\, home decor\, soaps\, wax melts\, linen sprays & 3D printed items. \nFollow our page & check for our vendor lineup the week of the event! Vendors vary from market to market. \nThis a free to attend event for the community. We will never sell tickets or contact vendors via facebook\, watch out for scams!
URL:https://whatsnewpasco.com/event/wrights-outdoor-market-in-downtown-new-port-richey/2026-06-07/
LOCATION:5800 Main Street\, New Port Richey\, FL\, United States\, Florida 34652\, 5800 Main Street\, New Port Richey\, FL\, 34652\, United States
ATTACH;FMTTYPE=image/jpeg:https://whatsnewpasco.com/wp-content/uploads/2026/04/654457366_927187616914228_7861039154581113948_n.jpg
END:VEVENT
END:VCALENDAR