BEGIN:VCALENDAR
VERSION:2.0
PRODID:-//What&#039;s New Pasco - ECPv6.15.20//NONSGML v1.0//EN
CALSCALE:GREGORIAN
METHOD:PUBLISH
X-ORIGINAL-URL:https://whatsnewpasco.com
X-WR-CALDESC:Events for What&#039;s New Pasco
REFRESH-INTERVAL;VALUE=DURATION:PT1H
X-Robots-Tag:noindex
X-PUBLISHED-TTL:PT1H
BEGIN:VTIMEZONE
TZID:America/New_York
BEGIN:DAYLIGHT
TZOFFSETFROM:-0500
TZOFFSETTO:-0400
TZNAME:EDT
DTSTART:20250309T070000
END:DAYLIGHT
BEGIN:STANDARD
TZOFFSETFROM:-0400
TZOFFSETTO:-0500
TZNAME:EST
DTSTART:20251102T060000
END:STANDARD
BEGIN:DAYLIGHT
TZOFFSETFROM:-0500
TZOFFSETTO:-0400
TZNAME:EDT
DTSTART:20260308T070000
END:DAYLIGHT
BEGIN:STANDARD
TZOFFSETFROM:-0400
TZOFFSETTO:-0500
TZNAME:EST
DTSTART:20261101T060000
END:STANDARD
BEGIN:DAYLIGHT
TZOFFSETFROM:-0500
TZOFFSETTO:-0400
TZNAME:EDT
DTSTART:20270314T070000
END:DAYLIGHT
BEGIN:STANDARD
TZOFFSETFROM:-0400
TZOFFSETTO:-0500
TZNAME:EST
DTSTART:20271107T060000
END:STANDARD
END:VTIMEZONE
BEGIN:VEVENT
DTSTART;TZID=America/New_York:20260501T100000
DTEND;TZID=America/New_York:20260501T160000
DTSTAMP:20260421T154520
CREATED:20260402T120219Z
LAST-MODIFIED:20260407T132216Z
UID:10003203-1777629600-1777651200@whatsnewpasco.com
SUMMARY:Sunflower Festival
DESCRIPTION:Get ready for a blooming good time at our Sunflower Festival! Explore acres of beautiful sunflowers with U-pick\, enjoy scenic hayrides\, interact with friendly farm animals and exotic animals\, and listen to live music. Savor delicious treats from food trucks\, shop from local vendors\, and have a blast with the corn box\, jump pad\, and more farmyard activities and attractions . It’s a day packed with fun for the whole family! \nIncluded Activities: \n\nJump Pad\nHay Rides\nPlayground with Slides\nSand Mountain Climb\nPetting Zoo\nBubble Station\nTire Sand Pit\nConcession barn\nFood Trucks\nLive music\n\nAdditional Cost Activities: \n\nGem Mining\nPony Rides\nFeed for petting zoo animals\n\nImportant Information: \n\nPet Policy: Although we love our 4 legged friends\, only service dogs will be permitted on the farm.\nNo outside food or beverages are allowed.\n\nCost: \n🎟️Buy tickets online for easy entry🎟️ \nAdvance online tickets: $12 adults | $9 kids (ages 3–12) \n• Day-of tickets (online or at the gate): $14 adults | $11 kids \n• Kids 2 & under are FREE \nFor faster entry\, we recommend purchasing tickets online. \nParking on the premises is FREE! \nFor groups of 10 or more\, please email us or call us at 772-215-6530 to receive a discounted rate. \nEmail us to schedule your group for weekday fun! \nCrop availability depends on weather and bloom cycles\, and fresh flowers aren’t guaranteed. Don’t worry\, though — there’s still so much more to enjoy at the farm! Please check our Facebook page before your visit for the latest crop and bloom updates. 
URL:https://whatsnewpasco.com/event/sunflower-festival/2026-05-01/
LOCATION:Dade City Farms\, 17143 Lake Iola Rd\, Dade City\, FL\, 33523\, United States
CATEGORIES:Family Fun,Festivals & Markets,Food & Drinks
ATTACH;FMTTYPE=image/jpeg:https://whatsnewpasco.com/wp-content/uploads/2026/04/649265665_935655048981006_2666446007390370019_n.jpg
END:VEVENT
BEGIN:VEVENT
DTSTART;TZID=America/New_York:20260501T173000
DTEND;TZID=America/New_York:20260501T213000
DTSTAMP:20260421T154520
CREATED:20260318T224013Z
LAST-MODIFIED:20260325T174611Z
UID:10001992-1777656600-1777671000@whatsnewpasco.com
SUMMARY:1st Fridays – Market Elaine (KRATE at The Grove)
DESCRIPTION:The Market Elaine: Every 1st Friday night! \nWesley Chapel’s favorite night market is back\, bringing together the best in local shopping\, delicious eats\, and family-friendly fun! Join us every 1st Friday of the month from 5:30-9:30 PM at The Grove for an unforgettable evening.\nCome experience a vibrant atmosphere filled with 150+ vendors\, live entertainment\, and activities for all ages!\n Event Highlights:\n Shop Local: Explore unique finds from talented artisans and small businesses. Pet Adoptions: Give a furry friend a forever home! Kids’ Zone: Bounce house\, face painting\, and more fun activities. Live Music: Enjoy performances at KRATE at The Grove while you shop. Food & Treats: Indulge in delicious snacks and handcrafted goodies. Family-Friendly Fun: A perfect night out for all!\n Date: 1st Friday of Every Month Time: 5:30 PM – 9:30 PM Location: 6013 Wesley Grove Blvd.\, Wesley Chapel\, FL 33544\n Mark your calendars & don’t miss out! Follow us for updates\, sneak peeks\, and vendor highlights. See you at The Market Elaine!
URL:https://whatsnewpasco.com/event/1st-fridays-market-elaine-krate-at-the-grove-2/2026-05-01/
LOCATION:KRATE at The Grove\, 5817 Goldview Pkwy\, Wesley Chapel\, FL\, 33544\, United States
CATEGORIES:Family Fun,Festivals & Markets,Food & Drinks
ATTACH;FMTTYPE=image/png:https://whatsnewpasco.com/wp-content/uploads/2026/03/logo-5001.png
END:VEVENT
END:VCALENDAR