BEGIN:VCALENDAR
VERSION:2.0
PRODID:-//What&#039;s New Pasco - ECPv6.15.20//NONSGML v1.0//EN
CALSCALE:GREGORIAN
METHOD:PUBLISH
X-WR-CALNAME:What&#039;s New Pasco
X-ORIGINAL-URL:https://whatsnewpasco.com
X-WR-CALDESC:Events for What&#039;s New Pasco
REFRESH-INTERVAL;VALUE=DURATION:PT1H
X-Robots-Tag:noindex
X-PUBLISHED-TTL:PT1H
BEGIN:VTIMEZONE
TZID:America/New_York
BEGIN:DAYLIGHT
TZOFFSETFROM:-0500
TZOFFSETTO:-0400
TZNAME:EDT
DTSTART:20250309T070000
END:DAYLIGHT
BEGIN:STANDARD
TZOFFSETFROM:-0400
TZOFFSETTO:-0500
TZNAME:EST
DTSTART:20251102T060000
END:STANDARD
BEGIN:DAYLIGHT
TZOFFSETFROM:-0500
TZOFFSETTO:-0400
TZNAME:EDT
DTSTART:20260308T070000
END:DAYLIGHT
BEGIN:STANDARD
TZOFFSETFROM:-0400
TZOFFSETTO:-0500
TZNAME:EST
DTSTART:20261101T060000
END:STANDARD
BEGIN:DAYLIGHT
TZOFFSETFROM:-0500
TZOFFSETTO:-0400
TZNAME:EDT
DTSTART:20270314T070000
END:DAYLIGHT
BEGIN:STANDARD
TZOFFSETFROM:-0400
TZOFFSETTO:-0500
TZNAME:EST
DTSTART:20271107T060000
END:STANDARD
END:VTIMEZONE
BEGIN:VEVENT
DTSTART;TZID=America/New_York:20260426T100000
DTEND;TZID=America/New_York:20260426T160000
DTSTAMP:20260421T163535
CREATED:20260402T120219Z
LAST-MODIFIED:20260407T132216Z
UID:10003198-1777197600-1777219200@whatsnewpasco.com
SUMMARY:Sunflower Festival
DESCRIPTION:Get ready for a blooming good time at our Sunflower Festival! Explore acres of beautiful sunflowers with U-pick\, enjoy scenic hayrides\, interact with friendly farm animals and exotic animals\, and listen to live music. Savor delicious treats from food trucks\, shop from local vendors\, and have a blast with the corn box\, jump pad\, and more farmyard activities and attractions . It’s a day packed with fun for the whole family! \nIncluded Activities: \n\nJump Pad\nHay Rides\nPlayground with Slides\nSand Mountain Climb\nPetting Zoo\nBubble Station\nTire Sand Pit\nConcession barn\nFood Trucks\nLive music\n\nAdditional Cost Activities: \n\nGem Mining\nPony Rides\nFeed for petting zoo animals\n\nImportant Information: \n\nPet Policy: Although we love our 4 legged friends\, only service dogs will be permitted on the farm.\nNo outside food or beverages are allowed.\n\nCost: \n🎟️Buy tickets online for easy entry🎟️ \nAdvance online tickets: $12 adults | $9 kids (ages 3–12) \n• Day-of tickets (online or at the gate): $14 adults | $11 kids \n• Kids 2 & under are FREE \nFor faster entry\, we recommend purchasing tickets online. \nParking on the premises is FREE! \nFor groups of 10 or more\, please email us or call us at 772-215-6530 to receive a discounted rate. \nEmail us to schedule your group for weekday fun! \nCrop availability depends on weather and bloom cycles\, and fresh flowers aren’t guaranteed. Don’t worry\, though — there’s still so much more to enjoy at the farm! Please check our Facebook page before your visit for the latest crop and bloom updates. 
URL:https://whatsnewpasco.com/event/sunflower-festival/2026-04-26/
LOCATION:Dade City Farms\, 17143 Lake Iola Rd\, Dade City\, FL\, 33523\, United States
CATEGORIES:Family Fun,Festivals & Markets,Food & Drinks
ATTACH;FMTTYPE=image/jpeg:https://whatsnewpasco.com/wp-content/uploads/2026/04/649265665_935655048981006_2666446007390370019_n.jpg
END:VEVENT
BEGIN:VEVENT
DTSTART;TZID=America/New_York:20260426T110000
DTEND;TZID=America/New_York:20260426T140000
DTSTAMP:20260421T163535
CREATED:20260408T203144Z
LAST-MODIFIED:20260408T203254Z
UID:10003658-1777201200-1777212000@whatsnewpasco.com
SUMMARY:Wright's Outdoor Market in Downtown New Port Richey
DESCRIPTION:It’s Sunday Funday in Downtown New Port Richey!Grab your friends and family for our Sunday morning market on Main Street. Yes\, there’s time to swing by after church too! \nBe sure to stop by the FarmNET Community Garden tent to meet your local growers\, buy seeds & seedlings\, soil & sign up for volunteering in their community events like the Loquat Festival on April 11th. \nWe’ll have locally made food like raw infused honey\, NY style cookies\, giant cookies & baked goods. \nYou can find handmade gifts like earrings\, bracelets\, t-shirts\, resin art\, home decor\, soaps\, wax melts\, linen sprays & 3D printed items. \nFollow our page & check for our vendor lineup the week of the event! Vendors vary from market to market. \nThis a free to attend event for the community. We will never sell tickets or contact vendors via facebook\, watch out for scams!
URL:https://whatsnewpasco.com/event/wrights-outdoor-market-in-downtown-new-port-richey/2026-04-26/
LOCATION:5800 Main Street\, New Port Richey\, FL\, United States\, Florida 34652\, 5800 Main Street\, New Port Richey\, FL\, 34652\, United States
ATTACH;FMTTYPE=image/jpeg:https://whatsnewpasco.com/wp-content/uploads/2026/04/654457366_927187616914228_7861039154581113948_n.jpg
END:VEVENT
BEGIN:VEVENT
DTSTART;TZID=America/New_York:20260426T110000
DTEND;TZID=America/New_York:20260426T150000
DTSTAMP:20260421T163535
CREATED:20260319T140651Z
LAST-MODIFIED:20260319T142917Z
UID:10001348-1777201200-1777215600@whatsnewpasco.com
SUMMARY:Harvest Markets near KRATE at The Grove
DESCRIPTION:OPEN 11AM-3PM!FREE ENTRY! FREE PARKING!FAMILY & PET FRIENDLY!\nHANDICAP ACCESSIBLE! \n80+ Vendors with Produce\, Cottage Goods\, Baked Goods\, Home Decor\, Self Care\, Art\, Accessories & more! Located in Wesley Chapel\, near KRATE at the Grove\, Harvest Markets happen every 2nd & 4th Sunday\, from Fall to Spring. \nHosted by Florida Penguin Productions\nVendor Fee: ONLY $55! For more info\, click the link below or email our coordinator at Brett@FloridaPenguinProductions.com \nVendor Registration: https://lp.constantcontactpages.com/ev/reg/466t8k9
URL:https://whatsnewpasco.com/event/harvest-markets-near-krate-at-the-grove/2026-04-26/
LOCATION:KRATE at The Grove\, 5817 Goldview Pkwy\, Wesley Chapel\, FL\, 33544\, United States
CATEGORIES:Family Fun,Festivals & Markets,Food & Drinks,Free
ATTACH;FMTTYPE=image/jpeg:https://whatsnewpasco.com/wp-content/uploads/2026/03/Harvest-Market-at-The-Grove.jpg
END:VEVENT
END:VCALENDAR