BEGIN:VCALENDAR
VERSION:2.0
PRODID:-//What&#039;s New Pasco - ECPv6.15.20//NONSGML v1.0//EN
CALSCALE:GREGORIAN
METHOD:PUBLISH
X-ORIGINAL-URL:https://whatsnewpasco.com
X-WR-CALDESC:Events for What&#039;s New Pasco
REFRESH-INTERVAL;VALUE=DURATION:PT1H
X-Robots-Tag:noindex
X-PUBLISHED-TTL:PT1H
BEGIN:VTIMEZONE
TZID:America/New_York
BEGIN:DAYLIGHT
TZOFFSETFROM:-0500
TZOFFSETTO:-0400
TZNAME:EDT
DTSTART:20250309T070000
END:DAYLIGHT
BEGIN:STANDARD
TZOFFSETFROM:-0400
TZOFFSETTO:-0500
TZNAME:EST
DTSTART:20251102T060000
END:STANDARD
BEGIN:DAYLIGHT
TZOFFSETFROM:-0500
TZOFFSETTO:-0400
TZNAME:EDT
DTSTART:20260308T070000
END:DAYLIGHT
BEGIN:STANDARD
TZOFFSETFROM:-0400
TZOFFSETTO:-0500
TZNAME:EST
DTSTART:20261101T060000
END:STANDARD
BEGIN:DAYLIGHT
TZOFFSETFROM:-0500
TZOFFSETTO:-0400
TZNAME:EDT
DTSTART:20270314T070000
END:DAYLIGHT
BEGIN:STANDARD
TZOFFSETFROM:-0400
TZOFFSETTO:-0500
TZNAME:EST
DTSTART:20271107T060000
END:STANDARD
END:VTIMEZONE
BEGIN:VEVENT
DTSTART;TZID=America/New_York:20260424T100000
DTEND;TZID=America/New_York:20260424T160000
DTSTAMP:20260421T163649
CREATED:20260402T120219Z
LAST-MODIFIED:20260407T132216Z
UID:10003196-1777024800-1777046400@whatsnewpasco.com
SUMMARY:Sunflower Festival
DESCRIPTION:Get ready for a blooming good time at our Sunflower Festival! Explore acres of beautiful sunflowers with U-pick\, enjoy scenic hayrides\, interact with friendly farm animals and exotic animals\, and listen to live music. Savor delicious treats from food trucks\, shop from local vendors\, and have a blast with the corn box\, jump pad\, and more farmyard activities and attractions . It’s a day packed with fun for the whole family! \nIncluded Activities: \n\nJump Pad\nHay Rides\nPlayground with Slides\nSand Mountain Climb\nPetting Zoo\nBubble Station\nTire Sand Pit\nConcession barn\nFood Trucks\nLive music\n\nAdditional Cost Activities: \n\nGem Mining\nPony Rides\nFeed for petting zoo animals\n\nImportant Information: \n\nPet Policy: Although we love our 4 legged friends\, only service dogs will be permitted on the farm.\nNo outside food or beverages are allowed.\n\nCost: \n🎟️Buy tickets online for easy entry🎟️ \nAdvance online tickets: $12 adults | $9 kids (ages 3–12) \n• Day-of tickets (online or at the gate): $14 adults | $11 kids \n• Kids 2 & under are FREE \nFor faster entry\, we recommend purchasing tickets online. \nParking on the premises is FREE! \nFor groups of 10 or more\, please email us or call us at 772-215-6530 to receive a discounted rate. \nEmail us to schedule your group for weekday fun! \nCrop availability depends on weather and bloom cycles\, and fresh flowers aren’t guaranteed. Don’t worry\, though — there’s still so much more to enjoy at the farm! Please check our Facebook page before your visit for the latest crop and bloom updates. 
URL:https://whatsnewpasco.com/event/sunflower-festival/2026-04-24/
LOCATION:Dade City Farms\, 17143 Lake Iola Rd\, Dade City\, FL\, 33523\, United States
CATEGORIES:Family Fun,Festivals & Markets,Food & Drinks
ATTACH;FMTTYPE=image/jpeg:https://whatsnewpasco.com/wp-content/uploads/2026/04/649265665_935655048981006_2666446007390370019_n.jpg
END:VEVENT
BEGIN:VEVENT
DTSTART;TZID=America/New_York:20260424T170000
DTEND;TZID=America/New_York:20260424T210000
DTSTAMP:20260421T163649
CREATED:20260326T045005Z
LAST-MODIFIED:20260326T142411Z
UID:10002179-1777050000-1777064400@whatsnewpasco.com
SUMMARY:Friday Moonlight Market at The Hub at Bexley
DESCRIPTION:Kick off your weekend under the stars at the Friday Night Moonlight Market at The Hub at Bexley!\n\n\n\n🌙🎶 Friday Moonlight Market at The Hub at Bexley 🎶🌙\n📅 Every 2nd & 4th Friday | 🕔 5 PM – 9 PM\n📍 The Hub at Bexley\, Land O’ Lakes \n✨ Your Ultimate Friday Night Destination! ✨ \n🛍️ Shop Local Treasures: \n\n🖐️ Handmade Jewelry\n🍪 Gourmet Cookies & Cinnamon Rolls\n🧼 Cold-Processed Soaps & Beauty Bars\n🌿 Artisanal Hummus\, Garlic Spreads & Health Remedies\n🎁 Faith-Based Apparel\, Custom Tumblers\, & Personalized Gifts\n🎨 Unique Finds like Stained Glass\, 3D-Printed Art\, & Pop Art Accessories\n\n🍹 Sip & Savor:\nEnjoy adult beverages while you shop and take advantage of special Friday night dealsfrom nearby restaurants! 🍔🍻 \n🎶 Feel the Vibes:\nLive music to keep the energy high and the night unforgettable! 🎸🎤 \n🐾 Bring the Whole Crew:\nFamily-friendly\, pet-friendly\, and filled with local flair! \n🌟 Discover\, Shop\, and Celebrate the Best of Friday Nights! 🌟 \n🛍️✨ Tag your shopping buddies\, bring the pups\, and meet us under the moonlight for a night of fun and community! 🌙🎶
URL:https://whatsnewpasco.com/event/friday-moonlight-market-at-the-hub-at-bexley/2026-04-24/
LOCATION:The Hub at Bexley\, 16954 Focus Lp\, Land O Lakes\, FL\, 34638\, United States
CATEGORIES:Family Fun,Festivals & Markets,Food & Drinks,Free,Nightlife
ATTACH;FMTTYPE=image/jpeg:https://whatsnewpasco.com/wp-content/uploads/2026/03/Friday-Moonlight-Market-The-Hub-at-Bexley.jpg
END:VEVENT
BEGIN:VEVENT
DTSTART;TZID=America/New_York:20260424T190000
DTEND;TZID=America/New_York:20260424T230000
DTSTAMP:20260421T163649
CREATED:20260326T043924Z
LAST-MODIFIED:20260326T043924Z
UID:10002120-1777057200-1777071600@whatsnewpasco.com
SUMMARY:Only R&B @ KRATE
DESCRIPTION:On the Last Friday of every month\, Nico Brown Productions brings you…\nOnly R&B @ KRATE!!!\nSpecial Guest DJs & Entertainment Every Month!!!\n\nThis month\, we have a special guest performance by SLIM of 112!!!\nHosted by Victoria Skyy\nSoundtrack provided by DJ Spaceship\n\n– 30+ Different Restaurants to Choose From– Over a Dozen Retail Shops– Some of the Most Unique Bars in the Bay Area– Dog Friendly– Family Friendly– Playground for the Kids– Lawn Chairs Welcome– No Outside Food or Drinks Allowed– Multiple DJs throughout the Park– Price Varies from Adv Tickets to the Gate– Reserved Seating Available– Kids 12 & under are Free– Limited Capacity\, Advanced Tickets: Ensure Your Entry– Plenty of Free Parking– No Refunds
URL:https://whatsnewpasco.com/event/only-rb-krate-featuring-slim-of-112/2026-04-24/
LOCATION:KRATE at The Grove\, 5817 Goldview Pkwy\, Wesley Chapel\, FL\, 33544\, United States
CATEGORIES:Festivals & Markets,Food & Drinks,Live Music,Nightlife
END:VEVENT
END:VCALENDAR