BEGIN:VCALENDAR
VERSION:2.0
PRODID:-//What&#039;s New Pasco - ECPv6.15.20//NONSGML v1.0//EN
CALSCALE:GREGORIAN
METHOD:PUBLISH
X-WR-CALNAME:What&#039;s New Pasco
X-ORIGINAL-URL:https://whatsnewpasco.com
X-WR-CALDESC:Events for What&#039;s New Pasco
REFRESH-INTERVAL;VALUE=DURATION:PT1H
X-Robots-Tag:noindex
X-PUBLISHED-TTL:PT1H
BEGIN:VTIMEZONE
TZID:America/New_York
BEGIN:DAYLIGHT
TZOFFSETFROM:-0500
TZOFFSETTO:-0400
TZNAME:EDT
DTSTART:20250309T070000
END:DAYLIGHT
BEGIN:STANDARD
TZOFFSETFROM:-0400
TZOFFSETTO:-0500
TZNAME:EST
DTSTART:20251102T060000
END:STANDARD
BEGIN:DAYLIGHT
TZOFFSETFROM:-0500
TZOFFSETTO:-0400
TZNAME:EDT
DTSTART:20260308T070000
END:DAYLIGHT
BEGIN:STANDARD
TZOFFSETFROM:-0400
TZOFFSETTO:-0500
TZNAME:EST
DTSTART:20261101T060000
END:STANDARD
BEGIN:DAYLIGHT
TZOFFSETFROM:-0500
TZOFFSETTO:-0400
TZNAME:EDT
DTSTART:20270314T070000
END:DAYLIGHT
BEGIN:STANDARD
TZOFFSETFROM:-0400
TZOFFSETTO:-0500
TZNAME:EST
DTSTART:20271107T060000
END:STANDARD
END:VTIMEZONE
BEGIN:VEVENT
DTSTART;VALUE=DATE:20260409
DTEND;VALUE=DATE:20260420
DTSTAMP:20260421T163521
CREATED:20260407T221128Z
LAST-MODIFIED:20260407T221354Z
UID:10003642-1775692800-1776643199@whatsnewpasco.com
SUMMARY:Germany's Great Bavarian Circus
DESCRIPTION:Wesley Chapel — the Big Top is coming to town!Experience the wonder of Germany’s Great Bavarian Circus\, a spectacular European-style circus filled with breathtaking aerialists\, incredible acrobatics\, juggling\, comedy\, and unforgettable family entertainment. Performed by generations of the Spindler family\, this beloved circus tradition brings the magic of Bavaria straight to Florida.  Under the Big Top at The Grove at Wesley Chapel! April 9 – 19 \n Showtimes:Monday & Thursdays – 7:30 PMFridays – 4:30 PM & 7:30 PMSaturdays – 1:30 PM\, 4:30 PM & 7:30 PMSundays – 1:30 PM & 4:30 PM(No Shows on Tuesday and Wednesday) \n Get your tickets today:GreatBavarianCircus.com Step inside the Big Top and create unforgettable family memories at the circus!
URL:https://whatsnewpasco.com/event/germanys-great-bavarian-circus/
LOCATION:The Grove at Wesley Chapel\, Wesley Chapel\, FL\, United States
CATEGORIES:Family Fun,Festivals & Markets
ATTACH;FMTTYPE=image/webp:https://whatsnewpasco.com/wp-content/uploads/2026/04/GGB-Logo.webp
END:VEVENT
BEGIN:VEVENT
DTSTART;TZID=America/New_York:20260417T100000
DTEND;TZID=America/New_York:20260417T160000
DTSTAMP:20260421T163521
CREATED:20260402T120219Z
LAST-MODIFIED:20260407T132216Z
UID:10003189-1776420000-1776441600@whatsnewpasco.com
SUMMARY:Sunflower Festival
DESCRIPTION:Get ready for a blooming good time at our Sunflower Festival! Explore acres of beautiful sunflowers with U-pick\, enjoy scenic hayrides\, interact with friendly farm animals and exotic animals\, and listen to live music. Savor delicious treats from food trucks\, shop from local vendors\, and have a blast with the corn box\, jump pad\, and more farmyard activities and attractions . It’s a day packed with fun for the whole family! \nIncluded Activities: \n\nJump Pad\nHay Rides\nPlayground with Slides\nSand Mountain Climb\nPetting Zoo\nBubble Station\nTire Sand Pit\nConcession barn\nFood Trucks\nLive music\n\nAdditional Cost Activities: \n\nGem Mining\nPony Rides\nFeed for petting zoo animals\n\nImportant Information: \n\nPet Policy: Although we love our 4 legged friends\, only service dogs will be permitted on the farm.\nNo outside food or beverages are allowed.\n\nCost: \n🎟️Buy tickets online for easy entry🎟️ \nAdvance online tickets: $12 adults | $9 kids (ages 3–12) \n• Day-of tickets (online or at the gate): $14 adults | $11 kids \n• Kids 2 & under are FREE \nFor faster entry\, we recommend purchasing tickets online. \nParking on the premises is FREE! \nFor groups of 10 or more\, please email us or call us at 772-215-6530 to receive a discounted rate. \nEmail us to schedule your group for weekday fun! \nCrop availability depends on weather and bloom cycles\, and fresh flowers aren’t guaranteed. Don’t worry\, though — there’s still so much more to enjoy at the farm! Please check our Facebook page before your visit for the latest crop and bloom updates. 
URL:https://whatsnewpasco.com/event/sunflower-festival/2026-04-17/
LOCATION:Dade City Farms\, 17143 Lake Iola Rd\, Dade City\, FL\, 33523\, United States
CATEGORIES:Family Fun,Festivals & Markets,Food & Drinks
ATTACH;FMTTYPE=image/jpeg:https://whatsnewpasco.com/wp-content/uploads/2026/04/649265665_935655048981006_2666446007390370019_n.jpg
END:VEVENT
BEGIN:VEVENT
DTSTART;TZID=America/New_York:20260417T190000
DTEND;TZID=America/New_York:20260417T210000
DTSTAMP:20260421T163521
CREATED:20260319T024411Z
LAST-MODIFIED:20260319T024411Z
UID:10000904-1776452400-1776459600@whatsnewpasco.com
SUMMARY:3rd Friday Karaoke Nights (Wiregrass)
DESCRIPTION:Bring your voice\, your friends\, and your best stage presence to Karaoke Nights at Center Court. Held every third Friday of the month from 7 to 9 PM\, this lively evening invites guests to sing along to their favorite hits while enjoying light bites and drinks from nearby restaurants. \nFiner Details: \n\nKaraoke is free to participate in\nNo outside coolers or alcohol permitted\nLawn chairs are encouraged\nSong sign ups take place onsite at the event
URL:https://whatsnewpasco.com/event/3rd-friday-karaoke-nights-wiregrass-2/2026-04-17/
LOCATION:The Shops at Wiregrass\, 28211 Paseo Drive\, Wesley Chapel\, FL\, 33543\, United States
CATEGORIES:Family Fun,Festivals & Markets,Free
END:VEVENT
BEGIN:VEVENT
DTSTART;TZID=America/New_York:20260417T190000
DTEND;TZID=America/New_York:20260417T230000
DTSTAMP:20260421T163521
CREATED:20260319T025124Z
LAST-MODIFIED:20260319T025325Z
UID:10000963-1776452400-1776466800@whatsnewpasco.com
SUMMARY:3rd Fridays - Keeping It Country @ Krate
DESCRIPTION:Every 3rd Friday We bring You… Country Music Night @ KRATE at the Grove!\nLive Entertainment! All of Your Favorite Country Music!\nLine Dance Lessons by Mikaya\nDJ MOSS playing All of your favorite Country Hits!\n\n\n30+ Different Restaurants to Choose From\nOver a Dozen Retail Shops\nSome of the Most Unique Bars in the Bay Area\nDog Friendly\nFamily Friendly\nPlayground for the Kids\nLawn Chairs Welcome\nNo Outside Food or Drinks Allowed\nNo Cover\nFree Parking\n\n\nDust Off them Boots & Come Party w/ Us!\nLife is Great @ KRATE
URL:https://whatsnewpasco.com/event/3rd-fridays-keeping-it-country-krate-2/2026-04-17/
LOCATION:KRATE at The Grove\, 5817 Goldview Pkwy\, Wesley Chapel\, FL\, 33544\, United States
CATEGORIES:Festivals & Markets,Free
ATTACH;FMTTYPE=image/png:https://whatsnewpasco.com/wp-content/uploads/2026/03/logo-5001.png
END:VEVENT
BEGIN:VEVENT
DTSTART;TZID=America/New_York:20260417T200000
DTEND;TZID=America/New_York:20260417T220000
DTSTAMP:20260421T163521
CREATED:20260319T014014Z
LAST-MODIFIED:20260319T014014Z
UID:10000845-1776456000-1776463200@whatsnewpasco.com
SUMMARY:Game Night (8PM ET)
DESCRIPTION:Bring your competitive spirit! Join us at B&B with DJ Boss K for another Game Night in the Marquee Lounge! \nBoard games\, party games\, great music\, a full bar\, plus YOU! It’ll be a night to remember! \nWe go live at 8PM on Friday\, March 20\, so tag your crew & we’ll see you there! \n#BBTheatres #GameNight #Bar
URL:https://whatsnewpasco.com/event/game-night-8pm-et/2026-04-17/
LOCATION:B&B Theatres Wesley Chapel – The Grove 16\, 6333 Wesley Grove Blvd\, Wesley Chapel\, FL\, 33544\, United States
CATEGORIES:Free
ATTACH;FMTTYPE=image/jpeg:https://whatsnewpasco.com/wp-content/uploads/2026/03/wp_img_114131290981755989.jpg
END:VEVENT
END:VCALENDAR